BEGIN:VCALENDAR
VERSION:2.0
PRODID:-//Mt. Angel Public Library - ECPv6.15.20//NONSGML v1.0//EN
CALSCALE:GREGORIAN
METHOD:PUBLISH
X-ORIGINAL-URL:https://mtangelpubliclibrary.com
X-WR-CALDESC:Events for Mt. Angel Public Library
REFRESH-INTERVAL;VALUE=DURATION:PT1H
X-Robots-Tag:noindex
X-PUBLISHED-TTL:PT1H
BEGIN:VTIMEZONE
TZID:America/Los_Angeles
BEGIN:DAYLIGHT
TZOFFSETFROM:-0800
TZOFFSETTO:-0700
TZNAME:PDT
DTSTART:20250309T100000
END:DAYLIGHT
BEGIN:STANDARD
TZOFFSETFROM:-0700
TZOFFSETTO:-0800
TZNAME:PST
DTSTART:20251102T090000
END:STANDARD
BEGIN:DAYLIGHT
TZOFFSETFROM:-0800
TZOFFSETTO:-0700
TZNAME:PDT
DTSTART:20260308T100000
END:DAYLIGHT
BEGIN:STANDARD
TZOFFSETFROM:-0700
TZOFFSETTO:-0800
TZNAME:PST
DTSTART:20261101T090000
END:STANDARD
BEGIN:DAYLIGHT
TZOFFSETFROM:-0800
TZOFFSETTO:-0700
TZNAME:PDT
DTSTART:20270314T100000
END:DAYLIGHT
BEGIN:STANDARD
TZOFFSETFROM:-0700
TZOFFSETTO:-0800
TZNAME:PST
DTSTART:20271107T090000
END:STANDARD
END:VTIMEZONE
BEGIN:VEVENT
DTSTART;TZID=America/Los_Angeles:20260516T100000
DTEND;TZID=America/Los_Angeles:20260516T110000
DTSTAMP:20260421T011444
CREATED:20250527T200840Z
LAST-MODIFIED:20260106T220956Z
UID:10006985-1778925600-1778929200@mtangelpubliclibrary.com
SUMMARY:Sunshine Fitness
DESCRIPTION:Sunshine Fitness\nJoin us Saturday mornings for some light exercising together while we explore different types of workouts using follow-along videos. Signed waiver must be on file before participation. \nSaturdays\, 10am\nAdults & Teens
URL:https://mtangelpubliclibrary.com/event/sunshine-fitness-2-3-2-2/2026-05-16/
CATEGORIES:Adults,Teens
END:VEVENT
BEGIN:VEVENT
DTSTART;TZID=America/Los_Angeles:20260516T160000
DTEND;TZID=America/Los_Angeles:20260516T170000
DTSTAMP:20260421T011444
CREATED:20251015T000917Z
LAST-MODIFIED:20260413T224543Z
UID:10007637-1778947200-1778950800@mtangelpubliclibrary.com
SUMMARY:Hora del cuento bilingue / Bilingual Storytime
DESCRIPTION:¡Atrévete a acompañarnos para aprender juntos! A través de leer libros bilingües podríamos hacer lo. Después abría una actividad para la familia. Through bilingual books and activities\, we will learn simple words and phrases that help us communicate and grow together.
URL:https://mtangelpubliclibrary.com/event/creciendo-juntos-growing-together-storytime-2-2-4-2/2026-05-16/
CATEGORIES:Families with Preschoolers
END:VEVENT
BEGIN:VEVENT
DTSTART;TZID=America/Los_Angeles:20260519T120000
DTEND;TZID=America/Los_Angeles:20260519T130000
DTSTAMP:20260421T011444
CREATED:20240216T011510Z
LAST-MODIFIED:20241116T003642Z
UID:10002876-1779192000-1779195600@mtangelpubliclibrary.com
SUMMARY:APPY Hour
DESCRIPTION:Tuesdays\, Noon-1:00: APPY Hour (All ages): Need help with your device? Drop in for some technical assistance from our friendly library staff. Or call 971-370-5040 to make an appointment for a one-on-one session.
URL:https://mtangelpubliclibrary.com/event/appy-hour-45/2026-05-19/
END:VEVENT
BEGIN:VEVENT
DTSTART;TZID=America/Los_Angeles:20260519T161500
DTEND;TZID=America/Los_Angeles:20260519T173000
DTSTAMP:20260421T011444
CREATED:20260414T235234Z
LAST-MODIFIED:20260414T235234Z
UID:10007995-1779207300-1779211800@mtangelpubliclibrary.com
SUMMARY:Junior Explorers
DESCRIPTION:Let’s read books and do science about the wild outdoors! 5/5 – Cooking Lab: Fruit Salad
URL:https://mtangelpubliclibrary.com/event/junior-explorers-2/2026-05-19/
CATEGORIES:Ages 5-11
END:VEVENT
BEGIN:VEVENT
DTSTART;TZID=America/Los_Angeles:20260520T103000
DTEND;TZID=America/Los_Angeles:20260520T114500
DTSTAMP:20260421T011444
CREATED:20250618T175932Z
LAST-MODIFIED:20260323T181157Z
UID:10004920-1779273000-1779277500@mtangelpubliclibrary.com
SUMMARY:Family Storytime & Indoor Playtime
DESCRIPTION:Family Storytime & Indoor Playtime Adventure\n \nJoin us for Family Storytime\, where songs\, captivating tales\, and creative crafts come together to spark joy and imagination. After the stories\, the fun continues with Indoor Playtime! Your little ones can explore a world of toys\, make new friends\, and let their imaginations run wild in our cozy play area. Perfect for children aged 2-5\, with all toys provided. \nWednesdays\, 10:30 – 11:45am\nAges 2-5 and their families \n 
URL:https://mtangelpubliclibrary.com/event/family-storytime-indoor-playtime-6-3-2/2026-05-20/
CATEGORIES:Families with Preschoolers
ATTACH;FMTTYPE=image/png:https://mtangelpubliclibrary.com/wp-content/uploads/2024/02/family-storytime.png
END:VEVENT
BEGIN:VEVENT
DTSTART;TZID=America/Los_Angeles:20260521T180000
DTEND;TZID=America/Los_Angeles:20260521T190000
DTSTAMP:20260421T011444
CREATED:20260413T225619Z
LAST-MODIFIED:20260413T225619Z
UID:10007986-1779386400-1779390000@mtangelpubliclibrary.com
SUMMARY:Read'n'Chat
DESCRIPTION:Discuss the importance of narrative voice while we read a few excerpts from well-known authors over snacks! Meets monthly every third Thursday.
URL:https://mtangelpubliclibrary.com/event/readnchat-3/
CATEGORIES:Adults
END:VEVENT
BEGIN:VEVENT
DTSTART;TZID=America/Los_Angeles:20260522T153000
DTEND;TZID=America/Los_Angeles:20260522T170000
DTSTAMP:20260421T011444
CREATED:20260413T225719Z
LAST-MODIFIED:20260413T225719Z
UID:10007987-1779463800-1779469200@mtangelpubliclibrary.com
SUMMARY:Gaming Club
DESCRIPTION:Design a character and go on a merry adventure with friends at this new club meeting every 4th Friday!
URL:https://mtangelpubliclibrary.com/event/gaming-club/
CATEGORIES:Adults,Teens
END:VEVENT
BEGIN:VEVENT
DTSTART;VALUE=DATE:20260523
DTEND;VALUE=DATE:20260524
DTSTAMP:20260421T011444
CREATED:20260413T225833Z
LAST-MODIFIED:20260413T225833Z
UID:10007988-1779494400-1779580799@mtangelpubliclibrary.com
SUMMARY:Library Closed - Memorial Day
DESCRIPTION:We hope you have a meaningful Memorial Day
URL:https://mtangelpubliclibrary.com/event/library-closed-memorial-day-2/
CATEGORIES:All Ages
END:VEVENT
BEGIN:VEVENT
DTSTART;TZID=America/Los_Angeles:20260523T100000
DTEND;TZID=America/Los_Angeles:20260523T110000
DTSTAMP:20260421T011444
CREATED:20250527T200840Z
LAST-MODIFIED:20260106T220956Z
UID:10006986-1779530400-1779534000@mtangelpubliclibrary.com
SUMMARY:Sunshine Fitness
DESCRIPTION:Sunshine Fitness\nJoin us Saturday mornings for some light exercising together while we explore different types of workouts using follow-along videos. Signed waiver must be on file before participation. \nSaturdays\, 10am\nAdults & Teens
URL:https://mtangelpubliclibrary.com/event/sunshine-fitness-2-3-2-2/2026-05-23/
CATEGORIES:Adults,Teens
END:VEVENT
BEGIN:VEVENT
DTSTART;TZID=America/Los_Angeles:20260526T120000
DTEND;TZID=America/Los_Angeles:20260526T130000
DTSTAMP:20260421T011444
CREATED:20240216T011510Z
LAST-MODIFIED:20241116T003642Z
UID:10002877-1779796800-1779800400@mtangelpubliclibrary.com
SUMMARY:APPY Hour
DESCRIPTION:Tuesdays\, Noon-1:00: APPY Hour (All ages): Need help with your device? Drop in for some technical assistance from our friendly library staff. Or call 971-370-5040 to make an appointment for a one-on-one session.
URL:https://mtangelpubliclibrary.com/event/appy-hour-45/2026-05-26/
END:VEVENT
BEGIN:VEVENT
DTSTART;TZID=America/Los_Angeles:20260526T161500
DTEND;TZID=America/Los_Angeles:20260526T173000
DTSTAMP:20260421T011444
CREATED:20260414T235234Z
LAST-MODIFIED:20260414T235234Z
UID:10007996-1779812100-1779816600@mtangelpubliclibrary.com
SUMMARY:Junior Explorers
DESCRIPTION:Let’s read books and do science about the wild outdoors! 5/5 – Cooking Lab: Fruit Salad
URL:https://mtangelpubliclibrary.com/event/junior-explorers-2/2026-05-26/
CATEGORIES:Ages 5-11
END:VEVENT
BEGIN:VEVENT
DTSTART;TZID=America/Los_Angeles:20260527T103000
DTEND;TZID=America/Los_Angeles:20260527T114500
DTSTAMP:20260421T011444
CREATED:20250618T175932Z
LAST-MODIFIED:20260323T181157Z
UID:10004921-1779877800-1779882300@mtangelpubliclibrary.com
SUMMARY:Family Storytime & Indoor Playtime
DESCRIPTION:Family Storytime & Indoor Playtime Adventure\n \nJoin us for Family Storytime\, where songs\, captivating tales\, and creative crafts come together to spark joy and imagination. After the stories\, the fun continues with Indoor Playtime! Your little ones can explore a world of toys\, make new friends\, and let their imaginations run wild in our cozy play area. Perfect for children aged 2-5\, with all toys provided. \nWednesdays\, 10:30 – 11:45am\nAges 2-5 and their families \n 
URL:https://mtangelpubliclibrary.com/event/family-storytime-indoor-playtime-6-3-2/2026-05-27/
CATEGORIES:Families with Preschoolers
ATTACH;FMTTYPE=image/png:https://mtangelpubliclibrary.com/wp-content/uploads/2024/02/family-storytime.png
END:VEVENT
BEGIN:VEVENT
DTSTART;TZID=America/Los_Angeles:20260528T130000
DTEND;TZID=America/Los_Angeles:20260528T143000
DTSTAMP:20260421T011444
CREATED:20260413T230217Z
LAST-MODIFIED:20260413T230217Z
UID:10007990-1779973200-1779978600@mtangelpubliclibrary.com
SUMMARY:Paint & Steep
DESCRIPTION:Paint along with an instructional video while drinking a selection of teas! All materials provided.
URL:https://mtangelpubliclibrary.com/event/paint-steep/2026-05-28/1/
CATEGORIES:Adults,Teens
END:VEVENT
BEGIN:VEVENT
DTSTART;TZID=America/Los_Angeles:20260528T163000
DTEND;TZID=America/Los_Angeles:20260528T173000
DTSTAMP:20260421T011444
CREATED:20260413T225947Z
LAST-MODIFIED:20260413T230102Z
UID:10007989-1779985800-1779989400@mtangelpubliclibrary.com
SUMMARY:Teen Advisory Board & Book Group
DESCRIPTION:Discuss Just Like Click by Sandy Grubb. Then\, join our monthly meeting to help collaborate with the library on programs\, collections\, games\, and more. Pizza provided!
URL:https://mtangelpubliclibrary.com/event/teen-advisory-board-book-group-6/
CATEGORIES:Teens
END:VEVENT
BEGIN:VEVENT
DTSTART;TZID=America/Los_Angeles:20260528T181500
DTEND;TZID=America/Los_Angeles:20260528T193000
DTSTAMP:20260421T011444
CREATED:20260413T230217Z
LAST-MODIFIED:20260413T230217Z
UID:10007991-1779992100-1779996600@mtangelpubliclibrary.com
SUMMARY:Paint & Steep
DESCRIPTION:Paint along with an instructional video while drinking a selection of teas! All materials provided.
URL:https://mtangelpubliclibrary.com/event/paint-steep/2026-05-28/2/
CATEGORIES:Adults,Teens
END:VEVENT
BEGIN:VEVENT
DTSTART;TZID=America/Los_Angeles:20260529T150000
DTEND;TZID=America/Los_Angeles:20260529T163000
DTSTAMP:20260421T011444
CREATED:20260413T225517Z
LAST-MODIFIED:20260413T225517Z
UID:10007985-1780066800-1780072200@mtangelpubliclibrary.com
SUMMARY:LEGO Challenge - Flowers
DESCRIPTION:Build an original creation out of LEGO! Submit a floral themed piece to display at the Library. All supplies provided.
URL:https://mtangelpubliclibrary.com/event/lego-challenge-flowers/
CATEGORIES:All Ages
END:VEVENT
BEGIN:VEVENT
DTSTART;TZID=America/Los_Angeles:20260530T100000
DTEND;TZID=America/Los_Angeles:20260530T110000
DTSTAMP:20260421T011444
CREATED:20250527T200840Z
LAST-MODIFIED:20260106T220956Z
UID:10006987-1780135200-1780138800@mtangelpubliclibrary.com
SUMMARY:Sunshine Fitness
DESCRIPTION:Sunshine Fitness\nJoin us Saturday mornings for some light exercising together while we explore different types of workouts using follow-along videos. Signed waiver must be on file before participation. \nSaturdays\, 10am\nAdults & Teens
URL:https://mtangelpubliclibrary.com/event/sunshine-fitness-2-3-2-2/2026-05-30/
CATEGORIES:Adults,Teens
END:VEVENT
BEGIN:VEVENT
DTSTART;TZID=America/Los_Angeles:20260530T150000
DTEND;TZID=America/Los_Angeles:20260530T180000
DTSTAMP:20260421T011444
CREATED:20260414T235452Z
LAST-MODIFIED:20260414T235452Z
UID:10007998-1780153200-1780164000@mtangelpubliclibrary.com
SUMMARY:Community Culture Night
DESCRIPTION:Singing\, Dancing\, Food\, and Merriment on E. Charles St. this Saturday! Join us for a celebration of cultures.
URL:https://mtangelpubliclibrary.com/event/community-culture-night-2/
CATEGORIES:All Ages
END:VEVENT
BEGIN:VEVENT
DTSTART;TZID=America/Los_Angeles:20260602T120000
DTEND;TZID=America/Los_Angeles:20260602T130000
DTSTAMP:20260421T011444
CREATED:20240216T011510Z
LAST-MODIFIED:20241116T003642Z
UID:10002878-1780401600-1780405200@mtangelpubliclibrary.com
SUMMARY:APPY Hour
DESCRIPTION:Tuesdays\, Noon-1:00: APPY Hour (All ages): Need help with your device? Drop in for some technical assistance from our friendly library staff. Or call 971-370-5040 to make an appointment for a one-on-one session.
URL:https://mtangelpubliclibrary.com/event/appy-hour-45/2026-06-02/
END:VEVENT
BEGIN:VEVENT
DTSTART;TZID=America/Los_Angeles:20260603T103000
DTEND;TZID=America/Los_Angeles:20260603T114500
DTSTAMP:20260421T011444
CREATED:20250618T175932Z
LAST-MODIFIED:20260323T181157Z
UID:10004922-1780482600-1780487100@mtangelpubliclibrary.com
SUMMARY:Family Storytime & Indoor Playtime
DESCRIPTION:Family Storytime & Indoor Playtime Adventure\n \nJoin us for Family Storytime\, where songs\, captivating tales\, and creative crafts come together to spark joy and imagination. After the stories\, the fun continues with Indoor Playtime! Your little ones can explore a world of toys\, make new friends\, and let their imaginations run wild in our cozy play area. Perfect for children aged 2-5\, with all toys provided. \nWednesdays\, 10:30 – 11:45am\nAges 2-5 and their families \n 
URL:https://mtangelpubliclibrary.com/event/family-storytime-indoor-playtime-6-3-2/2026-06-03/
CATEGORIES:Families with Preschoolers
ATTACH;FMTTYPE=image/png:https://mtangelpubliclibrary.com/wp-content/uploads/2024/02/family-storytime.png
END:VEVENT
BEGIN:VEVENT
DTSTART;TZID=America/Los_Angeles:20260606T100000
DTEND;TZID=America/Los_Angeles:20260606T110000
DTSTAMP:20260421T011444
CREATED:20250527T200840Z
LAST-MODIFIED:20260106T220956Z
UID:10006988-1780740000-1780743600@mtangelpubliclibrary.com
SUMMARY:Sunshine Fitness
DESCRIPTION:Sunshine Fitness\nJoin us Saturday mornings for some light exercising together while we explore different types of workouts using follow-along videos. Signed waiver must be on file before participation. \nSaturdays\, 10am\nAdults & Teens
URL:https://mtangelpubliclibrary.com/event/sunshine-fitness-2-3-2-2/2026-06-06/
CATEGORIES:Adults,Teens
END:VEVENT
BEGIN:VEVENT
DTSTART;TZID=America/Los_Angeles:20260606T160000
DTEND;TZID=America/Los_Angeles:20260606T170000
DTSTAMP:20260421T011444
CREATED:20251015T000917Z
LAST-MODIFIED:20260413T224543Z
UID:10007640-1780761600-1780765200@mtangelpubliclibrary.com
SUMMARY:Hora del cuento bilingue / Bilingual Storytime
DESCRIPTION:¡Atrévete a acompañarnos para aprender juntos! A través de leer libros bilingües podríamos hacer lo. Después abría una actividad para la familia. Through bilingual books and activities\, we will learn simple words and phrases that help us communicate and grow together.
URL:https://mtangelpubliclibrary.com/event/creciendo-juntos-growing-together-storytime-2-2-4-2/2026-06-06/
CATEGORIES:Families with Preschoolers
END:VEVENT
BEGIN:VEVENT
DTSTART;TZID=America/Los_Angeles:20260609T120000
DTEND;TZID=America/Los_Angeles:20260609T130000
DTSTAMP:20260421T011444
CREATED:20240216T011510Z
LAST-MODIFIED:20241116T003642Z
UID:10002879-1781006400-1781010000@mtangelpubliclibrary.com
SUMMARY:APPY Hour
DESCRIPTION:Tuesdays\, Noon-1:00: APPY Hour (All ages): Need help with your device? Drop in for some technical assistance from our friendly library staff. Or call 971-370-5040 to make an appointment for a one-on-one session.
URL:https://mtangelpubliclibrary.com/event/appy-hour-45/2026-06-09/
END:VEVENT
BEGIN:VEVENT
DTSTART;TZID=America/Los_Angeles:20260610T103000
DTEND;TZID=America/Los_Angeles:20260610T114500
DTSTAMP:20260421T011444
CREATED:20250618T175932Z
LAST-MODIFIED:20260323T181157Z
UID:10004923-1781087400-1781091900@mtangelpubliclibrary.com
SUMMARY:Family Storytime & Indoor Playtime
DESCRIPTION:Family Storytime & Indoor Playtime Adventure\n \nJoin us for Family Storytime\, where songs\, captivating tales\, and creative crafts come together to spark joy and imagination. After the stories\, the fun continues with Indoor Playtime! Your little ones can explore a world of toys\, make new friends\, and let their imaginations run wild in our cozy play area. Perfect for children aged 2-5\, with all toys provided. \nWednesdays\, 10:30 – 11:45am\nAges 2-5 and their families \n 
URL:https://mtangelpubliclibrary.com/event/family-storytime-indoor-playtime-6-3-2/2026-06-10/
CATEGORIES:Families with Preschoolers
ATTACH;FMTTYPE=image/png:https://mtangelpubliclibrary.com/wp-content/uploads/2024/02/family-storytime.png
END:VEVENT
BEGIN:VEVENT
DTSTART;TZID=America/Los_Angeles:20260611T180000
DTEND;TZID=America/Los_Angeles:20260611T190000
DTSTAMP:20260421T011444
CREATED:20251218T004413Z
LAST-MODIFIED:20260323T182053Z
UID:10007407-1781200800-1781204400@mtangelpubliclibrary.com
SUMMARY:Writing Group
DESCRIPTION:Stretch your writing wings in a supportive environment with time for exploration\, illumination\, and idea exchange. Meets monthly every second Thursday.
URL:https://mtangelpubliclibrary.com/event/writing-group-2/2026-06-11/
CATEGORIES:Adults,Teens
END:VEVENT
BEGIN:VEVENT
DTSTART;TZID=America/Los_Angeles:20260612T150000
DTEND;TZID=America/Los_Angeles:20260612T170000
DTSTAMP:20260421T011444
CREATED:20260323T182530Z
LAST-MODIFIED:20260323T182530Z
UID:10007910-1781276400-1781283600@mtangelpubliclibrary.com
SUMMARY:Chess Club
DESCRIPTION:Learn how to play the Game of Kings (and Queens!) with friends of all ages in a calm\, relaxed environment. Meets monthly every second Friday.
URL:https://mtangelpubliclibrary.com/event/chess-club/2026-06-12/
CATEGORIES:All Ages
END:VEVENT
BEGIN:VEVENT
DTSTART;TZID=America/Los_Angeles:20260613T100000
DTEND;TZID=America/Los_Angeles:20260613T110000
DTSTAMP:20260421T011444
CREATED:20250527T200840Z
LAST-MODIFIED:20260106T220956Z
UID:10006989-1781344800-1781348400@mtangelpubliclibrary.com
SUMMARY:Sunshine Fitness
DESCRIPTION:Sunshine Fitness\nJoin us Saturday mornings for some light exercising together while we explore different types of workouts using follow-along videos. Signed waiver must be on file before participation. \nSaturdays\, 10am\nAdults & Teens
URL:https://mtangelpubliclibrary.com/event/sunshine-fitness-2-3-2-2/2026-06-13/
CATEGORIES:Adults,Teens
END:VEVENT
BEGIN:VEVENT
DTSTART;TZID=America/Los_Angeles:20260613T160000
DTEND;TZID=America/Los_Angeles:20260613T170000
DTSTAMP:20260421T011444
CREATED:20251015T000917Z
LAST-MODIFIED:20260413T224543Z
UID:10007641-1781366400-1781370000@mtangelpubliclibrary.com
SUMMARY:Hora del cuento bilingue / Bilingual Storytime
DESCRIPTION:¡Atrévete a acompañarnos para aprender juntos! A través de leer libros bilingües podríamos hacer lo. Después abría una actividad para la familia. Through bilingual books and activities\, we will learn simple words and phrases that help us communicate and grow together.
URL:https://mtangelpubliclibrary.com/event/creciendo-juntos-growing-together-storytime-2-2-4-2/2026-06-13/
CATEGORIES:Families with Preschoolers
END:VEVENT
BEGIN:VEVENT
DTSTART;TZID=America/Los_Angeles:20260616T120000
DTEND;TZID=America/Los_Angeles:20260616T130000
DTSTAMP:20260421T011444
CREATED:20240216T011510Z
LAST-MODIFIED:20241116T003642Z
UID:10002880-1781611200-1781614800@mtangelpubliclibrary.com
SUMMARY:APPY Hour
DESCRIPTION:Tuesdays\, Noon-1:00: APPY Hour (All ages): Need help with your device? Drop in for some technical assistance from our friendly library staff. Or call 971-370-5040 to make an appointment for a one-on-one session.
URL:https://mtangelpubliclibrary.com/event/appy-hour-45/2026-06-16/
END:VEVENT
BEGIN:VEVENT
DTSTART;TZID=America/Los_Angeles:20260617T103000
DTEND;TZID=America/Los_Angeles:20260617T114500
DTSTAMP:20260421T011444
CREATED:20250618T175932Z
LAST-MODIFIED:20260323T181157Z
UID:10004924-1781692200-1781696700@mtangelpubliclibrary.com
SUMMARY:Family Storytime & Indoor Playtime
DESCRIPTION:Family Storytime & Indoor Playtime Adventure\n \nJoin us for Family Storytime\, where songs\, captivating tales\, and creative crafts come together to spark joy and imagination. After the stories\, the fun continues with Indoor Playtime! Your little ones can explore a world of toys\, make new friends\, and let their imaginations run wild in our cozy play area. Perfect for children aged 2-5\, with all toys provided. \nWednesdays\, 10:30 – 11:45am\nAges 2-5 and their families \n 
URL:https://mtangelpubliclibrary.com/event/family-storytime-indoor-playtime-6-3-2/2026-06-17/
CATEGORIES:Families with Preschoolers
ATTACH;FMTTYPE=image/png:https://mtangelpubliclibrary.com/wp-content/uploads/2024/02/family-storytime.png
END:VEVENT
END:VCALENDAR