BEGIN:VCALENDAR
VERSION:2.0
PRODID:-//Mt. Angel Public Library - ECPv6.15.20//NONSGML v1.0//EN
CALSCALE:GREGORIAN
METHOD:PUBLISH
X-WR-CALNAME:Mt. Angel Public Library
X-ORIGINAL-URL:https://mtangelpubliclibrary.com
X-WR-CALDESC:Events for Mt. Angel Public Library
REFRESH-INTERVAL;VALUE=DURATION:PT1H
X-Robots-Tag:noindex
X-PUBLISHED-TTL:PT1H
BEGIN:VTIMEZONE
TZID:America/Los_Angeles
BEGIN:DAYLIGHT
TZOFFSETFROM:-0800
TZOFFSETTO:-0700
TZNAME:PDT
DTSTART:20220313T100000
END:DAYLIGHT
BEGIN:STANDARD
TZOFFSETFROM:-0700
TZOFFSETTO:-0800
TZNAME:PST
DTSTART:20221106T090000
END:STANDARD
BEGIN:DAYLIGHT
TZOFFSETFROM:-0800
TZOFFSETTO:-0700
TZNAME:PDT
DTSTART:20230312T100000
END:DAYLIGHT
BEGIN:STANDARD
TZOFFSETFROM:-0700
TZOFFSETTO:-0800
TZNAME:PST
DTSTART:20231105T090000
END:STANDARD
BEGIN:DAYLIGHT
TZOFFSETFROM:-0800
TZOFFSETTO:-0700
TZNAME:PDT
DTSTART:20240310T100000
END:DAYLIGHT
BEGIN:STANDARD
TZOFFSETFROM:-0700
TZOFFSETTO:-0800
TZNAME:PST
DTSTART:20241103T090000
END:STANDARD
END:VTIMEZONE
BEGIN:VEVENT
DTSTART;TZID=America/Los_Angeles:20230606T153000
DTEND;TZID=America/Los_Angeles:20230606T170000
DTSTAMP:20260420T024922
CREATED:20230518T225256Z
LAST-MODIFIED:20230518T225256Z
UID:10002437-1686065400-1686070800@mtangelpubliclibrary.com
SUMMARY:Stories & STEAM: Pool Noodle Monsters!
DESCRIPTION:Tuesdays @ 3:30pm—Stories & STEAM (Ages 6-12): Listen to a story about the theme of the week\, join in a Science\, Technology\, Engineering or Art project\, then make and enjoy a snack. \n6/6- Come create your own little monster out of pool noodles and imagination\, and join us for giggles as we read “DO NOT Open This Book!” by Andy Lee.
URL:https://mtangelpubliclibrary.com/event/stories-steam-pool-noodle-monsters/
CATEGORIES:Ages 6-12
END:VEVENT
BEGIN:VEVENT
DTSTART;TZID=America/Los_Angeles:20230606T103000
DTEND;TZID=America/Los_Angeles:20230606T120000
DTSTAMP:20260420T024922
CREATED:20230518T225006Z
LAST-MODIFIED:20230518T225006Z
UID:10002267-1686047400-1686052800@mtangelpubliclibrary.com
SUMMARY:Community Helpers Storytime & Indoor Playtime
DESCRIPTION:Tuesdays @ 10:30am—Community Helpers Family Storytime & Indoor Playtime (Ages 2-5 & family members): Gather in person to participate in songs\, activities and stories with a special guest reader (bilingual storytime on June. 27)\, followed by Indoor Playtime (11:00-12:00). Come play with toys and spend time with friends.  All toys provided.
URL:https://mtangelpubliclibrary.com/event/community-helpers-storytime-indoor-playtime-25/
CATEGORIES:Families with Preschoolers
END:VEVENT
BEGIN:VEVENT
DTSTART;TZID=America/Los_Angeles:20230601T130000
DTEND;TZID=America/Los_Angeles:20230601T140000
DTSTAMP:20260420T024922
CREATED:20230518T224828Z
LAST-MODIFIED:20230518T224828Z
UID:10002265-1685624400-1685628000@mtangelpubliclibrary.com
SUMMARY:Computer Class: File Management Basics
DESCRIPTION:Thurs.\, June. 1 @ 1:00—File Management Basics +: Gather in a small group to learn how to find electronic files quickly and easily by creating folders\, organizing files into folders\, and managing content. Owning a computer is not required. Space is limited so registration is required. Call 503.845.6401 to reserve your spot today!
URL:https://mtangelpubliclibrary.com/event/computer-class-file-management-basics/
CATEGORIES:Adults,Registration required,Senior Adults
END:VEVENT
BEGIN:VEVENT
DTSTART;VALUE=DATE:20230601
DTEND;VALUE=DATE:20230701
DTSTAMP:20260420T024922
CREATED:20230519T215335Z
LAST-MODIFIED:20230519T215335Z
UID:10002465-1685577600-1688169599@mtangelpubliclibrary.com
SUMMARY:June Storywalk: Round is a Tortilla
DESCRIPTION:¡Todos pueden disfrutar de un libro ilustrado bilingüe mientras sales a camina! Las familias comienzan el StoryWalk® en la biblioteca y seguirán las instrucciones de los carteles de StoryWalk hasta la siguiente estación. A medida que las familias van por la StoryWalk®\, leerán el libro Round is a Tortilla por Roseanne Thong. \n  \nOur June Storywalk® is up! Take a short walk around town to read the bilingual book Round is a Tortilla by Roseanne Thong. Start at the Library’s front door!
URL:https://mtangelpubliclibrary.com/event/june-storywalk-round-is-a-tortilla/
CATEGORIES:All Ages
END:VEVENT
BEGIN:VEVENT
DTSTART;VALUE=DATE:20230601
DTEND;VALUE=DATE:20230611
DTSTAMP:20260420T024922
CREATED:20230518T230717Z
LAST-MODIFIED:20230518T232841Z
UID:10002450-1685577600-1686441599@mtangelpubliclibrary.com
SUMMARY:Register for National Library Pen Pal Project!
DESCRIPTION:June 1-10: Register for the National Library Pen Pal Project (Ages 5-99+): Sign up for a summer postcard pen pal in another state!  Mailing will occur from the end of June to the end of July. All ages are welcome to participate and will be paired with someone in their age group. Deadline to register is June 10th. Questions? Please ask!
URL:https://mtangelpubliclibrary.com/event/register-for-national-library-pen-pal-project/
CATEGORIES:All Ages
END:VEVENT
BEGIN:VEVENT
DTSTART;TZID=America/Los_Angeles:20230531T120000
DTEND;TZID=America/Los_Angeles:20230531T130000
DTSTAMP:20260420T024922
CREATED:20230505T223343Z
LAST-MODIFIED:20230505T223343Z
UID:10002264-1685534400-1685538000@mtangelpubliclibrary.com
SUMMARY:APPY Hour
DESCRIPTION:Wednesdays\, Noon-1:00: APPY Hour (All ages): Need help with your device? Drop in for some technical assistance from our friendly library staff. Or call 503.845.6401 to make an appointment for a one-on-one session.
URL:https://mtangelpubliclibrary.com/event/appy-hour-23/
CATEGORIES:All Ages
END:VEVENT
BEGIN:VEVENT
DTSTART;TZID=America/Los_Angeles:20230530T153000
DTEND;TZID=America/Los_Angeles:20230530T170000
DTSTAMP:20260420T024922
CREATED:20230505T223249Z
LAST-MODIFIED:20230505T223249Z
UID:10002263-1685460600-1685466000@mtangelpubliclibrary.com
SUMMARY:Stories & STEAM: Creature Teacher Visit!
DESCRIPTION:Tuesdays @ 3:30pm—Stories & STEAM (Ages 6-12): Listen to a story about the theme of the week\, join in a Science\, Technology\, Engineering or Art project\, then make & enjoy a snack. \n5/30- Meet local author Shanti Kriens who will introduce her new book about pet care & a surprise guest (with 4 legs)!
URL:https://mtangelpubliclibrary.com/event/stories-steam-creature-teacher-visit/
CATEGORIES:Ages 5-11,Ages 6-12
END:VEVENT
BEGIN:VEVENT
DTSTART;TZID=America/Los_Angeles:20230530T103000
DTEND;TZID=America/Los_Angeles:20230530T120000
DTSTAMP:20260420T024922
CREATED:20230505T223138Z
LAST-MODIFIED:20230505T223138Z
UID:10002261-1685442600-1685448000@mtangelpubliclibrary.com
SUMMARY:Community Helpers Storytime & Indoor Playtime
DESCRIPTION:Tuesdays @ 10:30am—Community Helpers Family Storytime & Indoor Playtime (Ages 2-5 & family members) (Bilingual on May 23): Gather in person to participate in songs\, activities and stories with a special guest reader\, followed by Indoor Playtime (11:00-12:00). Come play with toys and spend time with friends.  All toys provided.
URL:https://mtangelpubliclibrary.com/event/community-helpers-storytime-indoor-playtime-24/
CATEGORIES:Families with Preschoolers
END:VEVENT
BEGIN:VEVENT
DTSTART;VALUE=DATE:20230527
DTEND;VALUE=DATE:20230528
DTSTAMP:20260420T024922
CREATED:20230505T222829Z
LAST-MODIFIED:20230505T222829Z
UID:10002259-1685145600-1685231999@mtangelpubliclibrary.com
SUMMARY:Library Closed: Memorial Day
DESCRIPTION:The Library will be closed Saturday\, May 27th in observance of Memorial Day.  We will reopen Tuesday\, May 30th at 9am for self-service\, and 11:00am for full-service.
URL:https://mtangelpubliclibrary.com/event/library-closed-memorial-day/
END:VEVENT
BEGIN:VEVENT
DTSTART;TZID=America/Los_Angeles:20230525T163000
DTEND;TZID=America/Los_Angeles:20230525T183000
DTSTAMP:20260420T024922
CREATED:20230505T222517Z
LAST-MODIFIED:20230505T222517Z
UID:10002254-1685032200-1685039400@mtangelpubliclibrary.com
SUMMARY:Teen Advisory Board & Teen Book Club
DESCRIPTION:Thursday\, May 25 @ 4:30pm— Teen Advisory Board (Grades 6+):  Calling all interested teens to join our monthly meeting and help collaborate with the library on programs\, collections\, games and more. Snacks provided! Followed by  our first Teen Book Club @ 5:30: This month we will be discussing The Queens Assassin by Melissa de la Cruz. If you haven’t read the book\, no problem! Come listen to some book talk and pick up a copy of next month’s book club! 
URL:https://mtangelpubliclibrary.com/event/teen-advisory-board-teen-book-club/
CATEGORIES:Teens,Tweens
END:VEVENT
BEGIN:VEVENT
DTSTART;TZID=America/Los_Angeles:20230525T103000
DTEND;TZID=America/Los_Angeles:20230525T113000
DTSTAMP:20260420T024922
CREATED:20230505T222205Z
LAST-MODIFIED:20230505T222205Z
UID:10002434-1685010600-1685014200@mtangelpubliclibrary.com
SUMMARY:Sensory Playday!
DESCRIPTION:Thursday\, May 25 @ 10:30am— Sensory Playday:  Babies and toddlers\, come enjoy sensory play with age appropriate hands on activities that help explore our senses! Mess making is encouraged!
URL:https://mtangelpubliclibrary.com/event/sensory-playday/
CATEGORIES:Ages 0-3
END:VEVENT
BEGIN:VEVENT
DTSTART;TZID=America/Los_Angeles:20230524T130000
DTEND;TZID=America/Los_Angeles:20230524T143000
DTSTAMP:20260420T024922
CREATED:20230505T222104Z
LAST-MODIFIED:20230505T222104Z
UID:10002432-1684933200-1684938600@mtangelpubliclibrary.com
SUMMARY:Adult Crafting: Beaded Bookmarks
DESCRIPTION:Wednesday\, May 24 @ 1:00—Adult Crafting: Beaded Bookmarks: Create a unique bookmark using our large collection of beautiful beads.  All supplies provided.
URL:https://mtangelpubliclibrary.com/event/adult-crafting-beaded-bookmarks/
CATEGORIES:Adults,Senior Adults
END:VEVENT
BEGIN:VEVENT
DTSTART;TZID=America/Los_Angeles:20230524T120000
DTEND;TZID=America/Los_Angeles:20230524T130000
DTSTAMP:20260420T024922
CREATED:20230505T222011Z
LAST-MODIFIED:20230505T222011Z
UID:10002430-1684929600-1684933200@mtangelpubliclibrary.com
SUMMARY:APPY Hour
DESCRIPTION:Wednesdays\, Noon-1:00: APPY Hour (All ages): Need help with your device? Drop in for some technical assistance from our friendly library staff. Or call 503.845.6401 to make an appointment for a one-on-one session.
URL:https://mtangelpubliclibrary.com/event/appy-hour-22/
CATEGORIES:All Ages
END:VEVENT
BEGIN:VEVENT
DTSTART;TZID=America/Los_Angeles:20230523T153000
DTEND;TZID=America/Los_Angeles:20230523T170000
DTSTAMP:20260420T024922
CREATED:20230505T221934Z
LAST-MODIFIED:20230505T221934Z
UID:10002429-1684855800-1684861200@mtangelpubliclibrary.com
SUMMARY:Stories & STEAM: Frida Kahlo
DESCRIPTION:Tuesdays @ 3:30pm—Stories & STEAM (Ages 6-12): Listen to a story about the theme of the week\, join in a Science\, Technology\, Engineering or Art project\, then make & enjoy a snack. May is Art history month! \n5/23- Learn about Frida Kahlo. Make an origami house like hers or a flower-crown inspired by Frida’s vibrant style.
URL:https://mtangelpubliclibrary.com/event/stories-steam-frida-kahlo/
CATEGORIES:Ages 5-11,Ages 6-12
END:VEVENT
BEGIN:VEVENT
DTSTART;TZID=America/Los_Angeles:20230523T103000
DTEND;TZID=America/Los_Angeles:20230523T120000
DTSTAMP:20260420T024922
CREATED:20230505T221830Z
LAST-MODIFIED:20230505T221830Z
UID:10002428-1684837800-1684843200@mtangelpubliclibrary.com
SUMMARY:Community Helpers Bilingual Storytime & Indoor Playtime
DESCRIPTION:Tuesdays @ 10:30am—Community Helpers Family Storytime & Indoor Playtime (Ages 2-5 & family members) (Bilingual on May 23): Gather in person to participate in songs\, activities and stories with a special guest reader\, followed by Indoor Playtime (11:00-12:00). Come play with toys and spend time with friends.  All toys provided.
URL:https://mtangelpubliclibrary.com/event/community-helpers-bilingual-storytime-indoor-playtime-3/
CATEGORIES:Families with Preschoolers
END:VEVENT
BEGIN:VEVENT
DTSTART;TZID=America/Los_Angeles:20230519T140000
DTEND;TZID=America/Los_Angeles:20230519T163000
DTSTAMP:20260420T024922
CREATED:20230505T221719Z
LAST-MODIFIED:20230505T221738Z
UID:10002427-1684504800-1684513800@mtangelpubliclibrary.com
SUMMARY:Virtual Reality
DESCRIPTION:Friday\, May 19 @ 2:00-4:30pm—Virtual Reality + (Ages 13+): Book your 30-minute slot to experience one of our virtual reality programs. Signed release must be on record. Call 503.845.6401 to reserve your spot or for more info.
URL:https://mtangelpubliclibrary.com/event/virtual-reality-9/
CATEGORIES:Ages 13+
END:VEVENT
BEGIN:VEVENT
DTSTART;TZID=America/Los_Angeles:20230518T173000
DTEND;TZID=America/Los_Angeles:20230518T190000
DTSTAMP:20260420T024922
CREATED:20230505T221625Z
LAST-MODIFIED:20230505T221644Z
UID:10002426-1684431000-1684436400@mtangelpubliclibrary.com
SUMMARY:Irish Traditional Music Slow Session
DESCRIPTION:Thursday\, May 18 @ 5:30pm—Irish Traditional Music Slow Session (Adults and Teens): Are you interested in traditional Irish music? Do you play fiddle? Guitar? Recorder? Mandolin? Concertina? Flute? Whistle? Harp? Or\, dare we ask\, Bodhrán or Bouzouki? Would you like to try playing in some way with others?  If so\, come join us! It doesn’t matter if you read music or not. All levels are welcome. Let’s play traditional music together! Bring a music stand (or two) if you have one.
URL:https://mtangelpubliclibrary.com/event/irish-traditional-music-slow-session/
CATEGORIES:Adults,Senior Adults,Teens
END:VEVENT
BEGIN:VEVENT
DTSTART;TZID=America/Los_Angeles:20230518T130000
DTEND;TZID=America/Los_Angeles:20230518T143000
DTSTAMP:20260420T024922
CREATED:20230505T221533Z
LAST-MODIFIED:20230505T221533Z
UID:10002425-1684414800-1684420200@mtangelpubliclibrary.com
SUMMARY:Adult Book Discussion: The Mystery of Mrs. Christie
DESCRIPTION:Thursday\, May 18 @ 1:00pm—Adult Book Discussion: Gather to discuss the biographical novel The Mystery of Mrs. Christie by Marie Benedict. Copies are available at the library. Everyone welcome.
URL:https://mtangelpubliclibrary.com/event/adult-book-discussion-the-mystery-of-mrs-christie/
CATEGORIES:Adults,Senior Adults
END:VEVENT
BEGIN:VEVENT
DTSTART;TZID=America/Los_Angeles:20230518T080000
DTEND;TZID=America/Los_Angeles:20230518T170000
DTSTAMP:20260420T024922
CREATED:20230518T235129Z
LAST-MODIFIED:20230518T235129Z
UID:10002457-1684396800-1684429200@mtangelpubliclibrary.com
SUMMARY:Baby Shower & Farewell!
DESCRIPTION:Tues\, June 20 @ 9:15-10:15am—Katie’s Baby Shower and Farewell (All ages): It is Katie’s last day and we want to celebrate her and her baby. Drop in for some refreshments and a chance to wish them well. Gifts are optional.
URL:https://mtangelpubliclibrary.com/event/baby-shower-farewell/
CATEGORIES:All Ages
END:VEVENT
BEGIN:VEVENT
DTSTART;TZID=America/Los_Angeles:20230518T080000
DTEND;TZID=America/Los_Angeles:20230518T170000
DTSTAMP:20260420T024922
CREATED:20230518T225430Z
LAST-MODIFIED:20230518T225430Z
UID:10002441-1684396800-1684429200@mtangelpubliclibrary.com
SUMMARY:Adult Crafts: Patriotic Wreaths
DESCRIPTION:Wed.\, June 7 @ 1:00—Adult Crafts: Patriotic Wreath: Create a festive patriotic wreath just in time for Independence Day. All supplies provided.
URL:https://mtangelpubliclibrary.com/event/adult-crafts-patriotic-wreaths/
CATEGORIES:Adults,Senior Adults
END:VEVENT
BEGIN:VEVENT
DTSTART;TZID=America/Los_Angeles:20230517T183000
DTEND;TZID=America/Los_Angeles:20230517T200000
DTSTAMP:20260420T024922
CREATED:20230505T221438Z
LAST-MODIFIED:20230505T221438Z
UID:10002424-1684348200-1684353600@mtangelpubliclibrary.com
SUMMARY:Library Advisory Board Meeting: Public Welcome
DESCRIPTION:Wednesday\, May 17 @ 6:30pm—Library Advisory Board meets four times per year and exists to advise\, recommend\, and advocate for the library.  Public welcome!
URL:https://mtangelpubliclibrary.com/event/library-advisory-board-meeting-public-welcome/
CATEGORIES:All Ages
END:VEVENT
BEGIN:VEVENT
DTSTART;TZID=America/Los_Angeles:20230517T153000
DTEND;TZID=America/Los_Angeles:20230517T170000
DTSTAMP:20260420T024922
CREATED:20230505T221235Z
LAST-MODIFIED:20230505T221235Z
UID:10002423-1684337400-1684342800@mtangelpubliclibrary.com
SUMMARY:Crafting Calm for Tweens and Teens
DESCRIPTION:Wednesday\, May 17 @ 3:30pm—Crafting Calm (Grades 5-12): In honor of Mental Health Awareness Month\, we’ll take some time to relax and make mindfulness jars\, cover journals with washi tape\, and concoct anti-stress scented putty.
URL:https://mtangelpubliclibrary.com/event/crafting-calm-for-tweens-and-teens/
CATEGORIES:Teens,Tweens
END:VEVENT
BEGIN:VEVENT
DTSTART;TZID=America/Los_Angeles:20230517T120000
DTEND;TZID=America/Los_Angeles:20230517T130000
DTSTAMP:20260420T024922
CREATED:20230505T221149Z
LAST-MODIFIED:20230505T221149Z
UID:10002422-1684324800-1684328400@mtangelpubliclibrary.com
SUMMARY:APPY Hour (Tech Help)
DESCRIPTION:Wednesdays\, Noon-1:00: APPY Hour (All ages): Need help with your device? Drop in for some technical assistance from our friendly library staff. Or call 503.845.6401 to make an appointment for a one-on-one session.
URL:https://mtangelpubliclibrary.com/event/appy-hour-tech-help-8/
CATEGORIES:All Ages
END:VEVENT
BEGIN:VEVENT
DTSTART;TZID=America/Los_Angeles:20230516T170000
DTEND;TZID=America/Los_Angeles:20230516T180000
DTSTAMP:20260420T024922
CREATED:20230505T221102Z
LAST-MODIFIED:20230505T221102Z
UID:10002421-1684256400-1684260000@mtangelpubliclibrary.com
SUMMARY:Mindfulness and Soothing Crafts for Teens and Adults
DESCRIPTION:Tuesday\, May 16 @ 5:00pm—Mindfulness and Soothing Crafts (Teens & Adults): May is Mental Health Awareness Month so let’s take some time to practice mindfulness\, an easy meditation\, and a couple of soothing art techniques
URL:https://mtangelpubliclibrary.com/event/mindfulness-and-soothing-crafts-for-teens-and-adults/
CATEGORIES:Adults,Senior Adults,Teens
END:VEVENT
BEGIN:VEVENT
DTSTART;TZID=America/Los_Angeles:20230516T153000
DTEND;TZID=America/Los_Angeles:20230516T170000
DTSTAMP:20260420T024922
CREATED:20230505T220954Z
LAST-MODIFIED:20230505T220954Z
UID:10002420-1684251000-1684256400@mtangelpubliclibrary.com
SUMMARY:Stories & STEAM: Disney Art (Mary Blair)
DESCRIPTION:Tuesdays @ 3:30pm—Stories & STEAM (Ages 6-12): Listen to a story about the theme of the week\, join in a Science\, Technology\, Engineering or Art project\, then make & enjoy a snack. May is Art history month! \n5/16- Create a sticker castle using artist Mary Blair’s creative style and learn about her contributions to Disney movies.
URL:https://mtangelpubliclibrary.com/event/stories-steam-disney-art-mary-blair/
CATEGORIES:Ages 5-11,Ages 6-12
END:VEVENT
BEGIN:VEVENT
DTSTART;TZID=America/Los_Angeles:20230516T103000
DTEND;TZID=America/Los_Angeles:20230516T120000
DTSTAMP:20260420T024922
CREATED:20230505T220843Z
LAST-MODIFIED:20230505T220843Z
UID:10002419-1684233000-1684238400@mtangelpubliclibrary.com
SUMMARY:Community Helpers Storytime & Indoor Playtime
DESCRIPTION:Tuesdays @ 10:30am—Community Helpers Family Storytime & Indoor Playtime (Ages 2-5 & family members) (Bilingual on May 23): Gather in person to participate in songs\, activities and stories with a special guest reader\, followed by Indoor Playtime (11:00-12:00). Come play with toys and spend time with friends.  All toys provided.
URL:https://mtangelpubliclibrary.com/event/community-helpers-storytime-indoor-playtime-23/
CATEGORIES:Families with Preschoolers
END:VEVENT
BEGIN:VEVENT
DTSTART;TZID=America/Los_Angeles:20230513T120000
DTEND;TZID=America/Los_Angeles:20230513T140000
DTSTAMP:20260420T024922
CREATED:20230505T220727Z
LAST-MODIFIED:20230505T220727Z
UID:10002418-1683979200-1683986400@mtangelpubliclibrary.com
SUMMARY:Community Art Swap
DESCRIPTION:Saturday\, May 13 @ 12:00-2:00pm—Community Art Swap (All ages): Need some new art and crafting supplies to prepare for our Community Art Show in June? Looking to finish up your spring cleaning? Join us at the library for a swap meet! Craft materials in good condition will be accepted – contact the library if you’re not sure if an item is suitable.
URL:https://mtangelpubliclibrary.com/event/community-art-swap-2/
CATEGORIES:All Ages
END:VEVENT
BEGIN:VEVENT
DTSTART;TZID=America/Los_Angeles:20230511T163000
DTEND;TZID=America/Los_Angeles:20230511T190000
DTSTAMP:20260420T024922
CREATED:20230419T014205Z
LAST-MODIFIED:20230419T014205Z
UID:10002415-1683822600-1683831600@mtangelpubliclibrary.com
SUMMARY:Art Day
DESCRIPTION:Thursday\, May 11 @ 4:30pm—Art Day! (All Ages): The Library is hosting a Community Art Show in June! Learn art techniques with Miss Katie and make art for the show. Supplies provided! Can’t make it to the Art Day but still want to submit a piece? No problem! You are welcome to create your own art at home and bring it in! Deadline is June 10th.
URL:https://mtangelpubliclibrary.com/event/art-day/
CATEGORIES:All Ages
END:VEVENT
BEGIN:VEVENT
DTSTART;TZID=America/Los_Angeles:20230510T130000
DTEND;TZID=America/Los_Angeles:20230510T143000
DTSTAMP:20260420T024922
CREATED:20230419T014127Z
LAST-MODIFIED:20230419T014127Z
UID:10002414-1683723600-1683729000@mtangelpubliclibrary.com
SUMMARY:Adult Crafts: Luminaria Candle Shades
DESCRIPTION:Wednesday\, May 10 @ 1:00pm— Adult Crafts: Luminaria Candle Shades: Make a simple but elegant candle shade using pressed flowers\, perfect for summer tables and any season of decor.  All supplies provided.
URL:https://mtangelpubliclibrary.com/event/adult-crafts-luminaria-candle-shades/
CATEGORIES:Adults
END:VEVENT
BEGIN:VEVENT
DTSTART;TZID=America/Los_Angeles:20230510T120000
DTEND;TZID=America/Los_Angeles:20230510T130000
DTSTAMP:20260420T024922
CREATED:20230419T014020Z
LAST-MODIFIED:20230419T014020Z
UID:10002413-1683720000-1683723600@mtangelpubliclibrary.com
SUMMARY:APPY Hour
DESCRIPTION:Wednesdays\, Noon-1:00: APPY Hour (All ages): Need help with your device? Drop in for some technical assistance from our friendly library staff. Or call 503.845.6401 to make an appointment for a one-on-one session.
URL:https://mtangelpubliclibrary.com/event/appy-hour-21/
CATEGORIES:All Ages
END:VEVENT
END:VCALENDAR