BEGIN:VCALENDAR
VERSION:2.0
PRODID:-//Mt. Angel Public Library - ECPv6.15.20//NONSGML v1.0//EN
CALSCALE:GREGORIAN
METHOD:PUBLISH
X-ORIGINAL-URL:https://mtangelpubliclibrary.com
X-WR-CALDESC:Events for Mt. Angel Public Library
REFRESH-INTERVAL;VALUE=DURATION:PT1H
X-Robots-Tag:noindex
X-PUBLISHED-TTL:PT1H
BEGIN:VTIMEZONE
TZID:America/Los_Angeles
BEGIN:DAYLIGHT
TZOFFSETFROM:-0800
TZOFFSETTO:-0700
TZNAME:PDT
DTSTART:20250309T100000
END:DAYLIGHT
BEGIN:STANDARD
TZOFFSETFROM:-0700
TZOFFSETTO:-0800
TZNAME:PST
DTSTART:20251102T090000
END:STANDARD
BEGIN:DAYLIGHT
TZOFFSETFROM:-0800
TZOFFSETTO:-0700
TZNAME:PDT
DTSTART:20260308T100000
END:DAYLIGHT
BEGIN:STANDARD
TZOFFSETFROM:-0700
TZOFFSETTO:-0800
TZNAME:PST
DTSTART:20261101T090000
END:STANDARD
BEGIN:DAYLIGHT
TZOFFSETFROM:-0800
TZOFFSETTO:-0700
TZNAME:PDT
DTSTART:20270314T100000
END:DAYLIGHT
BEGIN:STANDARD
TZOFFSETFROM:-0700
TZOFFSETTO:-0800
TZNAME:PST
DTSTART:20271107T090000
END:STANDARD
END:VTIMEZONE
BEGIN:VEVENT
DTSTART;TZID=America/Los_Angeles:20260103T100000
DTEND;TZID=America/Los_Angeles:20260103T110000
DTSTAMP:20260420T013622
CREATED:20250527T200840Z
LAST-MODIFIED:20260106T220956Z
UID:10006966-1767434400-1767438000@mtangelpubliclibrary.com
SUMMARY:Sunshine Fitness
DESCRIPTION:Sunshine Fitness\nJoin us Saturday mornings for some light exercising together while we explore different types of workouts using follow-along videos. Signed waiver must be on file before participation. \nSaturdays\, 10am\nAdults & Teens
URL:https://mtangelpubliclibrary.com/event/sunshine-fitness-2-3-2-2/2026-01-03/
CATEGORIES:Adults,Teens
END:VEVENT
BEGIN:VEVENT
DTSTART;TZID=America/Los_Angeles:20260103T160000
DTEND;TZID=America/Los_Angeles:20260103T170000
DTSTAMP:20260420T013622
CREATED:20251015T000917Z
LAST-MODIFIED:20260413T224543Z
UID:10007621-1767456000-1767459600@mtangelpubliclibrary.com
SUMMARY:Hora del cuento bilingue / Bilingual Storytime
DESCRIPTION:¡Atrévete a acompañarnos para aprender juntos! A través de leer libros bilingües podríamos hacer lo. Después abría una actividad para la familia. Through bilingual books and activities\, we will learn simple words and phrases that help us communicate and grow together.
URL:https://mtangelpubliclibrary.com/event/creciendo-juntos-growing-together-storytime-2-2-4-2/2026-01-03/
CATEGORIES:Families with Preschoolers
END:VEVENT
BEGIN:VEVENT
DTSTART;TZID=America/Los_Angeles:20260106T120000
DTEND;TZID=America/Los_Angeles:20260106T130000
DTSTAMP:20260420T013622
CREATED:20240216T011510Z
LAST-MODIFIED:20241116T003642Z
UID:10002857-1767700800-1767704400@mtangelpubliclibrary.com
SUMMARY:APPY Hour
DESCRIPTION:Tuesdays\, Noon-1:00: APPY Hour (All ages): Need help with your device? Drop in for some technical assistance from our friendly library staff. Or call 971-370-5040 to make an appointment for a one-on-one session.
URL:https://mtangelpubliclibrary.com/event/appy-hour-45/2026-01-06/
END:VEVENT
BEGIN:VEVENT
DTSTART;TZID=America/Los_Angeles:20260106T161500
DTEND;TZID=America/Los_Angeles:20260106T170000
DTSTAMP:20260420T013622
CREATED:20251217T234042Z
LAST-MODIFIED:20251217T234042Z
UID:10007342-1767716100-1767718800@mtangelpubliclibrary.com
SUMMARY:Explorer's Lab
DESCRIPTION:Let’s learn about dinosaurs all month long!
URL:https://mtangelpubliclibrary.com/event/explorers-lab-12/
CATEGORIES:Ages 5-11
END:VEVENT
BEGIN:VEVENT
DTSTART;TZID=America/Los_Angeles:20260107T103000
DTEND;TZID=America/Los_Angeles:20260107T114500
DTSTAMP:20260420T013622
CREATED:20250618T175932Z
LAST-MODIFIED:20260323T181157Z
UID:10004901-1767781800-1767786300@mtangelpubliclibrary.com
SUMMARY:Family Storytime & Indoor Playtime
DESCRIPTION:Family Storytime & Indoor Playtime Adventure\n \nJoin us for Family Storytime\, where songs\, captivating tales\, and creative crafts come together to spark joy and imagination. After the stories\, the fun continues with Indoor Playtime! Your little ones can explore a world of toys\, make new friends\, and let their imaginations run wild in our cozy play area. Perfect for children aged 2-5\, with all toys provided. \nWednesdays\, 10:30 – 11:45am\nAges 2-5 and their families \n 
URL:https://mtangelpubliclibrary.com/event/family-storytime-indoor-playtime-6-3-2/2026-01-07/
CATEGORIES:Families with Preschoolers
ATTACH;FMTTYPE=image/png:https://mtangelpubliclibrary.com/wp-content/uploads/2024/02/family-storytime.png
END:VEVENT
BEGIN:VEVENT
DTSTART;TZID=America/Los_Angeles:20260108T180000
DTEND;TZID=America/Los_Angeles:20260108T190000
DTSTAMP:20260420T013622
CREATED:20251218T004413Z
LAST-MODIFIED:20260323T182053Z
UID:10007356-1767895200-1767898800@mtangelpubliclibrary.com
SUMMARY:Writing Group
DESCRIPTION:Stretch your writing wings in a supportive environment with time for exploration\, illumination\, and idea exchange. Meets monthly every second Thursday.
URL:https://mtangelpubliclibrary.com/event/writing-group-2/2026-01-08/
CATEGORIES:Adults,Teens
END:VEVENT
BEGIN:VEVENT
DTSTART;TZID=America/Los_Angeles:20260109T163000
DTEND;TZID=America/Los_Angeles:20260109T170000
DTSTAMP:20260420T013622
CREATED:20251218T004500Z
LAST-MODIFIED:20251218T004500Z
UID:10007357-1767976200-1767978000@mtangelpubliclibrary.com
SUMMARY:Teen Cooking Lab
DESCRIPTION:Let’s learn how to make chili!
URL:https://mtangelpubliclibrary.com/event/teen-cooking-lab-9/
CATEGORIES:Teens
END:VEVENT
BEGIN:VEVENT
DTSTART;TZID=America/Los_Angeles:20260109T170000
DTEND;TZID=America/Los_Angeles:20260109T180000
DTSTAMP:20260420T013622
CREATED:20251218T004545Z
LAST-MODIFIED:20251218T004545Z
UID:10007358-1767978000-1767981600@mtangelpubliclibrary.com
SUMMARY:Teen Hangout
DESCRIPTION:Come with friends or on your own to play board games!
URL:https://mtangelpubliclibrary.com/event/teen-hangout-18/
CATEGORIES:Teens
END:VEVENT
BEGIN:VEVENT
DTSTART;TZID=America/Los_Angeles:20260110T100000
DTEND;TZID=America/Los_Angeles:20260110T110000
DTSTAMP:20260420T013622
CREATED:20250527T200840Z
LAST-MODIFIED:20260106T220956Z
UID:10006967-1768039200-1768042800@mtangelpubliclibrary.com
SUMMARY:Sunshine Fitness
DESCRIPTION:Sunshine Fitness\nJoin us Saturday mornings for some light exercising together while we explore different types of workouts using follow-along videos. Signed waiver must be on file before participation. \nSaturdays\, 10am\nAdults & Teens
URL:https://mtangelpubliclibrary.com/event/sunshine-fitness-2-3-2-2/2026-01-10/
CATEGORIES:Adults,Teens
END:VEVENT
BEGIN:VEVENT
DTSTART;TZID=America/Los_Angeles:20260110T160000
DTEND;TZID=America/Los_Angeles:20260110T170000
DTSTAMP:20260420T013622
CREATED:20251015T000917Z
LAST-MODIFIED:20260413T224543Z
UID:10007622-1768060800-1768064400@mtangelpubliclibrary.com
SUMMARY:Hora del cuento bilingue / Bilingual Storytime
DESCRIPTION:¡Atrévete a acompañarnos para aprender juntos! A través de leer libros bilingües podríamos hacer lo. Después abría una actividad para la familia. Through bilingual books and activities\, we will learn simple words and phrases that help us communicate and grow together.
URL:https://mtangelpubliclibrary.com/event/creciendo-juntos-growing-together-storytime-2-2-4-2/2026-01-10/
CATEGORIES:Families with Preschoolers
END:VEVENT
BEGIN:VEVENT
DTSTART;TZID=America/Los_Angeles:20260113T120000
DTEND;TZID=America/Los_Angeles:20260113T130000
DTSTAMP:20260420T013622
CREATED:20240216T011510Z
LAST-MODIFIED:20241116T003642Z
UID:10002858-1768305600-1768309200@mtangelpubliclibrary.com
SUMMARY:APPY Hour
DESCRIPTION:Tuesdays\, Noon-1:00: APPY Hour (All ages): Need help with your device? Drop in for some technical assistance from our friendly library staff. Or call 971-370-5040 to make an appointment for a one-on-one session.
URL:https://mtangelpubliclibrary.com/event/appy-hour-45/2026-01-13/
END:VEVENT
BEGIN:VEVENT
DTSTART;TZID=America/Los_Angeles:20260113T161500
DTEND;TZID=America/Los_Angeles:20260113T170000
DTSTAMP:20260420T013622
CREATED:20251217T234113Z
LAST-MODIFIED:20251217T234145Z
UID:10007343-1768320900-1768323600@mtangelpubliclibrary.com
SUMMARY:Explorer's Cooking Lab
DESCRIPTION:Let’s learn how to make Chili!
URL:https://mtangelpubliclibrary.com/event/explorers-lab-13/
CATEGORIES:Ages 5-11
END:VEVENT
BEGIN:VEVENT
DTSTART;TZID=America/Los_Angeles:20260114T103000
DTEND;TZID=America/Los_Angeles:20260114T114500
DTSTAMP:20260420T013622
CREATED:20250618T175932Z
LAST-MODIFIED:20260323T181157Z
UID:10004902-1768386600-1768391100@mtangelpubliclibrary.com
SUMMARY:Family Storytime & Indoor Playtime
DESCRIPTION:Family Storytime & Indoor Playtime Adventure\n \nJoin us for Family Storytime\, where songs\, captivating tales\, and creative crafts come together to spark joy and imagination. After the stories\, the fun continues with Indoor Playtime! Your little ones can explore a world of toys\, make new friends\, and let their imaginations run wild in our cozy play area. Perfect for children aged 2-5\, with all toys provided. \nWednesdays\, 10:30 – 11:45am\nAges 2-5 and their families \n 
URL:https://mtangelpubliclibrary.com/event/family-storytime-indoor-playtime-6-3-2/2026-01-14/
CATEGORIES:Families with Preschoolers
ATTACH;FMTTYPE=image/png:https://mtangelpubliclibrary.com/wp-content/uploads/2024/02/family-storytime.png
END:VEVENT
BEGIN:VEVENT
DTSTART;TZID=America/Los_Angeles:20260115T180000
DTEND;TZID=America/Los_Angeles:20260115T190000
DTSTAMP:20260420T013622
CREATED:20251218T004634Z
LAST-MODIFIED:20260122T193045Z
UID:10007359-1768500000-1768503600@mtangelpubliclibrary.com
SUMMARY:Book Discussion Group
DESCRIPTION:Gather for food and lively discussion. We’ll read a short work together\, then chat about our favorite books and what we’re currently reading.
URL:https://mtangelpubliclibrary.com/event/book-discussion-group-3/2026-01-15/
CATEGORIES:Adults
END:VEVENT
BEGIN:VEVENT
DTSTART;TZID=America/Los_Angeles:20260115T190000
DTEND;TZID=America/Los_Angeles:20260115T203000
DTSTAMP:20260420T013622
CREATED:20251218T004749Z
LAST-MODIFIED:20251218T004749Z
UID:10007360-1768503600-1768509000@mtangelpubliclibrary.com
SUMMARY:Trivia @ Pub 210 East
DESCRIPTION:Calling all trivia buffs! Come to Trivia Night at Pub 210 East (210 East Charles St.) Play solo or form a team of up to 5 adults and put that collective brain to work for fun prizes! Families welcome.
URL:https://mtangelpubliclibrary.com/event/trivia-pub-210-east-4/
CATEGORIES:All Ages
END:VEVENT
BEGIN:VEVENT
DTSTART;TZID=America/Los_Angeles:20260116T150000
DTEND;TZID=America/Los_Angeles:20260116T163000
DTSTAMP:20260420T013622
CREATED:20251218T004840Z
LAST-MODIFIED:20251218T004840Z
UID:10007361-1768575600-1768581000@mtangelpubliclibrary.com
SUMMARY:LEGO Lab
DESCRIPTION:Build an original creation out of LEGO to put on display in the library for all to see! All supplies provided.
URL:https://mtangelpubliclibrary.com/event/lego-lab-12/
CATEGORIES:All Ages
END:VEVENT
BEGIN:VEVENT
DTSTART;VALUE=DATE:20260117
DTEND;VALUE=DATE:20260118
DTSTAMP:20260420T013622
CREATED:20251218T005007Z
LAST-MODIFIED:20251218T005007Z
UID:10007363-1768608000-1768694399@mtangelpubliclibrary.com
SUMMARY:Library Closed - MLK Jr. Day
DESCRIPTION:Library closed in honor of the federal holiday. Wishing you all a meaningful weekend!
URL:https://mtangelpubliclibrary.com/event/library-closed-mlk-jr-day/
CATEGORIES:All Ages
END:VEVENT
BEGIN:VEVENT
DTSTART;TZID=America/Los_Angeles:20260120T120000
DTEND;TZID=America/Los_Angeles:20260120T130000
DTSTAMP:20260420T013622
CREATED:20240216T011510Z
LAST-MODIFIED:20241116T003642Z
UID:10002859-1768910400-1768914000@mtangelpubliclibrary.com
SUMMARY:APPY Hour
DESCRIPTION:Tuesdays\, Noon-1:00: APPY Hour (All ages): Need help with your device? Drop in for some technical assistance from our friendly library staff. Or call 971-370-5040 to make an appointment for a one-on-one session.
URL:https://mtangelpubliclibrary.com/event/appy-hour-45/2026-01-20/
END:VEVENT
BEGIN:VEVENT
DTSTART;TZID=America/Los_Angeles:20260120T161500
DTEND;TZID=America/Los_Angeles:20260120T170000
DTSTAMP:20260420T013622
CREATED:20251217T234219Z
LAST-MODIFIED:20251217T234219Z
UID:10007344-1768925700-1768928400@mtangelpubliclibrary.com
SUMMARY:Explorer's Lab
DESCRIPTION:Let’s learn about dinosaurs all month long!
URL:https://mtangelpubliclibrary.com/event/explorers-lab-14/
CATEGORIES:Ages 5-11
END:VEVENT
BEGIN:VEVENT
DTSTART;TZID=America/Los_Angeles:20260121T103000
DTEND;TZID=America/Los_Angeles:20260121T114500
DTSTAMP:20260420T013622
CREATED:20250618T175932Z
LAST-MODIFIED:20260323T181157Z
UID:10004903-1768991400-1768995900@mtangelpubliclibrary.com
SUMMARY:Family Storytime & Indoor Playtime
DESCRIPTION:Family Storytime & Indoor Playtime Adventure\n \nJoin us for Family Storytime\, where songs\, captivating tales\, and creative crafts come together to spark joy and imagination. After the stories\, the fun continues with Indoor Playtime! Your little ones can explore a world of toys\, make new friends\, and let their imaginations run wild in our cozy play area. Perfect for children aged 2-5\, with all toys provided. \nWednesdays\, 10:30 – 11:45am\nAges 2-5 and their families \n 
URL:https://mtangelpubliclibrary.com/event/family-storytime-indoor-playtime-6-3-2/2026-01-21/
CATEGORIES:Families with Preschoolers
ATTACH;FMTTYPE=image/png:https://mtangelpubliclibrary.com/wp-content/uploads/2024/02/family-storytime.png
END:VEVENT
BEGIN:VEVENT
DTSTART;TZID=America/Los_Angeles:20260121T183000
DTEND;TZID=America/Los_Angeles:20260121T200000
DTSTAMP:20260420T013622
CREATED:20260114T185441Z
LAST-MODIFIED:20260114T185441Z
UID:10007535-1769020200-1769025600@mtangelpubliclibrary.com
SUMMARY:Library Advisory Board Meeting
DESCRIPTION:The library advisory board will meet to discuss library policies and growth in the community room.
URL:https://mtangelpubliclibrary.com/event/library-advisory-board-meeting-3/
CATEGORIES:Adults
END:VEVENT
BEGIN:VEVENT
DTSTART;VALUE=DATE:20260122
DTEND;VALUE=DATE:20260123
DTSTAMP:20260420T013622
CREATED:20260122T193348Z
LAST-MODIFIED:20260122T193348Z
UID:10007544-1769040000-1769126399@mtangelpubliclibrary.com
SUMMARY:Library Closed
DESCRIPTION:The Mt. Angel Public Library will be closed today in honor of President’s Day.
URL:https://mtangelpubliclibrary.com/event/library-closed-16/
CATEGORIES:All Ages
END:VEVENT
BEGIN:VEVENT
DTSTART;TZID=America/Los_Angeles:20260122T130000
DTEND;TZID=America/Los_Angeles:20260122T143000
DTSTAMP:20260420T013622
CREATED:20251218T005117Z
LAST-MODIFIED:20251218T005117Z
UID:10007364-1769086800-1769092200@mtangelpubliclibrary.com
SUMMARY:Craft Day - Scarf Crochet
DESCRIPTION:Learn how to crochet a scarf with simple stitches. All materials and pattern provided!
URL:https://mtangelpubliclibrary.com/event/craft-day-scarf-crochet/
CATEGORIES:Adults,Teens
END:VEVENT
BEGIN:VEVENT
DTSTART;TZID=America/Los_Angeles:20260122T181500
DTEND;TZID=America/Los_Angeles:20260122T193000
DTSTAMP:20260420T013622
CREATED:20251218T005217Z
LAST-MODIFIED:20251218T005217Z
UID:10007365-1769105700-1769110200@mtangelpubliclibrary.com
SUMMARY:Craft Day - Scarf Crochet
DESCRIPTION:Learn how to crochet a scarf with simple stitches. All materials and pattern provided!
URL:https://mtangelpubliclibrary.com/event/craft-day-scarf-crochet-2/
CATEGORIES:Adults,Teens
END:VEVENT
BEGIN:VEVENT
DTSTART;TZID=America/Los_Angeles:20260123T150000
DTEND;TZID=America/Los_Angeles:20260123T163000
DTSTAMP:20260420T013622
CREATED:20251218T004911Z
LAST-MODIFIED:20251218T004911Z
UID:10007362-1769180400-1769185800@mtangelpubliclibrary.com
SUMMARY:LEGO Lab
DESCRIPTION:Build an original creation out of LEGO to put on display in the library for all to see! All supplies provided.
URL:https://mtangelpubliclibrary.com/event/lego-lab-13/
CATEGORIES:All Ages
END:VEVENT
BEGIN:VEVENT
DTSTART;TZID=America/Los_Angeles:20260124T100000
DTEND;TZID=America/Los_Angeles:20260124T110000
DTSTAMP:20260420T013622
CREATED:20250527T200840Z
LAST-MODIFIED:20260106T220956Z
UID:10006969-1769248800-1769252400@mtangelpubliclibrary.com
SUMMARY:Sunshine Fitness
DESCRIPTION:Sunshine Fitness\nJoin us Saturday mornings for some light exercising together while we explore different types of workouts using follow-along videos. Signed waiver must be on file before participation. \nSaturdays\, 10am\nAdults & Teens
URL:https://mtangelpubliclibrary.com/event/sunshine-fitness-2-3-2-2/2026-01-24/
CATEGORIES:Adults,Teens
END:VEVENT
BEGIN:VEVENT
DTSTART;TZID=America/Los_Angeles:20260127T120000
DTEND;TZID=America/Los_Angeles:20260127T130000
DTSTAMP:20260420T013622
CREATED:20240216T011510Z
LAST-MODIFIED:20241116T003642Z
UID:10002860-1769515200-1769518800@mtangelpubliclibrary.com
SUMMARY:APPY Hour
DESCRIPTION:Tuesdays\, Noon-1:00: APPY Hour (All ages): Need help with your device? Drop in for some technical assistance from our friendly library staff. Or call 971-370-5040 to make an appointment for a one-on-one session.
URL:https://mtangelpubliclibrary.com/event/appy-hour-45/2026-01-27/
END:VEVENT
BEGIN:VEVENT
DTSTART;TZID=America/Los_Angeles:20260127T161500
DTEND;TZID=America/Los_Angeles:20260127T170000
DTSTAMP:20260420T013622
CREATED:20251217T234304Z
LAST-MODIFIED:20251217T234304Z
UID:10007345-1769530500-1769533200@mtangelpubliclibrary.com
SUMMARY:Explorer's Lab
DESCRIPTION:Let’s learn about dinosaurs all month long!
URL:https://mtangelpubliclibrary.com/event/explorers-lab-15/
CATEGORIES:Ages 5-11
END:VEVENT
BEGIN:VEVENT
DTSTART;TZID=America/Los_Angeles:20260128T103000
DTEND;TZID=America/Los_Angeles:20260128T114500
DTSTAMP:20260420T013622
CREATED:20250618T175932Z
LAST-MODIFIED:20260323T181157Z
UID:10004904-1769596200-1769600700@mtangelpubliclibrary.com
SUMMARY:Family Storytime & Indoor Playtime
DESCRIPTION:Family Storytime & Indoor Playtime Adventure\n \nJoin us for Family Storytime\, where songs\, captivating tales\, and creative crafts come together to spark joy and imagination. After the stories\, the fun continues with Indoor Playtime! Your little ones can explore a world of toys\, make new friends\, and let their imaginations run wild in our cozy play area. Perfect for children aged 2-5\, with all toys provided. \nWednesdays\, 10:30 – 11:45am\nAges 2-5 and their families \n 
URL:https://mtangelpubliclibrary.com/event/family-storytime-indoor-playtime-6-3-2/2026-01-28/
CATEGORIES:Families with Preschoolers
ATTACH;FMTTYPE=image/png:https://mtangelpubliclibrary.com/wp-content/uploads/2024/02/family-storytime.png
END:VEVENT
BEGIN:VEVENT
DTSTART;TZID=America/Los_Angeles:20260128T163000
DTEND;TZID=America/Los_Angeles:20260128T180000
DTSTAMP:20260420T013622
CREATED:20251218T005321Z
LAST-MODIFIED:20251218T005321Z
UID:10007366-1769617800-1769623200@mtangelpubliclibrary.com
SUMMARY:Teen Advisory Board & Book Group
DESCRIPTION:Discuss The Naturals by Jennifer Lynn Barnes. Then\, join our monthly meeting to help collaborate with the library on programs\, collections\, games\, and more. Snacks provided!
URL:https://mtangelpubliclibrary.com/event/teen-advisory-board-book-group-2/
CATEGORIES:Teens
END:VEVENT
END:VCALENDAR