BEGIN:VCALENDAR
VERSION:2.0
PRODID:-//Mt. Angel Public Library - ECPv6.15.20//NONSGML v1.0//EN
CALSCALE:GREGORIAN
METHOD:PUBLISH
X-ORIGINAL-URL:https://mtangelpubliclibrary.com
X-WR-CALDESC:Events for Mt. Angel Public Library
REFRESH-INTERVAL;VALUE=DURATION:PT1H
X-Robots-Tag:noindex
X-PUBLISHED-TTL:PT1H
BEGIN:VTIMEZONE
TZID:America/Los_Angeles
BEGIN:DAYLIGHT
TZOFFSETFROM:-0800
TZOFFSETTO:-0700
TZNAME:PDT
DTSTART:20260308T100000
END:DAYLIGHT
BEGIN:STANDARD
TZOFFSETFROM:-0700
TZOFFSETTO:-0800
TZNAME:PST
DTSTART:20261101T090000
END:STANDARD
BEGIN:DAYLIGHT
TZOFFSETFROM:-0800
TZOFFSETTO:-0700
TZNAME:PDT
DTSTART:20270314T100000
END:DAYLIGHT
BEGIN:STANDARD
TZOFFSETFROM:-0700
TZOFFSETTO:-0800
TZNAME:PST
DTSTART:20271107T090000
END:STANDARD
BEGIN:DAYLIGHT
TZOFFSETFROM:-0800
TZOFFSETTO:-0700
TZNAME:PDT
DTSTART:20280312T100000
END:DAYLIGHT
BEGIN:STANDARD
TZOFFSETFROM:-0700
TZOFFSETTO:-0800
TZNAME:PST
DTSTART:20281105T090000
END:STANDARD
END:VTIMEZONE
BEGIN:VEVENT
DTSTART;TZID=America/Los_Angeles:20270714T103000
DTEND;TZID=America/Los_Angeles:20270714T114500
DTSTAMP:20260422T081853
CREATED:20250618T175932Z
LAST-MODIFIED:20260323T181157Z
UID:10004980-1815561000-1815565500@mtangelpubliclibrary.com
SUMMARY:Family Storytime & Indoor Playtime
DESCRIPTION:Family Storytime & Indoor Playtime Adventure\n \nJoin us for Family Storytime\, where songs\, captivating tales\, and creative crafts come together to spark joy and imagination. After the stories\, the fun continues with Indoor Playtime! Your little ones can explore a world of toys\, make new friends\, and let their imaginations run wild in our cozy play area. Perfect for children aged 2-5\, with all toys provided. \nWednesdays\, 10:30 – 11:45am\nAges 2-5 and their families \n 
URL:https://mtangelpubliclibrary.com/event/family-storytime-indoor-playtime-6-3-2/2027-07-14/
CATEGORIES:Families with Preschoolers
ATTACH;FMTTYPE=image/png:https://mtangelpubliclibrary.com/wp-content/uploads/2024/02/family-storytime.png
END:VEVENT
BEGIN:VEVENT
DTSTART;TZID=America/Los_Angeles:20270717T100000
DTEND;TZID=America/Los_Angeles:20270717T110000
DTSTAMP:20260422T081853
CREATED:20250527T200840Z
LAST-MODIFIED:20260106T220956Z
UID:10007046-1815818400-1815822000@mtangelpubliclibrary.com
SUMMARY:Sunshine Fitness
DESCRIPTION:Sunshine Fitness\nJoin us Saturday mornings for some light exercising together while we explore different types of workouts using follow-along videos. Signed waiver must be on file before participation. \nSaturdays\, 10am\nAdults & Teens
URL:https://mtangelpubliclibrary.com/event/sunshine-fitness-2-3-2-2/2027-07-17/
CATEGORIES:Adults,Teens
END:VEVENT
BEGIN:VEVENT
DTSTART;TZID=America/Los_Angeles:20270717T160000
DTEND;TZID=America/Los_Angeles:20270717T170000
DTSTAMP:20260422T081853
CREATED:20251015T000917Z
LAST-MODIFIED:20260413T224543Z
UID:10007698-1815840000-1815843600@mtangelpubliclibrary.com
SUMMARY:Hora del cuento bilingue / Bilingual Storytime
DESCRIPTION:¡Atrévete a acompañarnos para aprender juntos! A través de leer libros bilingües podríamos hacer lo. Después abría una actividad para la familia. Through bilingual books and activities\, we will learn simple words and phrases that help us communicate and grow together.
URL:https://mtangelpubliclibrary.com/event/creciendo-juntos-growing-together-storytime-2-2-4-2/2027-07-17/
CATEGORIES:Families with Preschoolers
END:VEVENT
BEGIN:VEVENT
DTSTART;TZID=America/Los_Angeles:20270720T120000
DTEND;TZID=America/Los_Angeles:20270720T130000
DTSTAMP:20260422T081853
CREATED:20240216T011510Z
LAST-MODIFIED:20241116T003642Z
UID:10002937-1816084800-1816088400@mtangelpubliclibrary.com
SUMMARY:APPY Hour
DESCRIPTION:Tuesdays\, Noon-1:00: APPY Hour (All ages): Need help with your device? Drop in for some technical assistance from our friendly library staff. Or call 971-370-5040 to make an appointment for a one-on-one session.
URL:https://mtangelpubliclibrary.com/event/appy-hour-45/2027-07-20/
END:VEVENT
BEGIN:VEVENT
DTSTART;TZID=America/Los_Angeles:20270721T103000
DTEND;TZID=America/Los_Angeles:20270721T114500
DTSTAMP:20260422T081853
CREATED:20250618T175932Z
LAST-MODIFIED:20260323T181157Z
UID:10004981-1816165800-1816170300@mtangelpubliclibrary.com
SUMMARY:Family Storytime & Indoor Playtime
DESCRIPTION:Family Storytime & Indoor Playtime Adventure\n \nJoin us for Family Storytime\, where songs\, captivating tales\, and creative crafts come together to spark joy and imagination. After the stories\, the fun continues with Indoor Playtime! Your little ones can explore a world of toys\, make new friends\, and let their imaginations run wild in our cozy play area. Perfect for children aged 2-5\, with all toys provided. \nWednesdays\, 10:30 – 11:45am\nAges 2-5 and their families \n 
URL:https://mtangelpubliclibrary.com/event/family-storytime-indoor-playtime-6-3-2/2027-07-21/
CATEGORIES:Families with Preschoolers
ATTACH;FMTTYPE=image/png:https://mtangelpubliclibrary.com/wp-content/uploads/2024/02/family-storytime.png
END:VEVENT
BEGIN:VEVENT
DTSTART;TZID=America/Los_Angeles:20270724T100000
DTEND;TZID=America/Los_Angeles:20270724T110000
DTSTAMP:20260422T081853
CREATED:20250527T200840Z
LAST-MODIFIED:20260106T220956Z
UID:10007047-1816423200-1816426800@mtangelpubliclibrary.com
SUMMARY:Sunshine Fitness
DESCRIPTION:Sunshine Fitness\nJoin us Saturday mornings for some light exercising together while we explore different types of workouts using follow-along videos. Signed waiver must be on file before participation. \nSaturdays\, 10am\nAdults & Teens
URL:https://mtangelpubliclibrary.com/event/sunshine-fitness-2-3-2-2/2027-07-24/
CATEGORIES:Adults,Teens
END:VEVENT
BEGIN:VEVENT
DTSTART;TZID=America/Los_Angeles:20270724T160000
DTEND;TZID=America/Los_Angeles:20270724T170000
DTSTAMP:20260422T081853
CREATED:20251015T000917Z
LAST-MODIFIED:20260413T224543Z
UID:10007699-1816444800-1816448400@mtangelpubliclibrary.com
SUMMARY:Hora del cuento bilingue / Bilingual Storytime
DESCRIPTION:¡Atrévete a acompañarnos para aprender juntos! A través de leer libros bilingües podríamos hacer lo. Después abría una actividad para la familia. Through bilingual books and activities\, we will learn simple words and phrases that help us communicate and grow together.
URL:https://mtangelpubliclibrary.com/event/creciendo-juntos-growing-together-storytime-2-2-4-2/2027-07-24/
CATEGORIES:Families with Preschoolers
END:VEVENT
BEGIN:VEVENT
DTSTART;TZID=America/Los_Angeles:20270727T120000
DTEND;TZID=America/Los_Angeles:20270727T130000
DTSTAMP:20260422T081853
CREATED:20240216T011510Z
LAST-MODIFIED:20241116T003642Z
UID:10002938-1816689600-1816693200@mtangelpubliclibrary.com
SUMMARY:APPY Hour
DESCRIPTION:Tuesdays\, Noon-1:00: APPY Hour (All ages): Need help with your device? Drop in for some technical assistance from our friendly library staff. Or call 971-370-5040 to make an appointment for a one-on-one session.
URL:https://mtangelpubliclibrary.com/event/appy-hour-45/2027-07-27/
END:VEVENT
BEGIN:VEVENT
DTSTART;TZID=America/Los_Angeles:20270728T103000
DTEND;TZID=America/Los_Angeles:20270728T114500
DTSTAMP:20260422T081853
CREATED:20250618T175932Z
LAST-MODIFIED:20260323T181157Z
UID:10004982-1816770600-1816775100@mtangelpubliclibrary.com
SUMMARY:Family Storytime & Indoor Playtime
DESCRIPTION:Family Storytime & Indoor Playtime Adventure\n \nJoin us for Family Storytime\, where songs\, captivating tales\, and creative crafts come together to spark joy and imagination. After the stories\, the fun continues with Indoor Playtime! Your little ones can explore a world of toys\, make new friends\, and let their imaginations run wild in our cozy play area. Perfect for children aged 2-5\, with all toys provided. \nWednesdays\, 10:30 – 11:45am\nAges 2-5 and their families \n 
URL:https://mtangelpubliclibrary.com/event/family-storytime-indoor-playtime-6-3-2/2027-07-28/
CATEGORIES:Families with Preschoolers
ATTACH;FMTTYPE=image/png:https://mtangelpubliclibrary.com/wp-content/uploads/2024/02/family-storytime.png
END:VEVENT
BEGIN:VEVENT
DTSTART;TZID=America/Los_Angeles:20270731T100000
DTEND;TZID=America/Los_Angeles:20270731T110000
DTSTAMP:20260422T081853
CREATED:20250527T200840Z
LAST-MODIFIED:20260106T220956Z
UID:10007048-1817028000-1817031600@mtangelpubliclibrary.com
SUMMARY:Sunshine Fitness
DESCRIPTION:Sunshine Fitness\nJoin us Saturday mornings for some light exercising together while we explore different types of workouts using follow-along videos. Signed waiver must be on file before participation. \nSaturdays\, 10am\nAdults & Teens
URL:https://mtangelpubliclibrary.com/event/sunshine-fitness-2-3-2-2/2027-07-31/
CATEGORIES:Adults,Teens
END:VEVENT
BEGIN:VEVENT
DTSTART;TZID=America/Los_Angeles:20270731T160000
DTEND;TZID=America/Los_Angeles:20270731T170000
DTSTAMP:20260422T081853
CREATED:20251015T000917Z
LAST-MODIFIED:20260413T224543Z
UID:10007700-1817049600-1817053200@mtangelpubliclibrary.com
SUMMARY:Hora del cuento bilingue / Bilingual Storytime
DESCRIPTION:¡Atrévete a acompañarnos para aprender juntos! A través de leer libros bilingües podríamos hacer lo. Después abría una actividad para la familia. Through bilingual books and activities\, we will learn simple words and phrases that help us communicate and grow together.
URL:https://mtangelpubliclibrary.com/event/creciendo-juntos-growing-together-storytime-2-2-4-2/2027-07-31/
CATEGORIES:Families with Preschoolers
END:VEVENT
BEGIN:VEVENT
DTSTART;TZID=America/Los_Angeles:20270803T120000
DTEND;TZID=America/Los_Angeles:20270803T130000
DTSTAMP:20260422T081853
CREATED:20240216T011510Z
LAST-MODIFIED:20241116T003642Z
UID:10002939-1817294400-1817298000@mtangelpubliclibrary.com
SUMMARY:APPY Hour
DESCRIPTION:Tuesdays\, Noon-1:00: APPY Hour (All ages): Need help with your device? Drop in for some technical assistance from our friendly library staff. Or call 971-370-5040 to make an appointment for a one-on-one session.
URL:https://mtangelpubliclibrary.com/event/appy-hour-45/2027-08-03/
END:VEVENT
BEGIN:VEVENT
DTSTART;TZID=America/Los_Angeles:20270804T103000
DTEND;TZID=America/Los_Angeles:20270804T114500
DTSTAMP:20260422T081853
CREATED:20250618T175932Z
LAST-MODIFIED:20260323T181157Z
UID:10004983-1817375400-1817379900@mtangelpubliclibrary.com
SUMMARY:Family Storytime & Indoor Playtime
DESCRIPTION:Family Storytime & Indoor Playtime Adventure\n \nJoin us for Family Storytime\, where songs\, captivating tales\, and creative crafts come together to spark joy and imagination. After the stories\, the fun continues with Indoor Playtime! Your little ones can explore a world of toys\, make new friends\, and let their imaginations run wild in our cozy play area. Perfect for children aged 2-5\, with all toys provided. \nWednesdays\, 10:30 – 11:45am\nAges 2-5 and their families \n 
URL:https://mtangelpubliclibrary.com/event/family-storytime-indoor-playtime-6-3-2/2027-08-04/
CATEGORIES:Families with Preschoolers
ATTACH;FMTTYPE=image/png:https://mtangelpubliclibrary.com/wp-content/uploads/2024/02/family-storytime.png
END:VEVENT
BEGIN:VEVENT
DTSTART;TZID=America/Los_Angeles:20270807T100000
DTEND;TZID=America/Los_Angeles:20270807T110000
DTSTAMP:20260422T081853
CREATED:20250527T200840Z
LAST-MODIFIED:20260106T220956Z
UID:10007049-1817632800-1817636400@mtangelpubliclibrary.com
SUMMARY:Sunshine Fitness
DESCRIPTION:Sunshine Fitness\nJoin us Saturday mornings for some light exercising together while we explore different types of workouts using follow-along videos. Signed waiver must be on file before participation. \nSaturdays\, 10am\nAdults & Teens
URL:https://mtangelpubliclibrary.com/event/sunshine-fitness-2-3-2-2/2027-08-07/
CATEGORIES:Adults,Teens
END:VEVENT
BEGIN:VEVENT
DTSTART;TZID=America/Los_Angeles:20270807T160000
DTEND;TZID=America/Los_Angeles:20270807T170000
DTSTAMP:20260422T081853
CREATED:20251015T000917Z
LAST-MODIFIED:20260413T224543Z
UID:10007701-1817654400-1817658000@mtangelpubliclibrary.com
SUMMARY:Hora del cuento bilingue / Bilingual Storytime
DESCRIPTION:¡Atrévete a acompañarnos para aprender juntos! A través de leer libros bilingües podríamos hacer lo. Después abría una actividad para la familia. Through bilingual books and activities\, we will learn simple words and phrases that help us communicate and grow together.
URL:https://mtangelpubliclibrary.com/event/creciendo-juntos-growing-together-storytime-2-2-4-2/2027-08-07/
CATEGORIES:Families with Preschoolers
END:VEVENT
BEGIN:VEVENT
DTSTART;TZID=America/Los_Angeles:20270810T120000
DTEND;TZID=America/Los_Angeles:20270810T130000
DTSTAMP:20260422T081853
CREATED:20240216T011510Z
LAST-MODIFIED:20241116T003642Z
UID:10002940-1817899200-1817902800@mtangelpubliclibrary.com
SUMMARY:APPY Hour
DESCRIPTION:Tuesdays\, Noon-1:00: APPY Hour (All ages): Need help with your device? Drop in for some technical assistance from our friendly library staff. Or call 971-370-5040 to make an appointment for a one-on-one session.
URL:https://mtangelpubliclibrary.com/event/appy-hour-45/2027-08-10/
END:VEVENT
BEGIN:VEVENT
DTSTART;TZID=America/Los_Angeles:20270811T103000
DTEND;TZID=America/Los_Angeles:20270811T114500
DTSTAMP:20260422T081853
CREATED:20250618T175932Z
LAST-MODIFIED:20260323T181157Z
UID:10004984-1817980200-1817984700@mtangelpubliclibrary.com
SUMMARY:Family Storytime & Indoor Playtime
DESCRIPTION:Family Storytime & Indoor Playtime Adventure\n \nJoin us for Family Storytime\, where songs\, captivating tales\, and creative crafts come together to spark joy and imagination. After the stories\, the fun continues with Indoor Playtime! Your little ones can explore a world of toys\, make new friends\, and let their imaginations run wild in our cozy play area. Perfect for children aged 2-5\, with all toys provided. \nWednesdays\, 10:30 – 11:45am\nAges 2-5 and their families \n 
URL:https://mtangelpubliclibrary.com/event/family-storytime-indoor-playtime-6-3-2/2027-08-11/
CATEGORIES:Families with Preschoolers
ATTACH;FMTTYPE=image/png:https://mtangelpubliclibrary.com/wp-content/uploads/2024/02/family-storytime.png
END:VEVENT
BEGIN:VEVENT
DTSTART;TZID=America/Los_Angeles:20270812T180000
DTEND;TZID=America/Los_Angeles:20270812T190000
DTSTAMP:20260422T081853
CREATED:20251218T004413Z
LAST-MODIFIED:20260323T182053Z
UID:10007421-1818093600-1818097200@mtangelpubliclibrary.com
SUMMARY:Writing Group
DESCRIPTION:Stretch your writing wings in a supportive environment with time for exploration\, illumination\, and idea exchange. Meets monthly every second Thursday.
URL:https://mtangelpubliclibrary.com/event/writing-group-2/2027-08-12/
CATEGORIES:Adults,Teens
END:VEVENT
BEGIN:VEVENT
DTSTART;TZID=America/Los_Angeles:20270813T150000
DTEND;TZID=America/Los_Angeles:20270813T170000
DTSTAMP:20260422T081853
CREATED:20260323T182530Z
LAST-MODIFIED:20260323T182530Z
UID:10007924-1818169200-1818176400@mtangelpubliclibrary.com
SUMMARY:Chess Club
DESCRIPTION:Learn how to play the Game of Kings (and Queens!) with friends of all ages in a calm\, relaxed environment. Meets monthly every second Friday.
URL:https://mtangelpubliclibrary.com/event/chess-club/2027-08-13/
CATEGORIES:All Ages
END:VEVENT
BEGIN:VEVENT
DTSTART;TZID=America/Los_Angeles:20270814T100000
DTEND;TZID=America/Los_Angeles:20270814T110000
DTSTAMP:20260422T081853
CREATED:20250527T200840Z
LAST-MODIFIED:20260106T220956Z
UID:10007050-1818237600-1818241200@mtangelpubliclibrary.com
SUMMARY:Sunshine Fitness
DESCRIPTION:Sunshine Fitness\nJoin us Saturday mornings for some light exercising together while we explore different types of workouts using follow-along videos. Signed waiver must be on file before participation. \nSaturdays\, 10am\nAdults & Teens
URL:https://mtangelpubliclibrary.com/event/sunshine-fitness-2-3-2-2/2027-08-14/
CATEGORIES:Adults,Teens
END:VEVENT
BEGIN:VEVENT
DTSTART;TZID=America/Los_Angeles:20270814T160000
DTEND;TZID=America/Los_Angeles:20270814T170000
DTSTAMP:20260422T081853
CREATED:20251015T000917Z
LAST-MODIFIED:20260413T224543Z
UID:10007702-1818259200-1818262800@mtangelpubliclibrary.com
SUMMARY:Hora del cuento bilingue / Bilingual Storytime
DESCRIPTION:¡Atrévete a acompañarnos para aprender juntos! A través de leer libros bilingües podríamos hacer lo. Después abría una actividad para la familia. Through bilingual books and activities\, we will learn simple words and phrases that help us communicate and grow together.
URL:https://mtangelpubliclibrary.com/event/creciendo-juntos-growing-together-storytime-2-2-4-2/2027-08-14/
CATEGORIES:Families with Preschoolers
END:VEVENT
BEGIN:VEVENT
DTSTART;TZID=America/Los_Angeles:20270817T120000
DTEND;TZID=America/Los_Angeles:20270817T130000
DTSTAMP:20260422T081853
CREATED:20240216T011510Z
LAST-MODIFIED:20241116T003642Z
UID:10002941-1818504000-1818507600@mtangelpubliclibrary.com
SUMMARY:APPY Hour
DESCRIPTION:Tuesdays\, Noon-1:00: APPY Hour (All ages): Need help with your device? Drop in for some technical assistance from our friendly library staff. Or call 971-370-5040 to make an appointment for a one-on-one session.
URL:https://mtangelpubliclibrary.com/event/appy-hour-45/2027-08-17/
END:VEVENT
BEGIN:VEVENT
DTSTART;TZID=America/Los_Angeles:20270818T103000
DTEND;TZID=America/Los_Angeles:20270818T114500
DTSTAMP:20260422T081853
CREATED:20250618T175932Z
LAST-MODIFIED:20260323T181157Z
UID:10004985-1818585000-1818589500@mtangelpubliclibrary.com
SUMMARY:Family Storytime & Indoor Playtime
DESCRIPTION:Family Storytime & Indoor Playtime Adventure\n \nJoin us for Family Storytime\, where songs\, captivating tales\, and creative crafts come together to spark joy and imagination. After the stories\, the fun continues with Indoor Playtime! Your little ones can explore a world of toys\, make new friends\, and let their imaginations run wild in our cozy play area. Perfect for children aged 2-5\, with all toys provided. \nWednesdays\, 10:30 – 11:45am\nAges 2-5 and their families \n 
URL:https://mtangelpubliclibrary.com/event/family-storytime-indoor-playtime-6-3-2/2027-08-18/
CATEGORIES:Families with Preschoolers
ATTACH;FMTTYPE=image/png:https://mtangelpubliclibrary.com/wp-content/uploads/2024/02/family-storytime.png
END:VEVENT
BEGIN:VEVENT
DTSTART;TZID=America/Los_Angeles:20270821T100000
DTEND;TZID=America/Los_Angeles:20270821T110000
DTSTAMP:20260422T081853
CREATED:20250527T200840Z
LAST-MODIFIED:20260106T220956Z
UID:10007051-1818842400-1818846000@mtangelpubliclibrary.com
SUMMARY:Sunshine Fitness
DESCRIPTION:Sunshine Fitness\nJoin us Saturday mornings for some light exercising together while we explore different types of workouts using follow-along videos. Signed waiver must be on file before participation. \nSaturdays\, 10am\nAdults & Teens
URL:https://mtangelpubliclibrary.com/event/sunshine-fitness-2-3-2-2/2027-08-21/
CATEGORIES:Adults,Teens
END:VEVENT
BEGIN:VEVENT
DTSTART;TZID=America/Los_Angeles:20270821T160000
DTEND;TZID=America/Los_Angeles:20270821T170000
DTSTAMP:20260422T081853
CREATED:20251015T000917Z
LAST-MODIFIED:20260413T224543Z
UID:10007703-1818864000-1818867600@mtangelpubliclibrary.com
SUMMARY:Hora del cuento bilingue / Bilingual Storytime
DESCRIPTION:¡Atrévete a acompañarnos para aprender juntos! A través de leer libros bilingües podríamos hacer lo. Después abría una actividad para la familia. Through bilingual books and activities\, we will learn simple words and phrases that help us communicate and grow together.
URL:https://mtangelpubliclibrary.com/event/creciendo-juntos-growing-together-storytime-2-2-4-2/2027-08-21/
CATEGORIES:Families with Preschoolers
END:VEVENT
BEGIN:VEVENT
DTSTART;TZID=America/Los_Angeles:20270824T120000
DTEND;TZID=America/Los_Angeles:20270824T130000
DTSTAMP:20260422T081853
CREATED:20240216T011510Z
LAST-MODIFIED:20241116T003642Z
UID:10002942-1819108800-1819112400@mtangelpubliclibrary.com
SUMMARY:APPY Hour
DESCRIPTION:Tuesdays\, Noon-1:00: APPY Hour (All ages): Need help with your device? Drop in for some technical assistance from our friendly library staff. Or call 971-370-5040 to make an appointment for a one-on-one session.
URL:https://mtangelpubliclibrary.com/event/appy-hour-45/2027-08-24/
END:VEVENT
BEGIN:VEVENT
DTSTART;TZID=America/Los_Angeles:20270825T103000
DTEND;TZID=America/Los_Angeles:20270825T114500
DTSTAMP:20260422T081853
CREATED:20250618T175932Z
LAST-MODIFIED:20260323T181157Z
UID:10004986-1819189800-1819194300@mtangelpubliclibrary.com
SUMMARY:Family Storytime & Indoor Playtime
DESCRIPTION:Family Storytime & Indoor Playtime Adventure\n \nJoin us for Family Storytime\, where songs\, captivating tales\, and creative crafts come together to spark joy and imagination. After the stories\, the fun continues with Indoor Playtime! Your little ones can explore a world of toys\, make new friends\, and let their imaginations run wild in our cozy play area. Perfect for children aged 2-5\, with all toys provided. \nWednesdays\, 10:30 – 11:45am\nAges 2-5 and their families \n 
URL:https://mtangelpubliclibrary.com/event/family-storytime-indoor-playtime-6-3-2/2027-08-25/
CATEGORIES:Families with Preschoolers
ATTACH;FMTTYPE=image/png:https://mtangelpubliclibrary.com/wp-content/uploads/2024/02/family-storytime.png
END:VEVENT
BEGIN:VEVENT
DTSTART;TZID=America/Los_Angeles:20270828T100000
DTEND;TZID=America/Los_Angeles:20270828T110000
DTSTAMP:20260422T081853
CREATED:20250527T200840Z
LAST-MODIFIED:20260106T220956Z
UID:10007052-1819447200-1819450800@mtangelpubliclibrary.com
SUMMARY:Sunshine Fitness
DESCRIPTION:Sunshine Fitness\nJoin us Saturday mornings for some light exercising together while we explore different types of workouts using follow-along videos. Signed waiver must be on file before participation. \nSaturdays\, 10am\nAdults & Teens
URL:https://mtangelpubliclibrary.com/event/sunshine-fitness-2-3-2-2/2027-08-28/
CATEGORIES:Adults,Teens
END:VEVENT
BEGIN:VEVENT
DTSTART;TZID=America/Los_Angeles:20270828T160000
DTEND;TZID=America/Los_Angeles:20270828T170000
DTSTAMP:20260422T081853
CREATED:20251015T000917Z
LAST-MODIFIED:20260413T224543Z
UID:10007704-1819468800-1819472400@mtangelpubliclibrary.com
SUMMARY:Hora del cuento bilingue / Bilingual Storytime
DESCRIPTION:¡Atrévete a acompañarnos para aprender juntos! A través de leer libros bilingües podríamos hacer lo. Después abría una actividad para la familia. Through bilingual books and activities\, we will learn simple words and phrases that help us communicate and grow together.
URL:https://mtangelpubliclibrary.com/event/creciendo-juntos-growing-together-storytime-2-2-4-2/2027-08-28/
CATEGORIES:Families with Preschoolers
END:VEVENT
BEGIN:VEVENT
DTSTART;TZID=America/Los_Angeles:20270831T120000
DTEND;TZID=America/Los_Angeles:20270831T130000
DTSTAMP:20260422T081853
CREATED:20240216T011510Z
LAST-MODIFIED:20241116T003642Z
UID:10002943-1819713600-1819717200@mtangelpubliclibrary.com
SUMMARY:APPY Hour
DESCRIPTION:Tuesdays\, Noon-1:00: APPY Hour (All ages): Need help with your device? Drop in for some technical assistance from our friendly library staff. Or call 971-370-5040 to make an appointment for a one-on-one session.
URL:https://mtangelpubliclibrary.com/event/appy-hour-45/2027-08-31/
END:VEVENT
END:VCALENDAR