BEGIN:VCALENDAR
VERSION:2.0
PRODID:-//Mt. Angel Public Library - ECPv6.15.20//NONSGML v1.0//EN
CALSCALE:GREGORIAN
METHOD:PUBLISH
X-ORIGINAL-URL:https://mtangelpubliclibrary.com
X-WR-CALDESC:Events for Mt. Angel Public Library
REFRESH-INTERVAL;VALUE=DURATION:PT1H
X-Robots-Tag:noindex
X-PUBLISHED-TTL:PT1H
BEGIN:VTIMEZONE
TZID:America/Los_Angeles
BEGIN:DAYLIGHT
TZOFFSETFROM:-0800
TZOFFSETTO:-0700
TZNAME:PDT
DTSTART:20260308T100000
END:DAYLIGHT
BEGIN:STANDARD
TZOFFSETFROM:-0700
TZOFFSETTO:-0800
TZNAME:PST
DTSTART:20261101T090000
END:STANDARD
BEGIN:DAYLIGHT
TZOFFSETFROM:-0800
TZOFFSETTO:-0700
TZNAME:PDT
DTSTART:20270314T100000
END:DAYLIGHT
BEGIN:STANDARD
TZOFFSETFROM:-0700
TZOFFSETTO:-0800
TZNAME:PST
DTSTART:20271107T090000
END:STANDARD
BEGIN:DAYLIGHT
TZOFFSETFROM:-0800
TZOFFSETTO:-0700
TZNAME:PDT
DTSTART:20280312T100000
END:DAYLIGHT
BEGIN:STANDARD
TZOFFSETFROM:-0700
TZOFFSETTO:-0800
TZNAME:PST
DTSTART:20281105T090000
END:STANDARD
END:VTIMEZONE
BEGIN:VEVENT
DTSTART;TZID=America/Los_Angeles:20270410T160000
DTEND;TZID=America/Los_Angeles:20270410T170000
DTSTAMP:20260422T040028
CREATED:20251015T000917Z
LAST-MODIFIED:20260413T224543Z
UID:10007684-1807372800-1807376400@mtangelpubliclibrary.com
SUMMARY:Hora del cuento bilingue / Bilingual Storytime
DESCRIPTION:¡Atrévete a acompañarnos para aprender juntos! A través de leer libros bilingües podríamos hacer lo. Después abría una actividad para la familia. Through bilingual books and activities\, we will learn simple words and phrases that help us communicate and grow together.
URL:https://mtangelpubliclibrary.com/event/creciendo-juntos-growing-together-storytime-2-2-4-2/2027-04-10/
CATEGORIES:Families with Preschoolers
END:VEVENT
BEGIN:VEVENT
DTSTART;TZID=America/Los_Angeles:20270413T120000
DTEND;TZID=America/Los_Angeles:20270413T130000
DTSTAMP:20260422T040028
CREATED:20240216T011510Z
LAST-MODIFIED:20241116T003642Z
UID:10002923-1807617600-1807621200@mtangelpubliclibrary.com
SUMMARY:APPY Hour
DESCRIPTION:Tuesdays\, Noon-1:00: APPY Hour (All ages): Need help with your device? Drop in for some technical assistance from our friendly library staff. Or call 971-370-5040 to make an appointment for a one-on-one session.
URL:https://mtangelpubliclibrary.com/event/appy-hour-45/2027-04-13/
END:VEVENT
BEGIN:VEVENT
DTSTART;TZID=America/Los_Angeles:20270414T103000
DTEND;TZID=America/Los_Angeles:20270414T114500
DTSTAMP:20260422T040028
CREATED:20250618T175932Z
LAST-MODIFIED:20260323T181157Z
UID:10004967-1807698600-1807703100@mtangelpubliclibrary.com
SUMMARY:Family Storytime & Indoor Playtime
DESCRIPTION:Family Storytime & Indoor Playtime Adventure\n \nJoin us for Family Storytime\, where songs\, captivating tales\, and creative crafts come together to spark joy and imagination. After the stories\, the fun continues with Indoor Playtime! Your little ones can explore a world of toys\, make new friends\, and let their imaginations run wild in our cozy play area. Perfect for children aged 2-5\, with all toys provided. \nWednesdays\, 10:30 – 11:45am\nAges 2-5 and their families \n 
URL:https://mtangelpubliclibrary.com/event/family-storytime-indoor-playtime-6-3-2/2027-04-14/
CATEGORIES:Families with Preschoolers
ATTACH;FMTTYPE=image/png:https://mtangelpubliclibrary.com/wp-content/uploads/2024/02/family-storytime.png
END:VEVENT
BEGIN:VEVENT
DTSTART;TZID=America/Los_Angeles:20270417T100000
DTEND;TZID=America/Los_Angeles:20270417T110000
DTSTAMP:20260422T040028
CREATED:20250527T200840Z
LAST-MODIFIED:20260106T220956Z
UID:10007033-1807956000-1807959600@mtangelpubliclibrary.com
SUMMARY:Sunshine Fitness
DESCRIPTION:Sunshine Fitness\nJoin us Saturday mornings for some light exercising together while we explore different types of workouts using follow-along videos. Signed waiver must be on file before participation. \nSaturdays\, 10am\nAdults & Teens
URL:https://mtangelpubliclibrary.com/event/sunshine-fitness-2-3-2-2/2027-04-17/
CATEGORIES:Adults,Teens
END:VEVENT
BEGIN:VEVENT
DTSTART;TZID=America/Los_Angeles:20270417T160000
DTEND;TZID=America/Los_Angeles:20270417T170000
DTSTAMP:20260422T040028
CREATED:20251015T000917Z
LAST-MODIFIED:20260413T224543Z
UID:10007685-1807977600-1807981200@mtangelpubliclibrary.com
SUMMARY:Hora del cuento bilingue / Bilingual Storytime
DESCRIPTION:¡Atrévete a acompañarnos para aprender juntos! A través de leer libros bilingües podríamos hacer lo. Después abría una actividad para la familia. Through bilingual books and activities\, we will learn simple words and phrases that help us communicate and grow together.
URL:https://mtangelpubliclibrary.com/event/creciendo-juntos-growing-together-storytime-2-2-4-2/2027-04-17/
CATEGORIES:Families with Preschoolers
END:VEVENT
BEGIN:VEVENT
DTSTART;TZID=America/Los_Angeles:20270420T120000
DTEND;TZID=America/Los_Angeles:20270420T130000
DTSTAMP:20260422T040028
CREATED:20240216T011510Z
LAST-MODIFIED:20241116T003642Z
UID:10002924-1808222400-1808226000@mtangelpubliclibrary.com
SUMMARY:APPY Hour
DESCRIPTION:Tuesdays\, Noon-1:00: APPY Hour (All ages): Need help with your device? Drop in for some technical assistance from our friendly library staff. Or call 971-370-5040 to make an appointment for a one-on-one session.
URL:https://mtangelpubliclibrary.com/event/appy-hour-45/2027-04-20/
END:VEVENT
BEGIN:VEVENT
DTSTART;TZID=America/Los_Angeles:20270421T103000
DTEND;TZID=America/Los_Angeles:20270421T114500
DTSTAMP:20260422T040028
CREATED:20250618T175932Z
LAST-MODIFIED:20260323T181157Z
UID:10004968-1808303400-1808307900@mtangelpubliclibrary.com
SUMMARY:Family Storytime & Indoor Playtime
DESCRIPTION:Family Storytime & Indoor Playtime Adventure\n \nJoin us for Family Storytime\, where songs\, captivating tales\, and creative crafts come together to spark joy and imagination. After the stories\, the fun continues with Indoor Playtime! Your little ones can explore a world of toys\, make new friends\, and let their imaginations run wild in our cozy play area. Perfect for children aged 2-5\, with all toys provided. \nWednesdays\, 10:30 – 11:45am\nAges 2-5 and their families \n 
URL:https://mtangelpubliclibrary.com/event/family-storytime-indoor-playtime-6-3-2/2027-04-21/
CATEGORIES:Families with Preschoolers
ATTACH;FMTTYPE=image/png:https://mtangelpubliclibrary.com/wp-content/uploads/2024/02/family-storytime.png
END:VEVENT
BEGIN:VEVENT
DTSTART;TZID=America/Los_Angeles:20270424T100000
DTEND;TZID=America/Los_Angeles:20270424T110000
DTSTAMP:20260422T040028
CREATED:20250527T200840Z
LAST-MODIFIED:20260106T220956Z
UID:10007034-1808560800-1808564400@mtangelpubliclibrary.com
SUMMARY:Sunshine Fitness
DESCRIPTION:Sunshine Fitness\nJoin us Saturday mornings for some light exercising together while we explore different types of workouts using follow-along videos. Signed waiver must be on file before participation. \nSaturdays\, 10am\nAdults & Teens
URL:https://mtangelpubliclibrary.com/event/sunshine-fitness-2-3-2-2/2027-04-24/
CATEGORIES:Adults,Teens
END:VEVENT
BEGIN:VEVENT
DTSTART;TZID=America/Los_Angeles:20270424T160000
DTEND;TZID=America/Los_Angeles:20270424T170000
DTSTAMP:20260422T040028
CREATED:20251015T000917Z
LAST-MODIFIED:20260413T224543Z
UID:10007686-1808582400-1808586000@mtangelpubliclibrary.com
SUMMARY:Hora del cuento bilingue / Bilingual Storytime
DESCRIPTION:¡Atrévete a acompañarnos para aprender juntos! A través de leer libros bilingües podríamos hacer lo. Después abría una actividad para la familia. Through bilingual books and activities\, we will learn simple words and phrases that help us communicate and grow together.
URL:https://mtangelpubliclibrary.com/event/creciendo-juntos-growing-together-storytime-2-2-4-2/2027-04-24/
CATEGORIES:Families with Preschoolers
END:VEVENT
BEGIN:VEVENT
DTSTART;TZID=America/Los_Angeles:20270427T120000
DTEND;TZID=America/Los_Angeles:20270427T130000
DTSTAMP:20260422T040028
CREATED:20240216T011510Z
LAST-MODIFIED:20241116T003642Z
UID:10002925-1808827200-1808830800@mtangelpubliclibrary.com
SUMMARY:APPY Hour
DESCRIPTION:Tuesdays\, Noon-1:00: APPY Hour (All ages): Need help with your device? Drop in for some technical assistance from our friendly library staff. Or call 971-370-5040 to make an appointment for a one-on-one session.
URL:https://mtangelpubliclibrary.com/event/appy-hour-45/2027-04-27/
END:VEVENT
BEGIN:VEVENT
DTSTART;TZID=America/Los_Angeles:20270428T103000
DTEND;TZID=America/Los_Angeles:20270428T114500
DTSTAMP:20260422T040028
CREATED:20250618T175932Z
LAST-MODIFIED:20260323T181157Z
UID:10004969-1808908200-1808912700@mtangelpubliclibrary.com
SUMMARY:Family Storytime & Indoor Playtime
DESCRIPTION:Family Storytime & Indoor Playtime Adventure\n \nJoin us for Family Storytime\, where songs\, captivating tales\, and creative crafts come together to spark joy and imagination. After the stories\, the fun continues with Indoor Playtime! Your little ones can explore a world of toys\, make new friends\, and let their imaginations run wild in our cozy play area. Perfect for children aged 2-5\, with all toys provided. \nWednesdays\, 10:30 – 11:45am\nAges 2-5 and their families \n 
URL:https://mtangelpubliclibrary.com/event/family-storytime-indoor-playtime-6-3-2/2027-04-28/
CATEGORIES:Families with Preschoolers
ATTACH;FMTTYPE=image/png:https://mtangelpubliclibrary.com/wp-content/uploads/2024/02/family-storytime.png
END:VEVENT
BEGIN:VEVENT
DTSTART;TZID=America/Los_Angeles:20270501T100000
DTEND;TZID=America/Los_Angeles:20270501T110000
DTSTAMP:20260422T040028
CREATED:20250527T200840Z
LAST-MODIFIED:20260106T220956Z
UID:10007035-1809165600-1809169200@mtangelpubliclibrary.com
SUMMARY:Sunshine Fitness
DESCRIPTION:Sunshine Fitness\nJoin us Saturday mornings for some light exercising together while we explore different types of workouts using follow-along videos. Signed waiver must be on file before participation. \nSaturdays\, 10am\nAdults & Teens
URL:https://mtangelpubliclibrary.com/event/sunshine-fitness-2-3-2-2/2027-05-01/
CATEGORIES:Adults,Teens
END:VEVENT
BEGIN:VEVENT
DTSTART;TZID=America/Los_Angeles:20270501T160000
DTEND;TZID=America/Los_Angeles:20270501T170000
DTSTAMP:20260422T040028
CREATED:20251015T000917Z
LAST-MODIFIED:20260413T224543Z
UID:10007687-1809187200-1809190800@mtangelpubliclibrary.com
SUMMARY:Hora del cuento bilingue / Bilingual Storytime
DESCRIPTION:¡Atrévete a acompañarnos para aprender juntos! A través de leer libros bilingües podríamos hacer lo. Después abría una actividad para la familia. Through bilingual books and activities\, we will learn simple words and phrases that help us communicate and grow together.
URL:https://mtangelpubliclibrary.com/event/creciendo-juntos-growing-together-storytime-2-2-4-2/2027-05-01/
CATEGORIES:Families with Preschoolers
END:VEVENT
BEGIN:VEVENT
DTSTART;TZID=America/Los_Angeles:20270504T120000
DTEND;TZID=America/Los_Angeles:20270504T130000
DTSTAMP:20260422T040028
CREATED:20240216T011510Z
LAST-MODIFIED:20241116T003642Z
UID:10002926-1809432000-1809435600@mtangelpubliclibrary.com
SUMMARY:APPY Hour
DESCRIPTION:Tuesdays\, Noon-1:00: APPY Hour (All ages): Need help with your device? Drop in for some technical assistance from our friendly library staff. Or call 971-370-5040 to make an appointment for a one-on-one session.
URL:https://mtangelpubliclibrary.com/event/appy-hour-45/2027-05-04/
END:VEVENT
BEGIN:VEVENT
DTSTART;TZID=America/Los_Angeles:20270505T103000
DTEND;TZID=America/Los_Angeles:20270505T114500
DTSTAMP:20260422T040028
CREATED:20250618T175932Z
LAST-MODIFIED:20260323T181157Z
UID:10004970-1809513000-1809517500@mtangelpubliclibrary.com
SUMMARY:Family Storytime & Indoor Playtime
DESCRIPTION:Family Storytime & Indoor Playtime Adventure\n \nJoin us for Family Storytime\, where songs\, captivating tales\, and creative crafts come together to spark joy and imagination. After the stories\, the fun continues with Indoor Playtime! Your little ones can explore a world of toys\, make new friends\, and let their imaginations run wild in our cozy play area. Perfect for children aged 2-5\, with all toys provided. \nWednesdays\, 10:30 – 11:45am\nAges 2-5 and their families \n 
URL:https://mtangelpubliclibrary.com/event/family-storytime-indoor-playtime-6-3-2/2027-05-05/
CATEGORIES:Families with Preschoolers
ATTACH;FMTTYPE=image/png:https://mtangelpubliclibrary.com/wp-content/uploads/2024/02/family-storytime.png
END:VEVENT
BEGIN:VEVENT
DTSTART;TZID=America/Los_Angeles:20270508T100000
DTEND;TZID=America/Los_Angeles:20270508T110000
DTSTAMP:20260422T040028
CREATED:20250527T200840Z
LAST-MODIFIED:20260106T220956Z
UID:10007036-1809770400-1809774000@mtangelpubliclibrary.com
SUMMARY:Sunshine Fitness
DESCRIPTION:Sunshine Fitness\nJoin us Saturday mornings for some light exercising together while we explore different types of workouts using follow-along videos. Signed waiver must be on file before participation. \nSaturdays\, 10am\nAdults & Teens
URL:https://mtangelpubliclibrary.com/event/sunshine-fitness-2-3-2-2/2027-05-08/
CATEGORIES:Adults,Teens
END:VEVENT
BEGIN:VEVENT
DTSTART;TZID=America/Los_Angeles:20270508T160000
DTEND;TZID=America/Los_Angeles:20270508T170000
DTSTAMP:20260422T040028
CREATED:20251015T000917Z
LAST-MODIFIED:20260413T224543Z
UID:10007688-1809792000-1809795600@mtangelpubliclibrary.com
SUMMARY:Hora del cuento bilingue / Bilingual Storytime
DESCRIPTION:¡Atrévete a acompañarnos para aprender juntos! A través de leer libros bilingües podríamos hacer lo. Después abría una actividad para la familia. Through bilingual books and activities\, we will learn simple words and phrases that help us communicate and grow together.
URL:https://mtangelpubliclibrary.com/event/creciendo-juntos-growing-together-storytime-2-2-4-2/2027-05-08/
CATEGORIES:Families with Preschoolers
END:VEVENT
BEGIN:VEVENT
DTSTART;TZID=America/Los_Angeles:20270511T120000
DTEND;TZID=America/Los_Angeles:20270511T130000
DTSTAMP:20260422T040028
CREATED:20240216T011510Z
LAST-MODIFIED:20241116T003642Z
UID:10002927-1810036800-1810040400@mtangelpubliclibrary.com
SUMMARY:APPY Hour
DESCRIPTION:Tuesdays\, Noon-1:00: APPY Hour (All ages): Need help with your device? Drop in for some technical assistance from our friendly library staff. Or call 971-370-5040 to make an appointment for a one-on-one session.
URL:https://mtangelpubliclibrary.com/event/appy-hour-45/2027-05-11/
END:VEVENT
BEGIN:VEVENT
DTSTART;TZID=America/Los_Angeles:20270512T103000
DTEND;TZID=America/Los_Angeles:20270512T114500
DTSTAMP:20260422T040028
CREATED:20250618T175932Z
LAST-MODIFIED:20260323T181157Z
UID:10004971-1810117800-1810122300@mtangelpubliclibrary.com
SUMMARY:Family Storytime & Indoor Playtime
DESCRIPTION:Family Storytime & Indoor Playtime Adventure\n \nJoin us for Family Storytime\, where songs\, captivating tales\, and creative crafts come together to spark joy and imagination. After the stories\, the fun continues with Indoor Playtime! Your little ones can explore a world of toys\, make new friends\, and let their imaginations run wild in our cozy play area. Perfect for children aged 2-5\, with all toys provided. \nWednesdays\, 10:30 – 11:45am\nAges 2-5 and their families \n 
URL:https://mtangelpubliclibrary.com/event/family-storytime-indoor-playtime-6-3-2/2027-05-12/
CATEGORIES:Families with Preschoolers
ATTACH;FMTTYPE=image/png:https://mtangelpubliclibrary.com/wp-content/uploads/2024/02/family-storytime.png
END:VEVENT
BEGIN:VEVENT
DTSTART;TZID=America/Los_Angeles:20270513T180000
DTEND;TZID=America/Los_Angeles:20270513T190000
DTSTAMP:20260422T040028
CREATED:20251218T004413Z
LAST-MODIFIED:20260323T182053Z
UID:10007418-1810231200-1810234800@mtangelpubliclibrary.com
SUMMARY:Writing Group
DESCRIPTION:Stretch your writing wings in a supportive environment with time for exploration\, illumination\, and idea exchange. Meets monthly every second Thursday.
URL:https://mtangelpubliclibrary.com/event/writing-group-2/2027-05-13/
CATEGORIES:Adults,Teens
END:VEVENT
BEGIN:VEVENT
DTSTART;TZID=America/Los_Angeles:20270514T150000
DTEND;TZID=America/Los_Angeles:20270514T170000
DTSTAMP:20260422T040028
CREATED:20260323T182530Z
LAST-MODIFIED:20260323T182530Z
UID:10007921-1810306800-1810314000@mtangelpubliclibrary.com
SUMMARY:Chess Club
DESCRIPTION:Learn how to play the Game of Kings (and Queens!) with friends of all ages in a calm\, relaxed environment. Meets monthly every second Friday.
URL:https://mtangelpubliclibrary.com/event/chess-club/2027-05-14/
CATEGORIES:All Ages
END:VEVENT
BEGIN:VEVENT
DTSTART;TZID=America/Los_Angeles:20270515T100000
DTEND;TZID=America/Los_Angeles:20270515T110000
DTSTAMP:20260422T040028
CREATED:20250527T200840Z
LAST-MODIFIED:20260106T220956Z
UID:10007037-1810375200-1810378800@mtangelpubliclibrary.com
SUMMARY:Sunshine Fitness
DESCRIPTION:Sunshine Fitness\nJoin us Saturday mornings for some light exercising together while we explore different types of workouts using follow-along videos. Signed waiver must be on file before participation. \nSaturdays\, 10am\nAdults & Teens
URL:https://mtangelpubliclibrary.com/event/sunshine-fitness-2-3-2-2/2027-05-15/
CATEGORIES:Adults,Teens
END:VEVENT
BEGIN:VEVENT
DTSTART;TZID=America/Los_Angeles:20270515T160000
DTEND;TZID=America/Los_Angeles:20270515T170000
DTSTAMP:20260422T040028
CREATED:20251015T000917Z
LAST-MODIFIED:20260413T224543Z
UID:10007689-1810396800-1810400400@mtangelpubliclibrary.com
SUMMARY:Hora del cuento bilingue / Bilingual Storytime
DESCRIPTION:¡Atrévete a acompañarnos para aprender juntos! A través de leer libros bilingües podríamos hacer lo. Después abría una actividad para la familia. Through bilingual books and activities\, we will learn simple words and phrases that help us communicate and grow together.
URL:https://mtangelpubliclibrary.com/event/creciendo-juntos-growing-together-storytime-2-2-4-2/2027-05-15/
CATEGORIES:Families with Preschoolers
END:VEVENT
BEGIN:VEVENT
DTSTART;TZID=America/Los_Angeles:20270518T120000
DTEND;TZID=America/Los_Angeles:20270518T130000
DTSTAMP:20260422T040028
CREATED:20240216T011510Z
LAST-MODIFIED:20241116T003642Z
UID:10002928-1810641600-1810645200@mtangelpubliclibrary.com
SUMMARY:APPY Hour
DESCRIPTION:Tuesdays\, Noon-1:00: APPY Hour (All ages): Need help with your device? Drop in for some technical assistance from our friendly library staff. Or call 971-370-5040 to make an appointment for a one-on-one session.
URL:https://mtangelpubliclibrary.com/event/appy-hour-45/2027-05-18/
END:VEVENT
BEGIN:VEVENT
DTSTART;TZID=America/Los_Angeles:20270519T103000
DTEND;TZID=America/Los_Angeles:20270519T114500
DTSTAMP:20260422T040028
CREATED:20250618T175932Z
LAST-MODIFIED:20260323T181157Z
UID:10004972-1810722600-1810727100@mtangelpubliclibrary.com
SUMMARY:Family Storytime & Indoor Playtime
DESCRIPTION:Family Storytime & Indoor Playtime Adventure\n \nJoin us for Family Storytime\, where songs\, captivating tales\, and creative crafts come together to spark joy and imagination. After the stories\, the fun continues with Indoor Playtime! Your little ones can explore a world of toys\, make new friends\, and let their imaginations run wild in our cozy play area. Perfect for children aged 2-5\, with all toys provided. \nWednesdays\, 10:30 – 11:45am\nAges 2-5 and their families \n 
URL:https://mtangelpubliclibrary.com/event/family-storytime-indoor-playtime-6-3-2/2027-05-19/
CATEGORIES:Families with Preschoolers
ATTACH;FMTTYPE=image/png:https://mtangelpubliclibrary.com/wp-content/uploads/2024/02/family-storytime.png
END:VEVENT
BEGIN:VEVENT
DTSTART;TZID=America/Los_Angeles:20270522T100000
DTEND;TZID=America/Los_Angeles:20270522T110000
DTSTAMP:20260422T040028
CREATED:20250527T200840Z
LAST-MODIFIED:20260106T220956Z
UID:10007038-1810980000-1810983600@mtangelpubliclibrary.com
SUMMARY:Sunshine Fitness
DESCRIPTION:Sunshine Fitness\nJoin us Saturday mornings for some light exercising together while we explore different types of workouts using follow-along videos. Signed waiver must be on file before participation. \nSaturdays\, 10am\nAdults & Teens
URL:https://mtangelpubliclibrary.com/event/sunshine-fitness-2-3-2-2/2027-05-22/
CATEGORIES:Adults,Teens
END:VEVENT
BEGIN:VEVENT
DTSTART;TZID=America/Los_Angeles:20270522T160000
DTEND;TZID=America/Los_Angeles:20270522T170000
DTSTAMP:20260422T040028
CREATED:20251015T000917Z
LAST-MODIFIED:20260413T224543Z
UID:10007690-1811001600-1811005200@mtangelpubliclibrary.com
SUMMARY:Hora del cuento bilingue / Bilingual Storytime
DESCRIPTION:¡Atrévete a acompañarnos para aprender juntos! A través de leer libros bilingües podríamos hacer lo. Después abría una actividad para la familia. Through bilingual books and activities\, we will learn simple words and phrases that help us communicate and grow together.
URL:https://mtangelpubliclibrary.com/event/creciendo-juntos-growing-together-storytime-2-2-4-2/2027-05-22/
CATEGORIES:Families with Preschoolers
END:VEVENT
BEGIN:VEVENT
DTSTART;TZID=America/Los_Angeles:20270525T120000
DTEND;TZID=America/Los_Angeles:20270525T130000
DTSTAMP:20260422T040028
CREATED:20240216T011510Z
LAST-MODIFIED:20241116T003642Z
UID:10002929-1811246400-1811250000@mtangelpubliclibrary.com
SUMMARY:APPY Hour
DESCRIPTION:Tuesdays\, Noon-1:00: APPY Hour (All ages): Need help with your device? Drop in for some technical assistance from our friendly library staff. Or call 971-370-5040 to make an appointment for a one-on-one session.
URL:https://mtangelpubliclibrary.com/event/appy-hour-45/2027-05-25/
END:VEVENT
BEGIN:VEVENT
DTSTART;TZID=America/Los_Angeles:20270526T103000
DTEND;TZID=America/Los_Angeles:20270526T114500
DTSTAMP:20260422T040028
CREATED:20250618T175932Z
LAST-MODIFIED:20260323T181157Z
UID:10004973-1811327400-1811331900@mtangelpubliclibrary.com
SUMMARY:Family Storytime & Indoor Playtime
DESCRIPTION:Family Storytime & Indoor Playtime Adventure\n \nJoin us for Family Storytime\, where songs\, captivating tales\, and creative crafts come together to spark joy and imagination. After the stories\, the fun continues with Indoor Playtime! Your little ones can explore a world of toys\, make new friends\, and let their imaginations run wild in our cozy play area. Perfect for children aged 2-5\, with all toys provided. \nWednesdays\, 10:30 – 11:45am\nAges 2-5 and their families \n 
URL:https://mtangelpubliclibrary.com/event/family-storytime-indoor-playtime-6-3-2/2027-05-26/
CATEGORIES:Families with Preschoolers
ATTACH;FMTTYPE=image/png:https://mtangelpubliclibrary.com/wp-content/uploads/2024/02/family-storytime.png
END:VEVENT
BEGIN:VEVENT
DTSTART;TZID=America/Los_Angeles:20270529T100000
DTEND;TZID=America/Los_Angeles:20270529T110000
DTSTAMP:20260422T040028
CREATED:20250527T200840Z
LAST-MODIFIED:20260106T220956Z
UID:10007039-1811584800-1811588400@mtangelpubliclibrary.com
SUMMARY:Sunshine Fitness
DESCRIPTION:Sunshine Fitness\nJoin us Saturday mornings for some light exercising together while we explore different types of workouts using follow-along videos. Signed waiver must be on file before participation. \nSaturdays\, 10am\nAdults & Teens
URL:https://mtangelpubliclibrary.com/event/sunshine-fitness-2-3-2-2/2027-05-29/
CATEGORIES:Adults,Teens
END:VEVENT
END:VCALENDAR