BEGIN:VCALENDAR
VERSION:2.0
PRODID:-//Mt. Angel Public Library - ECPv6.15.20//NONSGML v1.0//EN
CALSCALE:GREGORIAN
METHOD:PUBLISH
X-WR-CALNAME:Mt. Angel Public Library
X-ORIGINAL-URL:https://mtangelpubliclibrary.com
X-WR-CALDESC:Events for Mt. Angel Public Library
REFRESH-INTERVAL;VALUE=DURATION:PT1H
X-Robots-Tag:noindex
X-PUBLISHED-TTL:PT1H
BEGIN:VTIMEZONE
TZID:America/Los_Angeles
BEGIN:DAYLIGHT
TZOFFSETFROM:-0800
TZOFFSETTO:-0700
TZNAME:PDT
DTSTART:20210314T100000
END:DAYLIGHT
BEGIN:STANDARD
TZOFFSETFROM:-0700
TZOFFSETTO:-0800
TZNAME:PST
DTSTART:20211107T090000
END:STANDARD
BEGIN:DAYLIGHT
TZOFFSETFROM:-0800
TZOFFSETTO:-0700
TZNAME:PDT
DTSTART:20220313T100000
END:DAYLIGHT
BEGIN:STANDARD
TZOFFSETFROM:-0700
TZOFFSETTO:-0800
TZNAME:PST
DTSTART:20221106T090000
END:STANDARD
BEGIN:DAYLIGHT
TZOFFSETFROM:-0800
TZOFFSETTO:-0700
TZNAME:PDT
DTSTART:20230312T100000
END:DAYLIGHT
BEGIN:STANDARD
TZOFFSETFROM:-0700
TZOFFSETTO:-0800
TZNAME:PST
DTSTART:20231105T090000
END:STANDARD
END:VTIMEZONE
BEGIN:VEVENT
DTSTART;TZID=America/Los_Angeles:20221012T130000
DTEND;TZID=America/Los_Angeles:20221012T143000
DTSTAMP:20260422T040028
CREATED:20220930T181640Z
LAST-MODIFIED:20220930T181640Z
UID:10002183-1665579600-1665585000@mtangelpubliclibrary.com
SUMMARY:Halloween Nail String Art (Adults)
DESCRIPTION:Wednesday\, Oct 12 @ 1:00— Adult Crafts: Halloween Nail Art: Tap into your creativity and holiday spirit by making Halloween themed nail & string art!
URL:https://mtangelpubliclibrary.com/event/halloween-nail-string-art-adults/
CATEGORIES:Adults,Senior Adults
END:VEVENT
BEGIN:VEVENT
DTSTART;TZID=America/Los_Angeles:20221011T153000
DTEND;TZID=America/Los_Angeles:20221011T170000
DTSTAMP:20260422T040028
CREATED:20220930T180524Z
LAST-MODIFIED:20220930T180524Z
UID:10002166-1665502200-1665507600@mtangelpubliclibrary.com
SUMMARY:Stories and STEAM
DESCRIPTION:Tuesdays @ 3:30am—Stories & STEAM (Ages 6-12): Listen to a story about the theme of the week\, join in a Science\, Technology\, Engineering or Art project\, then make and enjoy a snack. \n10/4- Get in the Halloween spirit by making your own Jack-o-lantern out of a glass jar! \n10/11- Let’s talk about germs! Learn how germs spread and sculpt your own with play-dough! \n10/18- Join us for cookie decorating and baking tips! \n10/25- Come make some Halloween crafts with us and listen to a fun spooky book!
URL:https://mtangelpubliclibrary.com/event/stories-and-steam-2/
CATEGORIES:Ages 5-11
END:VEVENT
BEGIN:VEVENT
DTSTART;TZID=America/Los_Angeles:20221011T103000
DTEND;TZID=America/Los_Angeles:20221011T120000
DTSTAMP:20260422T040028
CREATED:20220930T180106Z
LAST-MODIFIED:20220930T180106Z
UID:10002157-1665484200-1665489600@mtangelpubliclibrary.com
SUMMARY:Community Helpers Storytime and Indoor Playtime
DESCRIPTION:Tuesdays @ 10:30am—Community Helpers Family Storytime & Indoor Playtime (Ages 2-5 & family members) (Bilingual on Oct. 25): Gather in person to participate in songs\, activities and stories with a special guest reader\, followed by Indoor Playtime (11:00-12:00). Come play with toys and spend time with friends.  All toys provided.  Can’t make it to the storytime? Recordings will be posted on READsquared at http://mtangelreads.readsquared.com/ to enjoy whenever is best for your family!
URL:https://mtangelpubliclibrary.com/event/community-helpers-storytime-and-indoor-playtime-10/
CATEGORIES:Families with Preschoolers
END:VEVENT
BEGIN:VEVENT
DTSTART;TZID=America/Los_Angeles:20221007T181500
DTEND;TZID=America/Los_Angeles:20221007T203000
DTSTAMP:20260422T040028
CREATED:20220930T181938Z
LAST-MODIFIED:20220930T183012Z
UID:10002185-1665166500-1665174600@mtangelpubliclibrary.com
SUMMARY:Family Movie Night @ St. Mary's Elem
DESCRIPTION:Friday\, Oct. 7 @ 6:15—Family Movie Night @ St. Mary’s Elementary School (Families): Celebrate Hispanic Heritage Month with food\, fun\, and Encanto (PG).
URL:https://mtangelpubliclibrary.com/event/family-movie-night/
LOCATION:St. Mary’s Elementary School\, 590 E College St.\, Mt. Angel\, OR\, 97362\, United States
CATEGORIES:Families
END:VEVENT
BEGIN:VEVENT
DTSTART;TZID=America/Los_Angeles:20221006T180000
DTEND;TZID=America/Los_Angeles:20221006T193000
DTSTAMP:20260422T040028
CREATED:20220930T181338Z
LAST-MODIFIED:20220930T181351Z
UID:10002180-1665079200-1665084600@mtangelpubliclibrary.com
SUMMARY:Paint Night (Adults)
DESCRIPTION:Thursday\, October 6 @ 4:30 (Teens & Tweens) 6:00 (Adults) — Paint Night +. Paint an autumn scene in a step-by-step class led by our own Katie! All supplies provided. Space is limited so registration is required. \nNOTE: Parents and teens may attend the 6:00 session together.
URL:https://mtangelpubliclibrary.com/event/paint-night-adults/
CATEGORIES:Adults,Registration required,Senior Adults
END:VEVENT
BEGIN:VEVENT
DTSTART;TZID=America/Los_Angeles:20221006T163000
DTEND;TZID=America/Los_Angeles:20221006T173000
DTSTAMP:20260422T040028
CREATED:20220930T181246Z
LAST-MODIFIED:20220930T181246Z
UID:10002179-1665073800-1665077400@mtangelpubliclibrary.com
SUMMARY:Paint Night (Teens/tweens)
DESCRIPTION:Thursday\, October 6 @ 4:30 (Teens & Tweens) 6:00 (Adults) — Paint Night +. Paint an autumn scene in a step-by-step class led by our own Katie! All supplies provided. Space is limited so registration is required. \nNOTE: Parents and teens may attend the 6:00 session together.
URL:https://mtangelpubliclibrary.com/event/paint-night-teens-tweens/
CATEGORIES:Registration required,Teens,Tweens
END:VEVENT
BEGIN:VEVENT
DTSTART;TZID=America/Los_Angeles:20221006T130000
DTEND;TZID=America/Los_Angeles:20221006T150000
DTSTAMP:20260422T040028
CREATED:20220930T181057Z
LAST-MODIFIED:20220930T181057Z
UID:10002178-1665061200-1665068400@mtangelpubliclibrary.com
SUMMARY:Windows 10 Basics
DESCRIPTION:Thursday\, October 6 @ 1:00pm—Windows 10 Basics+. Gather in a small group to learn how to navigate the Windows 10 operating system\, manage applications using the task manager\, find and manage files and folders\, save and delete files and more. Owning a computer is not required. Space is limited so registration is required. Call 503.845.6401 to reserve your spot today!
URL:https://mtangelpubliclibrary.com/event/windows-10-basics/
CATEGORIES:Adults,Registration required,Senior Adults
END:VEVENT
BEGIN:VEVENT
DTSTART;TZID=America/Los_Angeles:20221005T150000
DTEND;TZID=America/Los_Angeles:20221005T170000
DTSTAMP:20260422T040028
CREATED:20220930T180735Z
LAST-MODIFIED:20220930T180735Z
UID:10002173-1664982000-1664989200@mtangelpubliclibrary.com
SUMMARY:STEM Girls
DESCRIPTION:Wednesdays @ 3:00– STEM Girls (1st & 3rd) STEM Guys (2nd & 4th) (Grades 5-8). Become a Bird Scout Citizen Scientist!  Explore feathers\, flights and the features that make birds unique. Use tools and technology to identify local species and help scientists track changes in bird distribution and abundance across the globe! Every session includes hands-on activities and active research. Snacks provided.
URL:https://mtangelpubliclibrary.com/event/stem-girls/
CATEGORIES:Teens,Tweens
END:VEVENT
BEGIN:VEVENT
DTSTART;TZID=America/Los_Angeles:20221004T153000
DTEND;TZID=America/Los_Angeles:20221004T163000
DTSTAMP:20260422T040028
CREATED:20220930T180445Z
LAST-MODIFIED:20220930T180445Z
UID:10002163-1664897400-1664901000@mtangelpubliclibrary.com
SUMMARY:Stories and STEAM
DESCRIPTION:Tuesdays @ 3:30am—Stories & STEAM (Ages 6-12): Listen to a story about the theme of the week\, join in a Science\, Technology\, Engineering or Art project\, then make and enjoy a snack. \n10/4- Get in the Halloween spirit by making your own Jack-o-lantern out of a glass jar! \n10/11- Let’s talk about germs! Learn how germs spread and sculpt your own with play-dough! \n10/18- Join us for cookie decorating and baking tips! \n10/25- Come make some Halloween crafts with us and listen to a fun spooky book!
URL:https://mtangelpubliclibrary.com/event/stories-and-steam/
CATEGORIES:Ages 5-11
END:VEVENT
BEGIN:VEVENT
DTSTART;TZID=America/Los_Angeles:20221004T103000
DTEND;TZID=America/Los_Angeles:20221004T120000
DTSTAMP:20260422T040028
CREATED:20220930T180022Z
LAST-MODIFIED:20220930T180022Z
UID:10002156-1664879400-1664884800@mtangelpubliclibrary.com
SUMMARY:Community Helpers Storytime and Indoor Playtime
DESCRIPTION:Tuesdays @ 10:30am—Community Helpers Family Storytime & Indoor Playtime (Ages 2-5 & family members) (Bilingual on Oct. 25): Gather in person to participate in songs\, activities and stories with a special guest reader\, followed by Indoor Playtime (11:00-12:00). Come play with toys and spend time with friends.  All toys provided.  Can’t make it to the storytime? Recordings will be posted on READsquared at http://mtangelreads.readsquared.com/ to enjoy whenever is best for your family!
URL:https://mtangelpubliclibrary.com/event/community-helpers-storytime-and-indoor-playtime-9/
CATEGORIES:Families with Preschoolers
END:VEVENT
BEGIN:VEVENT
DTSTART;TZID=America/Los_Angeles:20220929T150000
DTEND;TZID=America/Los_Angeles:20220929T183000
DTSTAMP:20260422T040028
CREATED:20220819T204353Z
LAST-MODIFIED:20220819T204353Z
UID:10002155-1664463600-1664476200@mtangelpubliclibrary.com
SUMMARY:Virtual Reality
DESCRIPTION:Thursday\, Sept. 29 @ 3:00-6:30— Virtual Reality + (Teens & Adults): Book your 30-minute slot to experience one of our virtual reality programs. Signed release must be on record. Call 503.845.6401 to reserve your spot or for more info. \n 
URL:https://mtangelpubliclibrary.com/event/virtual-reality-4/
CATEGORIES:Adults,Teens
END:VEVENT
BEGIN:VEVENT
DTSTART;TZID=America/Los_Angeles:20220928T130000
DTEND;TZID=America/Los_Angeles:20220928T163000
DTSTAMP:20260422T040028
CREATED:20220819T204247Z
LAST-MODIFIED:20220819T204247Z
UID:10001824-1664370000-1664382600@mtangelpubliclibrary.com
SUMMARY:Halloween Card Making
DESCRIPTION:Wednesday\, Sept. 28 @ 1:00 (Adults) & 3:30 (Teens & Tweens)—Halloween Card Making: Create \nboo-ti-ful handmade Halloween cards using our ghoulish supply of rubber stamps and creepy decorative paper. All supplies provided.
URL:https://mtangelpubliclibrary.com/event/halloween-card-making/
CATEGORIES:Adults,Teens,Tweens
END:VEVENT
BEGIN:VEVENT
DTSTART;TZID=America/Los_Angeles:20220927T153000
DTEND;TZID=America/Los_Angeles:20220927T170000
DTSTAMP:20260422T040028
CREATED:20220819T202106Z
LAST-MODIFIED:20220819T202106Z
UID:10002153-1664292600-1664298000@mtangelpubliclibrary.com
SUMMARY:Stories & STEAM
DESCRIPTION:Tuesdays @ 3:30am—Stories & STEAM (Ages 6-12): Listen to a story about the theme of the week\, join in a Science\, Technology\, Engineering or Art project\, then make and enjoy a snack. \n9/6- Join us on a bear hunt through the library and make a cute bear craft! \n9/13- Oktoberfest crafts\, history\, and a classic German storybook translated to English! \n9/20- DIY lava lamps! Learn about liquids and density and take home your own lava lamp! \n9/27- What is a Caldecott award? Learn about children storybook awards and read some of the best!
URL:https://mtangelpubliclibrary.com/event/stories-steam-6/
CATEGORIES:Ages 5-11
END:VEVENT
BEGIN:VEVENT
DTSTART;TZID=America/Los_Angeles:20220927T110000
DTEND;TZID=America/Los_Angeles:20220927T120000
DTSTAMP:20260422T040028
CREATED:20220819T201855Z
LAST-MODIFIED:20220819T202338Z
UID:10002150-1664276400-1664280000@mtangelpubliclibrary.com
SUMMARY:Indoor Playtime
DESCRIPTION:Tuesdays  Indoor Playtime (11:00-12:00). Come play with toys and spend time with friends.  All toys provided.
URL:https://mtangelpubliclibrary.com/event/indoor-playtime-4/
CATEGORIES:Families with Preschoolers
END:VEVENT
BEGIN:VEVENT
DTSTART;TZID=America/Los_Angeles:20220927T103000
DTEND;TZID=America/Los_Angeles:20220927T110000
DTSTAMP:20260422T040028
CREATED:20220819T201333Z
LAST-MODIFIED:20220819T202417Z
UID:10002146-1664274600-1664276400@mtangelpubliclibrary.com
SUMMARY:Community Helpers Storytime
DESCRIPTION:Tuesdays @ 10:30am—Community Helpers Family Storytime & Indoor Playtime (Ages 2-5 & family members): Gather in person to participate in songs\, activities and stories with a special guest reader\, followed by Indoor Playtime (11:00-12:00). Come play with toys and spend time with friends.  All toys provided.  Can’t make it to the storytime? Recordings will be posted on READsquared at http://mtangelreads.readsquared.com/ to enjoy whenever is best for your family!
URL:https://mtangelpubliclibrary.com/event/community-helpers-storytime-4/
CATEGORIES:Families with Preschoolers
END:VEVENT
BEGIN:VEVENT
DTSTART;TZID=America/Los_Angeles:20220924T130000
DTEND;TZID=America/Los_Angeles:20220924T150000
DTSTAMP:20260422T040028
CREATED:20220819T204043Z
LAST-MODIFIED:20220819T204043Z
UID:10001820-1664024400-1664031600@mtangelpubliclibrary.com
SUMMARY:Providence Benedictine Health Fair
DESCRIPTION:Saturday\, Sept. 24\, 1:00-3:00 (drop-in)—Providence Benedictine Health Fair: Happy “Healthy Aging Month” from Providence Benedictine! Join us for a day clinic in the Community Room at Mt. Angel Public Library. We will be hosting blood pressure checks\, balance coaching\, diabetes/hypertension education and more! We’ll also provide healthy eating shopping lists\, yummy recipes and job opportunities. Spend your Saturday afternoon with dietitians\, nurses and rehab therapists from the community who care about your wellbeing. Learn more about Providence Benedictine and this fun clinic by calling 503-845-6841. See you there!
URL:https://mtangelpubliclibrary.com/event/providence-benedictine-health-fair/
CATEGORIES:All Ages,Senior Adults
END:VEVENT
BEGIN:VEVENT
DTSTART;TZID=America/Los_Angeles:20220922T163000
DTEND;TZID=America/Los_Angeles:20220922T190000
DTSTAMP:20260422T040028
CREATED:20220819T203948Z
LAST-MODIFIED:20220819T203948Z
UID:10001818-1663864200-1663873200@mtangelpubliclibrary.com
SUMMARY:Teen Movie Night
DESCRIPTION:Thursday\, Sept. 22 @ 4:30—Teen Movie Night (Middle & High School): Watch the first Twilight (PG-13) movie on the big screen while enjoying popcorn and soda!
URL:https://mtangelpubliclibrary.com/event/teen-movie-night/
CATEGORIES:Teens,Tweens
END:VEVENT
BEGIN:VEVENT
DTSTART;TZID=America/Los_Angeles:20220922T130000
DTEND;TZID=America/Los_Angeles:20220922T140000
DTSTAMP:20260422T040028
CREATED:20220819T203824Z
LAST-MODIFIED:20220819T203824Z
UID:10001816-1663851600-1663855200@mtangelpubliclibrary.com
SUMMARY:Adult Book Discussion
DESCRIPTION:Thursday\, Sept. 22 @ 1:00—Adult Book Discussion: Gather to discuss The Little Paris Bookshop by Nina George. Copies are available at the library. Everyone welcome.
URL:https://mtangelpubliclibrary.com/event/adult-book-discussion-4/
CATEGORIES:Adults
END:VEVENT
BEGIN:VEVENT
DTSTART;TZID=America/Los_Angeles:20220920T153000
DTEND;TZID=America/Los_Angeles:20220920T170000
DTSTAMP:20260422T040028
CREATED:20220819T202907Z
LAST-MODIFIED:20220819T202907Z
UID:10002154-1663687800-1663693200@mtangelpubliclibrary.com
SUMMARY:Stories & STEAM
DESCRIPTION:Tuesdays @ 3:30am—Stories & STEAM (Ages 6-12): Listen to a story about the theme of the week\, join in a Science\, Technology\, Engineering or Art project\, then make and enjoy a snack. \n9/6- Join us on a bear hunt through the library and make a cute bear craft! \n9/13- Oktoberfest crafts\, history\, and a classic German storybook translated to English! \n9/20- DIY lava lamps! Learn about liquids and density and take home your own lava lamp! \n9/27- What is a Caldecott award? Learn about children storybook awards and read some of the best!
URL:https://mtangelpubliclibrary.com/event/stories-steam-7/
CATEGORIES:Ages 5-11
END:VEVENT
BEGIN:VEVENT
DTSTART;TZID=America/Los_Angeles:20220920T110000
DTEND;TZID=America/Los_Angeles:20220920T120000
DTSTAMP:20260422T040028
CREATED:20220819T201542Z
LAST-MODIFIED:20220819T202559Z
UID:10002149-1663671600-1663675200@mtangelpubliclibrary.com
SUMMARY:Indoor Playtime
DESCRIPTION:Tuesdays  Indoor Playtime (11:00-12:00). Come play with toys and spend time with friends.  All toys provided.
URL:https://mtangelpubliclibrary.com/event/indoor-playtime-3/
END:VEVENT
BEGIN:VEVENT
DTSTART;TZID=America/Los_Angeles:20220920T103000
DTEND;TZID=America/Los_Angeles:20220920T110000
DTSTAMP:20260422T040028
CREATED:20220819T201251Z
LAST-MODIFIED:20220819T201251Z
UID:10002145-1663669800-1663671600@mtangelpubliclibrary.com
SUMMARY:Community Helpers Storytime
DESCRIPTION:Tuesdays @ 10:30am—Community Helpers Family Storytime & Indoor Playtime (Ages 2-5 & family members): Gather in person to participate in songs\, activities and stories with a special guest reader\, followed by Indoor Playtime (11:00-12:00). Come play with toys and spend time with friends.  All toys provided.  Can’t make it to the storytime? Recordings will be posted on READsquared at http://mtangelreads.readsquared.com/ to enjoy whenever is best for your family!
URL:https://mtangelpubliclibrary.com/event/community-helpers-storytime-3/
CATEGORIES:Families with Preschoolers
END:VEVENT
BEGIN:VEVENT
DTSTART;VALUE=DATE:20220914
DTEND;VALUE=DATE:20220920
DTSTAMP:20260422T040028
CREATED:20220819T203650Z
LAST-MODIFIED:20220819T203650Z
UID:10001814-1663113600-1663631999@mtangelpubliclibrary.com
SUMMARY:Closed for Oktoberfest
DESCRIPTION:
URL:https://mtangelpubliclibrary.com/event/closed-for-oktoberfest/
END:VEVENT
BEGIN:VEVENT
DTSTART;TZID=America/Los_Angeles:20220913T153000
DTEND;TZID=America/Los_Angeles:20220913T170000
DTSTAMP:20260422T040028
CREATED:20220819T202024Z
LAST-MODIFIED:20220819T202024Z
UID:10002152-1663083000-1663088400@mtangelpubliclibrary.com
SUMMARY:Stories & STEAM
DESCRIPTION:Tuesdays @ 3:30am—Stories & STEAM (Ages 6-12): Listen to a story about the theme of the week\, join in a Science\, Technology\, Engineering or Art project\, then make and enjoy a snack. \n9/6- Join us on a bear hunt through the library and make a cute bear craft! \n9/13- Oktoberfest crafts\, history\, and a classic German storybook translated to English! \n9/20- DIY lava lamps! Learn about liquids and density and take home your own lava lamp! \n9/27- What is a Caldecott award? Learn about children storybook awards and read some of the best!
URL:https://mtangelpubliclibrary.com/event/stories-steam-5/
CATEGORIES:Ages 5-11
END:VEVENT
BEGIN:VEVENT
DTSTART;TZID=America/Los_Angeles:20220913T110000
DTEND;TZID=America/Los_Angeles:20220913T120000
DTSTAMP:20260422T040028
CREATED:20220819T201502Z
LAST-MODIFIED:20220819T202514Z
UID:10002148-1663066800-1663070400@mtangelpubliclibrary.com
SUMMARY:Indoor Playtime
DESCRIPTION:Tuesdays  Indoor Playtime (11:00-12:00). Come play with toys and spend time with friends.  All toys provided.
URL:https://mtangelpubliclibrary.com/event/indoor-playtime-2/
END:VEVENT
BEGIN:VEVENT
DTSTART;TZID=America/Los_Angeles:20220913T103000
DTEND;TZID=America/Los_Angeles:20220913T103000
DTSTAMP:20260422T040028
CREATED:20220819T201115Z
LAST-MODIFIED:20220819T201115Z
UID:10002144-1663065000-1663065000@mtangelpubliclibrary.com
SUMMARY:Community Helpers Storytime
DESCRIPTION:Tuesdays @ 10:30am—Community Helpers Family Storytime & Indoor Playtime (Ages 2-5 & family members): Gather in person to participate in songs\, activities and stories with a special guest reader\, followed by Indoor Playtime (11:00-12:00). Come play with toys and spend time with friends.  All toys provided.  Can’t make it to the storytime? Recordings will be posted on READsquared at http://mtangelreads.readsquared.com/ to enjoy whenever is best for your family!
URL:https://mtangelpubliclibrary.com/event/community-helpers-storytime-2/
CATEGORIES:Families with Preschoolers
END:VEVENT
BEGIN:VEVENT
DTSTART;VALUE=DATE:20220910
DTEND;VALUE=DATE:20220911
DTSTAMP:20260422T040028
CREATED:20220819T203614Z
LAST-MODIFIED:20220819T203614Z
UID:10001813-1662768000-1662854399@mtangelpubliclibrary.com
SUMMARY:Closed for Oktoberfest Dance Rehearsal
DESCRIPTION:
URL:https://mtangelpubliclibrary.com/event/closed-for-oktoberfest-dance-rehearsal/
END:VEVENT
BEGIN:VEVENT
DTSTART;TZID=America/Los_Angeles:20220909T170000
DTEND;TZID=America/Los_Angeles:20220909T193000
DTSTAMP:20260422T040028
CREATED:20220819T203534Z
LAST-MODIFIED:20220819T203534Z
UID:10001811-1662742800-1662751800@mtangelpubliclibrary.com
SUMMARY:Sidewalk Chalk Festival
DESCRIPTION:Friday\, Sept. 9\, 5:00-7:30 (drop-in)—Sidewalk Chalk Festival (All ages): Create a masterpiece out of chalk! People of all ages and skill levels are invited to decorate a square of sidewalk on Charles St. using chalk and a lot of imagination! All supplies provided. Sign in @ the Library to receive your assigned space and chalk.
URL:https://mtangelpubliclibrary.com/event/sidewalk-chalk-festival-2/
CATEGORIES:All Ages
END:VEVENT
BEGIN:VEVENT
DTSTART;TZID=America/Los_Angeles:20220908T130000
DTEND;TZID=America/Los_Angeles:20220908T143000
DTSTAMP:20260422T040028
CREATED:20220819T203426Z
LAST-MODIFIED:20220819T203426Z
UID:10001809-1662642000-1662647400@mtangelpubliclibrary.com
SUMMARY:Internet Basics
DESCRIPTION:Thursday\, Sept. 8 @ 1:00—Internet Basics +: Gather in a small group to learn the basics of using the internet.  This in-person workshop is for those who are new to the internet or want to build more confidence finding information online and navigating websites. Attendees will learn about web browsers and search engines\, build skills to navigate the internet\, and discover tips and tricks for basic and advanced searching online. Owning a computer is not required. Space is limited so registration is required. Call 503.845.6401 to reserve your spot today!
URL:https://mtangelpubliclibrary.com/event/internet-basics/
CATEGORIES:Adults,Senior Adults
END:VEVENT
BEGIN:VEVENT
DTSTART;TZID=America/Los_Angeles:20220907T130000
DTEND;TZID=America/Los_Angeles:20220907T143000
DTSTAMP:20260422T040028
CREATED:20220819T203003Z
LAST-MODIFIED:20220819T203003Z
UID:10001807-1662555600-1662561000@mtangelpubliclibrary.com
SUMMARY:Adult Crafts
DESCRIPTION:Wednesday\, Sept. 7 @ 1:00—Adult Crafts: Recycled Magazine Bowl: Create a beautiful decorative bowl made out of recycled magazines. All supplies provided.
URL:https://mtangelpubliclibrary.com/event/adult-crafts/
CATEGORIES:Adults
END:VEVENT
BEGIN:VEVENT
DTSTART;TZID=America/Los_Angeles:20220906T153000
DTEND;TZID=America/Los_Angeles:20220906T170000
DTSTAMP:20260422T040028
CREATED:20220819T201947Z
LAST-MODIFIED:20220819T201947Z
UID:10002151-1662478200-1662483600@mtangelpubliclibrary.com
SUMMARY:Stories & STEAM
DESCRIPTION:Tuesdays @ 3:30am—Stories & STEAM (Ages 6-12): Listen to a story about the theme of the week\, join in a Science\, Technology\, Engineering or Art project\, then make and enjoy a snack. \n9/6- Join us on a bear hunt through the library and make a cute bear craft! \n9/13- Oktoberfest crafts\, history\, and a classic German storybook translated to English! \n9/20- DIY lava lamps! Learn about liquids and density and take home your own lava lamp! \n9/27- What is a Caldecott award? Learn about children storybook awards and read some of the best!
URL:https://mtangelpubliclibrary.com/event/stories-steam-4/
CATEGORIES:Ages 5-11
END:VEVENT
END:VCALENDAR