BEGIN:VCALENDAR
VERSION:2.0
PRODID:-//Mt. Angel Public Library - ECPv6.15.20//NONSGML v1.0//EN
CALSCALE:GREGORIAN
METHOD:PUBLISH
X-ORIGINAL-URL:https://mtangelpubliclibrary.com
X-WR-CALDESC:Events for Mt. Angel Public Library
REFRESH-INTERVAL;VALUE=DURATION:PT1H
X-Robots-Tag:noindex
X-PUBLISHED-TTL:PT1H
BEGIN:VTIMEZONE
TZID:America/Los_Angeles
BEGIN:DAYLIGHT
TZOFFSETFROM:-0800
TZOFFSETTO:-0700
TZNAME:PDT
DTSTART:20260308T100000
END:DAYLIGHT
BEGIN:STANDARD
TZOFFSETFROM:-0700
TZOFFSETTO:-0800
TZNAME:PST
DTSTART:20261101T090000
END:STANDARD
BEGIN:DAYLIGHT
TZOFFSETFROM:-0800
TZOFFSETTO:-0700
TZNAME:PDT
DTSTART:20270314T100000
END:DAYLIGHT
BEGIN:STANDARD
TZOFFSETFROM:-0700
TZOFFSETTO:-0800
TZNAME:PST
DTSTART:20271107T090000
END:STANDARD
BEGIN:DAYLIGHT
TZOFFSETFROM:-0800
TZOFFSETTO:-0700
TZNAME:PDT
DTSTART:20280312T100000
END:DAYLIGHT
BEGIN:STANDARD
TZOFFSETFROM:-0700
TZOFFSETTO:-0800
TZNAME:PST
DTSTART:20281105T090000
END:STANDARD
END:VTIMEZONE
BEGIN:VEVENT
DTSTART;TZID=America/Los_Angeles:20270109T100000
DTEND;TZID=America/Los_Angeles:20270109T110000
DTSTAMP:20260422T025659
CREATED:20250527T200840Z
LAST-MODIFIED:20260106T220956Z
UID:10007019-1799488800-1799492400@mtangelpubliclibrary.com
SUMMARY:Sunshine Fitness
DESCRIPTION:Sunshine Fitness\nJoin us Saturday mornings for some light exercising together while we explore different types of workouts using follow-along videos. Signed waiver must be on file before participation. \nSaturdays\, 10am\nAdults & Teens
URL:https://mtangelpubliclibrary.com/event/sunshine-fitness-2-3-2-2/2027-01-09/
CATEGORIES:Adults,Teens
END:VEVENT
BEGIN:VEVENT
DTSTART;TZID=America/Los_Angeles:20270109T160000
DTEND;TZID=America/Los_Angeles:20270109T170000
DTSTAMP:20260422T025659
CREATED:20251015T000917Z
LAST-MODIFIED:20260413T224543Z
UID:10007671-1799510400-1799514000@mtangelpubliclibrary.com
SUMMARY:Hora del cuento bilingue / Bilingual Storytime
DESCRIPTION:¡Atrévete a acompañarnos para aprender juntos! A través de leer libros bilingües podríamos hacer lo. Después abría una actividad para la familia. Through bilingual books and activities\, we will learn simple words and phrases that help us communicate and grow together.
URL:https://mtangelpubliclibrary.com/event/creciendo-juntos-growing-together-storytime-2-2-4-2/2027-01-09/
CATEGORIES:Families with Preschoolers
END:VEVENT
BEGIN:VEVENT
DTSTART;TZID=America/Los_Angeles:20270112T120000
DTEND;TZID=America/Los_Angeles:20270112T130000
DTSTAMP:20260422T025659
CREATED:20240216T011510Z
LAST-MODIFIED:20241116T003642Z
UID:10002910-1799755200-1799758800@mtangelpubliclibrary.com
SUMMARY:APPY Hour
DESCRIPTION:Tuesdays\, Noon-1:00: APPY Hour (All ages): Need help with your device? Drop in for some technical assistance from our friendly library staff. Or call 971-370-5040 to make an appointment for a one-on-one session.
URL:https://mtangelpubliclibrary.com/event/appy-hour-45/2027-01-12/
END:VEVENT
BEGIN:VEVENT
DTSTART;TZID=America/Los_Angeles:20270113T103000
DTEND;TZID=America/Los_Angeles:20270113T114500
DTSTAMP:20260422T025659
CREATED:20250618T175932Z
LAST-MODIFIED:20260323T181157Z
UID:10004954-1799836200-1799840700@mtangelpubliclibrary.com
SUMMARY:Family Storytime & Indoor Playtime
DESCRIPTION:Family Storytime & Indoor Playtime Adventure\n \nJoin us for Family Storytime\, where songs\, captivating tales\, and creative crafts come together to spark joy and imagination. After the stories\, the fun continues with Indoor Playtime! Your little ones can explore a world of toys\, make new friends\, and let their imaginations run wild in our cozy play area. Perfect for children aged 2-5\, with all toys provided. \nWednesdays\, 10:30 – 11:45am\nAges 2-5 and their families \n 
URL:https://mtangelpubliclibrary.com/event/family-storytime-indoor-playtime-6-3-2/2027-01-13/
CATEGORIES:Families with Preschoolers
ATTACH;FMTTYPE=image/png:https://mtangelpubliclibrary.com/wp-content/uploads/2024/02/family-storytime.png
END:VEVENT
BEGIN:VEVENT
DTSTART;TZID=America/Los_Angeles:20270114T180000
DTEND;TZID=America/Los_Angeles:20270114T190000
DTSTAMP:20260422T025659
CREATED:20251218T004413Z
LAST-MODIFIED:20260323T182053Z
UID:10007414-1799949600-1799953200@mtangelpubliclibrary.com
SUMMARY:Writing Group
DESCRIPTION:Stretch your writing wings in a supportive environment with time for exploration\, illumination\, and idea exchange. Meets monthly every second Thursday.
URL:https://mtangelpubliclibrary.com/event/writing-group-2/2027-01-14/
CATEGORIES:Adults,Teens
END:VEVENT
BEGIN:VEVENT
DTSTART;TZID=America/Los_Angeles:20270116T100000
DTEND;TZID=America/Los_Angeles:20270116T110000
DTSTAMP:20260422T025659
CREATED:20250527T200840Z
LAST-MODIFIED:20260106T220956Z
UID:10007020-1800093600-1800097200@mtangelpubliclibrary.com
SUMMARY:Sunshine Fitness
DESCRIPTION:Sunshine Fitness\nJoin us Saturday mornings for some light exercising together while we explore different types of workouts using follow-along videos. Signed waiver must be on file before participation. \nSaturdays\, 10am\nAdults & Teens
URL:https://mtangelpubliclibrary.com/event/sunshine-fitness-2-3-2-2/2027-01-16/
CATEGORIES:Adults,Teens
END:VEVENT
BEGIN:VEVENT
DTSTART;TZID=America/Los_Angeles:20270116T160000
DTEND;TZID=America/Los_Angeles:20270116T170000
DTSTAMP:20260422T025659
CREATED:20251015T000917Z
LAST-MODIFIED:20260413T224543Z
UID:10007672-1800115200-1800118800@mtangelpubliclibrary.com
SUMMARY:Hora del cuento bilingue / Bilingual Storytime
DESCRIPTION:¡Atrévete a acompañarnos para aprender juntos! A través de leer libros bilingües podríamos hacer lo. Después abría una actividad para la familia. Through bilingual books and activities\, we will learn simple words and phrases that help us communicate and grow together.
URL:https://mtangelpubliclibrary.com/event/creciendo-juntos-growing-together-storytime-2-2-4-2/2027-01-16/
CATEGORIES:Families with Preschoolers
END:VEVENT
BEGIN:VEVENT
DTSTART;TZID=America/Los_Angeles:20270119T120000
DTEND;TZID=America/Los_Angeles:20270119T130000
DTSTAMP:20260422T025659
CREATED:20240216T011510Z
LAST-MODIFIED:20241116T003642Z
UID:10002911-1800360000-1800363600@mtangelpubliclibrary.com
SUMMARY:APPY Hour
DESCRIPTION:Tuesdays\, Noon-1:00: APPY Hour (All ages): Need help with your device? Drop in for some technical assistance from our friendly library staff. Or call 971-370-5040 to make an appointment for a one-on-one session.
URL:https://mtangelpubliclibrary.com/event/appy-hour-45/2027-01-19/
END:VEVENT
BEGIN:VEVENT
DTSTART;TZID=America/Los_Angeles:20270120T103000
DTEND;TZID=America/Los_Angeles:20270120T114500
DTSTAMP:20260422T025659
CREATED:20250618T175932Z
LAST-MODIFIED:20260323T181157Z
UID:10004955-1800441000-1800445500@mtangelpubliclibrary.com
SUMMARY:Family Storytime & Indoor Playtime
DESCRIPTION:Family Storytime & Indoor Playtime Adventure\n \nJoin us for Family Storytime\, where songs\, captivating tales\, and creative crafts come together to spark joy and imagination. After the stories\, the fun continues with Indoor Playtime! Your little ones can explore a world of toys\, make new friends\, and let their imaginations run wild in our cozy play area. Perfect for children aged 2-5\, with all toys provided. \nWednesdays\, 10:30 – 11:45am\nAges 2-5 and their families \n 
URL:https://mtangelpubliclibrary.com/event/family-storytime-indoor-playtime-6-3-2/2027-01-20/
CATEGORIES:Families with Preschoolers
ATTACH;FMTTYPE=image/png:https://mtangelpubliclibrary.com/wp-content/uploads/2024/02/family-storytime.png
END:VEVENT
BEGIN:VEVENT
DTSTART;TZID=America/Los_Angeles:20270123T100000
DTEND;TZID=America/Los_Angeles:20270123T110000
DTSTAMP:20260422T025659
CREATED:20250527T200840Z
LAST-MODIFIED:20260106T220956Z
UID:10007021-1800698400-1800702000@mtangelpubliclibrary.com
SUMMARY:Sunshine Fitness
DESCRIPTION:Sunshine Fitness\nJoin us Saturday mornings for some light exercising together while we explore different types of workouts using follow-along videos. Signed waiver must be on file before participation. \nSaturdays\, 10am\nAdults & Teens
URL:https://mtangelpubliclibrary.com/event/sunshine-fitness-2-3-2-2/2027-01-23/
CATEGORIES:Adults,Teens
END:VEVENT
BEGIN:VEVENT
DTSTART;TZID=America/Los_Angeles:20270123T160000
DTEND;TZID=America/Los_Angeles:20270123T170000
DTSTAMP:20260422T025659
CREATED:20251015T000917Z
LAST-MODIFIED:20260413T224543Z
UID:10007673-1800720000-1800723600@mtangelpubliclibrary.com
SUMMARY:Hora del cuento bilingue / Bilingual Storytime
DESCRIPTION:¡Atrévete a acompañarnos para aprender juntos! A través de leer libros bilingües podríamos hacer lo. Después abría una actividad para la familia. Through bilingual books and activities\, we will learn simple words and phrases that help us communicate and grow together.
URL:https://mtangelpubliclibrary.com/event/creciendo-juntos-growing-together-storytime-2-2-4-2/2027-01-23/
CATEGORIES:Families with Preschoolers
END:VEVENT
BEGIN:VEVENT
DTSTART;TZID=America/Los_Angeles:20270126T120000
DTEND;TZID=America/Los_Angeles:20270126T130000
DTSTAMP:20260422T025659
CREATED:20240216T011510Z
LAST-MODIFIED:20241116T003642Z
UID:10002912-1800964800-1800968400@mtangelpubliclibrary.com
SUMMARY:APPY Hour
DESCRIPTION:Tuesdays\, Noon-1:00: APPY Hour (All ages): Need help with your device? Drop in for some technical assistance from our friendly library staff. Or call 971-370-5040 to make an appointment for a one-on-one session.
URL:https://mtangelpubliclibrary.com/event/appy-hour-45/2027-01-26/
END:VEVENT
BEGIN:VEVENT
DTSTART;TZID=America/Los_Angeles:20270127T103000
DTEND;TZID=America/Los_Angeles:20270127T114500
DTSTAMP:20260422T025659
CREATED:20250618T175932Z
LAST-MODIFIED:20260323T181157Z
UID:10004956-1801045800-1801050300@mtangelpubliclibrary.com
SUMMARY:Family Storytime & Indoor Playtime
DESCRIPTION:Family Storytime & Indoor Playtime Adventure\n \nJoin us for Family Storytime\, where songs\, captivating tales\, and creative crafts come together to spark joy and imagination. After the stories\, the fun continues with Indoor Playtime! Your little ones can explore a world of toys\, make new friends\, and let their imaginations run wild in our cozy play area. Perfect for children aged 2-5\, with all toys provided. \nWednesdays\, 10:30 – 11:45am\nAges 2-5 and their families \n 
URL:https://mtangelpubliclibrary.com/event/family-storytime-indoor-playtime-6-3-2/2027-01-27/
CATEGORIES:Families with Preschoolers
ATTACH;FMTTYPE=image/png:https://mtangelpubliclibrary.com/wp-content/uploads/2024/02/family-storytime.png
END:VEVENT
BEGIN:VEVENT
DTSTART;TZID=America/Los_Angeles:20270130T100000
DTEND;TZID=America/Los_Angeles:20270130T110000
DTSTAMP:20260422T025659
CREATED:20250527T200840Z
LAST-MODIFIED:20260106T220956Z
UID:10007022-1801303200-1801306800@mtangelpubliclibrary.com
SUMMARY:Sunshine Fitness
DESCRIPTION:Sunshine Fitness\nJoin us Saturday mornings for some light exercising together while we explore different types of workouts using follow-along videos. Signed waiver must be on file before participation. \nSaturdays\, 10am\nAdults & Teens
URL:https://mtangelpubliclibrary.com/event/sunshine-fitness-2-3-2-2/2027-01-30/
CATEGORIES:Adults,Teens
END:VEVENT
BEGIN:VEVENT
DTSTART;TZID=America/Los_Angeles:20270130T160000
DTEND;TZID=America/Los_Angeles:20270130T170000
DTSTAMP:20260422T025659
CREATED:20251015T000917Z
LAST-MODIFIED:20260413T224543Z
UID:10007674-1801324800-1801328400@mtangelpubliclibrary.com
SUMMARY:Hora del cuento bilingue / Bilingual Storytime
DESCRIPTION:¡Atrévete a acompañarnos para aprender juntos! A través de leer libros bilingües podríamos hacer lo. Después abría una actividad para la familia. Through bilingual books and activities\, we will learn simple words and phrases that help us communicate and grow together.
URL:https://mtangelpubliclibrary.com/event/creciendo-juntos-growing-together-storytime-2-2-4-2/2027-01-30/
CATEGORIES:Families with Preschoolers
END:VEVENT
BEGIN:VEVENT
DTSTART;TZID=America/Los_Angeles:20270202T120000
DTEND;TZID=America/Los_Angeles:20270202T130000
DTSTAMP:20260422T025659
CREATED:20240216T011510Z
LAST-MODIFIED:20241116T003642Z
UID:10002913-1801569600-1801573200@mtangelpubliclibrary.com
SUMMARY:APPY Hour
DESCRIPTION:Tuesdays\, Noon-1:00: APPY Hour (All ages): Need help with your device? Drop in for some technical assistance from our friendly library staff. Or call 971-370-5040 to make an appointment for a one-on-one session.
URL:https://mtangelpubliclibrary.com/event/appy-hour-45/2027-02-02/
END:VEVENT
BEGIN:VEVENT
DTSTART;TZID=America/Los_Angeles:20270203T103000
DTEND;TZID=America/Los_Angeles:20270203T114500
DTSTAMP:20260422T025659
CREATED:20250618T175932Z
LAST-MODIFIED:20260323T181157Z
UID:10004957-1801650600-1801655100@mtangelpubliclibrary.com
SUMMARY:Family Storytime & Indoor Playtime
DESCRIPTION:Family Storytime & Indoor Playtime Adventure\n \nJoin us for Family Storytime\, where songs\, captivating tales\, and creative crafts come together to spark joy and imagination. After the stories\, the fun continues with Indoor Playtime! Your little ones can explore a world of toys\, make new friends\, and let their imaginations run wild in our cozy play area. Perfect for children aged 2-5\, with all toys provided. \nWednesdays\, 10:30 – 11:45am\nAges 2-5 and their families \n 
URL:https://mtangelpubliclibrary.com/event/family-storytime-indoor-playtime-6-3-2/2027-02-03/
CATEGORIES:Families with Preschoolers
ATTACH;FMTTYPE=image/png:https://mtangelpubliclibrary.com/wp-content/uploads/2024/02/family-storytime.png
END:VEVENT
BEGIN:VEVENT
DTSTART;TZID=America/Los_Angeles:20270206T100000
DTEND;TZID=America/Los_Angeles:20270206T110000
DTSTAMP:20260422T025659
CREATED:20250527T200840Z
LAST-MODIFIED:20260106T220956Z
UID:10007023-1801908000-1801911600@mtangelpubliclibrary.com
SUMMARY:Sunshine Fitness
DESCRIPTION:Sunshine Fitness\nJoin us Saturday mornings for some light exercising together while we explore different types of workouts using follow-along videos. Signed waiver must be on file before participation. \nSaturdays\, 10am\nAdults & Teens
URL:https://mtangelpubliclibrary.com/event/sunshine-fitness-2-3-2-2/2027-02-06/
CATEGORIES:Adults,Teens
END:VEVENT
BEGIN:VEVENT
DTSTART;TZID=America/Los_Angeles:20270206T160000
DTEND;TZID=America/Los_Angeles:20270206T170000
DTSTAMP:20260422T025700
CREATED:20251015T000917Z
LAST-MODIFIED:20260413T224543Z
UID:10007675-1801929600-1801933200@mtangelpubliclibrary.com
SUMMARY:Hora del cuento bilingue / Bilingual Storytime
DESCRIPTION:¡Atrévete a acompañarnos para aprender juntos! A través de leer libros bilingües podríamos hacer lo. Después abría una actividad para la familia. Through bilingual books and activities\, we will learn simple words and phrases that help us communicate and grow together.
URL:https://mtangelpubliclibrary.com/event/creciendo-juntos-growing-together-storytime-2-2-4-2/2027-02-06/
CATEGORIES:Families with Preschoolers
END:VEVENT
BEGIN:VEVENT
DTSTART;TZID=America/Los_Angeles:20270209T120000
DTEND;TZID=America/Los_Angeles:20270209T130000
DTSTAMP:20260422T025700
CREATED:20240216T011510Z
LAST-MODIFIED:20241116T003642Z
UID:10002914-1802174400-1802178000@mtangelpubliclibrary.com
SUMMARY:APPY Hour
DESCRIPTION:Tuesdays\, Noon-1:00: APPY Hour (All ages): Need help with your device? Drop in for some technical assistance from our friendly library staff. Or call 971-370-5040 to make an appointment for a one-on-one session.
URL:https://mtangelpubliclibrary.com/event/appy-hour-45/2027-02-09/
END:VEVENT
BEGIN:VEVENT
DTSTART;TZID=America/Los_Angeles:20270210T103000
DTEND;TZID=America/Los_Angeles:20270210T114500
DTSTAMP:20260422T025700
CREATED:20250618T175932Z
LAST-MODIFIED:20260323T181157Z
UID:10004958-1802255400-1802259900@mtangelpubliclibrary.com
SUMMARY:Family Storytime & Indoor Playtime
DESCRIPTION:Family Storytime & Indoor Playtime Adventure\n \nJoin us for Family Storytime\, where songs\, captivating tales\, and creative crafts come together to spark joy and imagination. After the stories\, the fun continues with Indoor Playtime! Your little ones can explore a world of toys\, make new friends\, and let their imaginations run wild in our cozy play area. Perfect for children aged 2-5\, with all toys provided. \nWednesdays\, 10:30 – 11:45am\nAges 2-5 and their families \n 
URL:https://mtangelpubliclibrary.com/event/family-storytime-indoor-playtime-6-3-2/2027-02-10/
CATEGORIES:Families with Preschoolers
ATTACH;FMTTYPE=image/png:https://mtangelpubliclibrary.com/wp-content/uploads/2024/02/family-storytime.png
END:VEVENT
BEGIN:VEVENT
DTSTART;TZID=America/Los_Angeles:20270211T180000
DTEND;TZID=America/Los_Angeles:20270211T190000
DTSTAMP:20260422T025700
CREATED:20251218T004413Z
LAST-MODIFIED:20260323T182053Z
UID:10007415-1802368800-1802372400@mtangelpubliclibrary.com
SUMMARY:Writing Group
DESCRIPTION:Stretch your writing wings in a supportive environment with time for exploration\, illumination\, and idea exchange. Meets monthly every second Thursday.
URL:https://mtangelpubliclibrary.com/event/writing-group-2/2027-02-11/
CATEGORIES:Adults,Teens
END:VEVENT
BEGIN:VEVENT
DTSTART;TZID=America/Los_Angeles:20270212T150000
DTEND;TZID=America/Los_Angeles:20270212T170000
DTSTAMP:20260422T025700
CREATED:20260323T182530Z
LAST-MODIFIED:20260323T182530Z
UID:10007918-1802444400-1802451600@mtangelpubliclibrary.com
SUMMARY:Chess Club
DESCRIPTION:Learn how to play the Game of Kings (and Queens!) with friends of all ages in a calm\, relaxed environment. Meets monthly every second Friday.
URL:https://mtangelpubliclibrary.com/event/chess-club/2027-02-12/
CATEGORIES:All Ages
END:VEVENT
BEGIN:VEVENT
DTSTART;TZID=America/Los_Angeles:20270213T100000
DTEND;TZID=America/Los_Angeles:20270213T110000
DTSTAMP:20260422T025700
CREATED:20250527T200840Z
LAST-MODIFIED:20260106T220956Z
UID:10007024-1802512800-1802516400@mtangelpubliclibrary.com
SUMMARY:Sunshine Fitness
DESCRIPTION:Sunshine Fitness\nJoin us Saturday mornings for some light exercising together while we explore different types of workouts using follow-along videos. Signed waiver must be on file before participation. \nSaturdays\, 10am\nAdults & Teens
URL:https://mtangelpubliclibrary.com/event/sunshine-fitness-2-3-2-2/2027-02-13/
CATEGORIES:Adults,Teens
END:VEVENT
BEGIN:VEVENT
DTSTART;TZID=America/Los_Angeles:20270213T160000
DTEND;TZID=America/Los_Angeles:20270213T170000
DTSTAMP:20260422T025700
CREATED:20251015T000917Z
LAST-MODIFIED:20260413T224543Z
UID:10007676-1802534400-1802538000@mtangelpubliclibrary.com
SUMMARY:Hora del cuento bilingue / Bilingual Storytime
DESCRIPTION:¡Atrévete a acompañarnos para aprender juntos! A través de leer libros bilingües podríamos hacer lo. Después abría una actividad para la familia. Through bilingual books and activities\, we will learn simple words and phrases that help us communicate and grow together.
URL:https://mtangelpubliclibrary.com/event/creciendo-juntos-growing-together-storytime-2-2-4-2/2027-02-13/
CATEGORIES:Families with Preschoolers
END:VEVENT
BEGIN:VEVENT
DTSTART;TZID=America/Los_Angeles:20270216T120000
DTEND;TZID=America/Los_Angeles:20270216T130000
DTSTAMP:20260422T025700
CREATED:20240216T011510Z
LAST-MODIFIED:20241116T003642Z
UID:10002915-1802779200-1802782800@mtangelpubliclibrary.com
SUMMARY:APPY Hour
DESCRIPTION:Tuesdays\, Noon-1:00: APPY Hour (All ages): Need help with your device? Drop in for some technical assistance from our friendly library staff. Or call 971-370-5040 to make an appointment for a one-on-one session.
URL:https://mtangelpubliclibrary.com/event/appy-hour-45/2027-02-16/
END:VEVENT
BEGIN:VEVENT
DTSTART;TZID=America/Los_Angeles:20270217T103000
DTEND;TZID=America/Los_Angeles:20270217T114500
DTSTAMP:20260422T025700
CREATED:20250618T175932Z
LAST-MODIFIED:20260323T181157Z
UID:10004959-1802860200-1802864700@mtangelpubliclibrary.com
SUMMARY:Family Storytime & Indoor Playtime
DESCRIPTION:Family Storytime & Indoor Playtime Adventure\n \nJoin us for Family Storytime\, where songs\, captivating tales\, and creative crafts come together to spark joy and imagination. After the stories\, the fun continues with Indoor Playtime! Your little ones can explore a world of toys\, make new friends\, and let their imaginations run wild in our cozy play area. Perfect for children aged 2-5\, with all toys provided. \nWednesdays\, 10:30 – 11:45am\nAges 2-5 and their families \n 
URL:https://mtangelpubliclibrary.com/event/family-storytime-indoor-playtime-6-3-2/2027-02-17/
CATEGORIES:Families with Preschoolers
ATTACH;FMTTYPE=image/png:https://mtangelpubliclibrary.com/wp-content/uploads/2024/02/family-storytime.png
END:VEVENT
BEGIN:VEVENT
DTSTART;TZID=America/Los_Angeles:20270220T100000
DTEND;TZID=America/Los_Angeles:20270220T110000
DTSTAMP:20260422T025700
CREATED:20250527T200840Z
LAST-MODIFIED:20260106T220956Z
UID:10007025-1803117600-1803121200@mtangelpubliclibrary.com
SUMMARY:Sunshine Fitness
DESCRIPTION:Sunshine Fitness\nJoin us Saturday mornings for some light exercising together while we explore different types of workouts using follow-along videos. Signed waiver must be on file before participation. \nSaturdays\, 10am\nAdults & Teens
URL:https://mtangelpubliclibrary.com/event/sunshine-fitness-2-3-2-2/2027-02-20/
CATEGORIES:Adults,Teens
END:VEVENT
BEGIN:VEVENT
DTSTART;TZID=America/Los_Angeles:20270220T160000
DTEND;TZID=America/Los_Angeles:20270220T170000
DTSTAMP:20260422T025700
CREATED:20251015T000917Z
LAST-MODIFIED:20260413T224543Z
UID:10007677-1803139200-1803142800@mtangelpubliclibrary.com
SUMMARY:Hora del cuento bilingue / Bilingual Storytime
DESCRIPTION:¡Atrévete a acompañarnos para aprender juntos! A través de leer libros bilingües podríamos hacer lo. Después abría una actividad para la familia. Through bilingual books and activities\, we will learn simple words and phrases that help us communicate and grow together.
URL:https://mtangelpubliclibrary.com/event/creciendo-juntos-growing-together-storytime-2-2-4-2/2027-02-20/
CATEGORIES:Families with Preschoolers
END:VEVENT
BEGIN:VEVENT
DTSTART;TZID=America/Los_Angeles:20270223T120000
DTEND;TZID=America/Los_Angeles:20270223T130000
DTSTAMP:20260422T025700
CREATED:20240216T011510Z
LAST-MODIFIED:20241116T003642Z
UID:10002916-1803384000-1803387600@mtangelpubliclibrary.com
SUMMARY:APPY Hour
DESCRIPTION:Tuesdays\, Noon-1:00: APPY Hour (All ages): Need help with your device? Drop in for some technical assistance from our friendly library staff. Or call 971-370-5040 to make an appointment for a one-on-one session.
URL:https://mtangelpubliclibrary.com/event/appy-hour-45/2027-02-23/
END:VEVENT
END:VCALENDAR