BEGIN:VCALENDAR
VERSION:2.0
PRODID:-//Mt. Angel Public Library - ECPv6.15.20//NONSGML v1.0//EN
CALSCALE:GREGORIAN
METHOD:PUBLISH
X-WR-CALNAME:Mt. Angel Public Library
X-ORIGINAL-URL:https://mtangelpubliclibrary.com
X-WR-CALDESC:Events for Mt. Angel Public Library
REFRESH-INTERVAL;VALUE=DURATION:PT1H
X-Robots-Tag:noindex
X-PUBLISHED-TTL:PT1H
BEGIN:VTIMEZONE
TZID:America/Los_Angeles
BEGIN:DAYLIGHT
TZOFFSETFROM:-0800
TZOFFSETTO:-0700
TZNAME:PDT
DTSTART:20210314T100000
END:DAYLIGHT
BEGIN:STANDARD
TZOFFSETFROM:-0700
TZOFFSETTO:-0800
TZNAME:PST
DTSTART:20211107T090000
END:STANDARD
BEGIN:DAYLIGHT
TZOFFSETFROM:-0800
TZOFFSETTO:-0700
TZNAME:PDT
DTSTART:20220313T100000
END:DAYLIGHT
BEGIN:STANDARD
TZOFFSETFROM:-0700
TZOFFSETTO:-0800
TZNAME:PST
DTSTART:20221106T090000
END:STANDARD
BEGIN:DAYLIGHT
TZOFFSETFROM:-0800
TZOFFSETTO:-0700
TZNAME:PDT
DTSTART:20230312T100000
END:DAYLIGHT
BEGIN:STANDARD
TZOFFSETFROM:-0700
TZOFFSETTO:-0800
TZNAME:PST
DTSTART:20231105T090000
END:STANDARD
END:VTIMEZONE
BEGIN:VEVENT
DTSTART;TZID=America/Los_Angeles:20221221T120000
DTEND;TZID=America/Los_Angeles:20221221T130000
DTSTAMP:20260422T025711
CREATED:20221123T234513Z
LAST-MODIFIED:20221123T234513Z
UID:10002247-1671624000-1671627600@mtangelpubliclibrary.com
SUMMARY:APPY Hour
DESCRIPTION:Wednesdays\, Noon-1:00: APPY Hour (All ages). Need help with your device? Drop in for some technical assistance from our friendly library staff. Or call 503.845.6401 to make an appointment for a one-on-one session
URL:https://mtangelpubliclibrary.com/event/appy-hour-9/
CATEGORIES:All Ages
END:VEVENT
BEGIN:VEVENT
DTSTART;TZID=America/Los_Angeles:20221220T153000
DTEND;TZID=America/Los_Angeles:20221220T170000
DTSTAMP:20260422T025711
CREATED:20221123T234206Z
LAST-MODIFIED:20221123T234206Z
UID:10002243-1671550200-1671555600@mtangelpubliclibrary.com
SUMMARY:Stories & STEAM
DESCRIPTION:Tuesdays @ 3:30am—Stories & STEAM (Ages 6-12): Listen to a story about the theme of the week\, join in a Science\, Technology\, Engineering or Art project\, then make and enjoy a snack. \n12/6- Christmas Ornament making! Get creative and design and paint your own ornament! \n12/13- Snowman Sock craft! Make your own cuddly snow man to take home! \n12/20- Be a scientist and make your own holiday themed bath bomb! Great for a gift! \n12/27-Try your hand at engineering and create your own “New Years’ Glasses” using crafting materials!
URL:https://mtangelpubliclibrary.com/event/stories-steam-10/
CATEGORIES:Ages 5-11
END:VEVENT
BEGIN:VEVENT
DTSTART;TZID=America/Los_Angeles:20221220T103000
DTEND;TZID=America/Los_Angeles:20221220T120000
DTSTAMP:20260422T025711
CREATED:20221123T233137Z
LAST-MODIFIED:20221123T233920Z
UID:10002239-1671532200-1671537600@mtangelpubliclibrary.com
SUMMARY:Community Helpers Storytime & Indoor Playtime
DESCRIPTION:Tuesdays @ 10:30am—Community Helpers Family Storytime & Indoor Playtime (Ages 2-5 & family members): Gather in person to participate in songs\, activities and stories with a special guest reader (bilingual storytime on Dec. 27)\, followed by Indoor Playtime (11:00-12:00). Come play with toys and spend time with friends.  All toys provided.  Can’t make it to the storytime? Recordings will be posted on READsquared at http://mtangelreads.readsquared.com/ to enjoy whenever is best for your family!
URL:https://mtangelpubliclibrary.com/event/community-helpers-storytime-7/
CATEGORIES:Families with Preschoolers
END:VEVENT
BEGIN:VEVENT
DTSTART;TZID=America/Los_Angeles:20221217T130000
DTEND;TZID=America/Los_Angeles:20221217T150000
DTSTAMP:20260422T025711
CREATED:20221124T000531Z
LAST-MODIFIED:20221124T000531Z
UID:10002135-1671282000-1671289200@mtangelpubliclibrary.com
SUMMARY:Family Gingerbread House Decorating
DESCRIPTION:Sat.\, Dec. 17 @ 1:00—Family Gingerbread House Decorating + (Families): Bring the whole family to listen to a gingerbread story then create a gingerbread masterpiece. All supplies provided. Space is limited so registration is required. Call 503.845.6401 to reserve your spot today!
URL:https://mtangelpubliclibrary.com/event/family-gingerbread-house-decorating/
CATEGORIES:Families,Registration required
END:VEVENT
BEGIN:VEVENT
DTSTART;TZID=America/Los_Angeles:20221215T180000
DTEND;TZID=America/Los_Angeles:20221215T190000
DTSTAMP:20260422T025711
CREATED:20221124T000442Z
LAST-MODIFIED:20221124T000442Z
UID:10002134-1671127200-1671130800@mtangelpubliclibrary.com
SUMMARY:Santa at the Library
DESCRIPTION:Thurs.\, Dec. 15 @ 6:00-7:00 (drop-in)—Santa At the Library (Families): Get a photo-op with Santa in front of the library’s fireplace\, decorate cookies\, enjoy hot cocoa\, make an ornament and play reindeer games.
URL:https://mtangelpubliclibrary.com/event/santa-at-the-library/
CATEGORIES:All Ages,Families
END:VEVENT
BEGIN:VEVENT
DTSTART;TZID=America/Los_Angeles:20221215T130000
DTEND;TZID=America/Los_Angeles:20221215T143000
DTSTAMP:20260422T025711
CREATED:20221123T235054Z
LAST-MODIFIED:20221123T235054Z
UID:10002133-1671109200-1671114600@mtangelpubliclibrary.com
SUMMARY:Adult Book Discussion
DESCRIPTION:Thurs.\, Dec. 15 @ 1:00—Adult Book Discussion: Gather to discuss Run by Ann Patchett. Copies are available at the library. Everyone welcome.
URL:https://mtangelpubliclibrary.com/event/adult-book-discussion-7/
CATEGORIES:Adults
END:VEVENT
BEGIN:VEVENT
DTSTART;TZID=America/Los_Angeles:20221214T151500
DTEND;TZID=America/Los_Angeles:20221214T163000
DTSTAMP:20260422T025711
CREATED:20221123T234859Z
LAST-MODIFIED:20221123T234859Z
UID:10002131-1671030900-1671035400@mtangelpubliclibrary.com
SUMMARY:STEM Guys
DESCRIPTION:Wednesdays @ 3:15pm– STEM Girls (Dec. 7) STEM Guys (Dec. 14) (Grades 5-8). Become a Bird Scout Citizen Scientist!  Explore feathers\, flights and the features that make birds unique. Use tools and technology to identify local species and help scientists track changes in bird distribution and abundance across the globe! Every session includes hands-on activities and active research. Snacks provided.
URL:https://mtangelpubliclibrary.com/event/stem-guys-5/
CATEGORIES:Grades 5-8
END:VEVENT
BEGIN:VEVENT
DTSTART;TZID=America/Los_Angeles:20221214T120000
DTEND;TZID=America/Los_Angeles:20221214T130000
DTSTAMP:20260422T025711
CREATED:20221123T234443Z
LAST-MODIFIED:20221123T234443Z
UID:10002246-1671019200-1671022800@mtangelpubliclibrary.com
SUMMARY:APPY Hour
DESCRIPTION:Wednesdays\, Noon-1:00: APPY Hour (All ages). Need help with your device? Drop in for some technical assistance from our friendly library staff. Or call 503.845.6401 to make an appointment for a one-on-one session
URL:https://mtangelpubliclibrary.com/event/appy-hour-8/
CATEGORIES:All Ages
END:VEVENT
BEGIN:VEVENT
DTSTART;TZID=America/Los_Angeles:20221213T153000
DTEND;TZID=America/Los_Angeles:20221213T170000
DTSTAMP:20260422T025711
CREATED:20221123T234131Z
LAST-MODIFIED:20221123T234131Z
UID:10002242-1670945400-1670950800@mtangelpubliclibrary.com
SUMMARY:Stories & STEAM
DESCRIPTION:Tuesdays @ 3:30am—Stories & STEAM (Ages 6-12): Listen to a story about the theme of the week\, join in a Science\, Technology\, Engineering or Art project\, then make and enjoy a snack. \n12/6- Christmas Ornament making! Get creative and design and paint your own ornament! \n12/13- Snowman Sock craft! Make your own cuddly snow man to take home! \n12/20- Be a scientist and make your own holiday themed bath bomb! Great for a gift! \n12/27-Try your hand at engineering and create your own “New Years’ Glasses” using crafting materials!
URL:https://mtangelpubliclibrary.com/event/stories-steam-9/
CATEGORIES:Ages 5-11
END:VEVENT
BEGIN:VEVENT
DTSTART;TZID=America/Los_Angeles:20221213T103000
DTEND;TZID=America/Los_Angeles:20221213T120000
DTSTAMP:20260422T025711
CREATED:20221123T231958Z
LAST-MODIFIED:20221124T000751Z
UID:10002238-1670927400-1670932800@mtangelpubliclibrary.com
SUMMARY:Community Helpers Storytime & Indoor Playtime
DESCRIPTION:Tuesdays @ 10:30am—Community Helpers Family Storytime & Indoor Playtime (Ages 2-5 & family members): Gather in person to participate in songs\, activities and stories with a special guest reader (bilingual storytime on Dec. 27)\, followed by Indoor Playtime (11:00-12:00). Come play with toys and spend time with friends.  All toys provided.  Can’t make it to the storytime? Recordings will be posted on READsquared at http://mtangelreads.readsquared.com/ to enjoy whenever is best for your family!
URL:https://mtangelpubliclibrary.com/event/community-helpers-storytime-6/
CATEGORIES:Families with Preschoolers
END:VEVENT
BEGIN:VEVENT
DTSTART;TZID=America/Los_Angeles:20221208T150000
DTEND;TZID=America/Los_Angeles:20221208T183000
DTSTAMP:20260422T025711
CREATED:20221123T235005Z
LAST-MODIFIED:20221123T235005Z
UID:10002132-1670511600-1670524200@mtangelpubliclibrary.com
SUMMARY:Virtual Reality
DESCRIPTION:Thurs.\, Dec. 8 @ 3:00-6:30— Virtual Reality + (Teens & Adults): Book your 30-minute slot to experience one of our virtual reality programs. Signed release must be on record. Call 503.845.6401 to reserve your spot or for more info.
URL:https://mtangelpubliclibrary.com/event/virtual-reality-6/
CATEGORIES:Adults,Registration required,Teens
END:VEVENT
BEGIN:VEVENT
DTSTART;TZID=America/Los_Angeles:20221207T151500
DTEND;TZID=America/Los_Angeles:20221207T151500
DTSTAMP:20260422T025711
CREATED:20221123T234826Z
LAST-MODIFIED:20221124T001416Z
UID:10002130-1670426100-1670426100@mtangelpubliclibrary.com
SUMMARY:STEM Girls
DESCRIPTION:Wednesdays @ 3:15pm– STEM Girls (Dec. 7) STEM Guys (Dec. 14) (Grades 5-8). Become a Bird Scout Citizen Scientist!  Explore feathers\, flights and the features that make birds unique. Use tools and technology to identify local species and help scientists track changes in bird distribution and abundance across the globe! Every session includes hands-on activities and active research. Snacks provided.
URL:https://mtangelpubliclibrary.com/event/stem-girls-5/
CATEGORIES:Grades 5-8
END:VEVENT
BEGIN:VEVENT
DTSTART;TZID=America/Los_Angeles:20221207T130000
DTEND;TZID=America/Los_Angeles:20221207T150000
DTSTAMP:20260422T025711
CREATED:20221123T234732Z
LAST-MODIFIED:20221123T234732Z
UID:10002129-1670418000-1670425200@mtangelpubliclibrary.com
SUMMARY:Adult Crafts: Moravian Star
DESCRIPTION:Wed.\, Dec. 7 @ 1:00—Adult Crafts: Moravian Star: Create a beautiful Moravian star made out of holiday cards. All supplies provided.
URL:https://mtangelpubliclibrary.com/event/adult-crafts-moravian-star/
CATEGORIES:Adults
END:VEVENT
BEGIN:VEVENT
DTSTART;TZID=America/Los_Angeles:20221207T120000
DTEND;TZID=America/Los_Angeles:20221207T130000
DTSTAMP:20260422T025711
CREATED:20221123T234402Z
LAST-MODIFIED:20221123T234402Z
UID:10002245-1670414400-1670418000@mtangelpubliclibrary.com
SUMMARY:APPY Hour
DESCRIPTION:Wednesdays\, Noon-1:00: APPY Hour (All ages). Need help with your device? Drop in for some technical assistance from our friendly library staff. Or call 503.845.6401 to make an appointment for a one-on-one session
URL:https://mtangelpubliclibrary.com/event/appy-hour-7/
CATEGORIES:All Ages
END:VEVENT
BEGIN:VEVENT
DTSTART;TZID=America/Los_Angeles:20221206T153000
DTEND;TZID=America/Los_Angeles:20221206T170000
DTSTAMP:20260422T025711
CREATED:20221123T234103Z
LAST-MODIFIED:20221123T234103Z
UID:10002241-1670340600-1670346000@mtangelpubliclibrary.com
SUMMARY:Stories & STEAM
DESCRIPTION:Tuesdays @ 3:30am—Stories & STEAM (Ages 6-12): Listen to a story about the theme of the week\, join in a Science\, Technology\, Engineering or Art project\, then make and enjoy a snack. \n12/6- Christmas Ornament making! Get creative and design and paint your own ornament! \n12/13- Snowman Sock craft! Make your own cuddly snow man to take home! \n12/20- Be a scientist and make your own holiday themed bath bomb! Great for a gift! \n12/27-Try your hand at engineering and create your own “New Years’ Glasses” using crafting materials!
URL:https://mtangelpubliclibrary.com/event/stories-steam-8/
CATEGORIES:Ages 5-11
END:VEVENT
BEGIN:VEVENT
DTSTART;TZID=America/Los_Angeles:20221206T103000
DTEND;TZID=America/Los_Angeles:20221206T120000
DTSTAMP:20260422T025711
CREATED:20221123T231916Z
LAST-MODIFIED:20221123T234009Z
UID:10002237-1670322600-1670328000@mtangelpubliclibrary.com
SUMMARY:Community Helpers Storytime & Indoor Playtime
DESCRIPTION:Tuesdays @ 10:30am—Community Helpers Family Storytime & Indoor Playtime (Ages 2-5 & family members): Gather in person to participate in songs\, activities and stories with a special guest reader (bilingual storytime on Dec. 27)\, followed by Indoor Playtime (11:00-12:00). Come play with toys and spend time with friends.  All toys provided.  Can’t make it to the storytime? Recordings will be posted on READsquared at http://mtangelreads.readsquared.com/ to enjoy whenever is best for your family!
URL:https://mtangelpubliclibrary.com/event/community-helpers-storytime-5/
CATEGORIES:Families with Preschoolers
END:VEVENT
BEGIN:VEVENT
DTSTART;TZID=America/Los_Angeles:20221201T170000
DTEND;TZID=America/Los_Angeles:20221201T180000
DTSTAMP:20260422T025711
CREATED:20221123T225029Z
LAST-MODIFIED:20221123T225029Z
UID:10002233-1669914000-1669917600@mtangelpubliclibrary.com
SUMMARY:Teen Crafts
DESCRIPTION:Thurs.\, Dec. 1 @ 5:00—Teen Crafts (Grades 6 & up): Make your own hot chocolate bombs! Snacks provided!
URL:https://mtangelpubliclibrary.com/event/teen-crafts/
CATEGORIES:Teens,Tweens
END:VEVENT
BEGIN:VEVENT
DTSTART;TZID=America/Los_Angeles:20221201T130000
DTEND;TZID=America/Los_Angeles:20221201T143000
DTSTAMP:20260422T025711
CREATED:20221123T224840Z
LAST-MODIFIED:20221123T224840Z
UID:10002230-1669899600-1669905000@mtangelpubliclibrary.com
SUMMARY:Cybersecurity Basics
DESCRIPTION:Thurs.\, Dec. 1 @ 1:00—Cybersecurity Basics +: Gather in a small group to learn how to be safer online with accounts/passwords\, overview of frauds/scams. Owning a computer is not required. Space is limited so registration is required. Call 503.845.6401 to reserve your spot today!
URL:https://mtangelpubliclibrary.com/event/cybersecurity-basics/
CATEGORIES:Adults,Registration required
END:VEVENT
BEGIN:VEVENT
DTSTART;TZID=America/Los_Angeles:20221130T151500
DTEND;TZID=America/Los_Angeles:20221130T163000
DTSTAMP:20260422T025711
CREATED:20221020T211403Z
LAST-MODIFIED:20221020T211403Z
UID:10002212-1669821300-1669825800@mtangelpubliclibrary.com
SUMMARY:STEM Guys
DESCRIPTION:Wednesdays @ 3:15pm– STEM Girls (1st & 3rd Wed.) STEM Guys (2nd & 4th Wed.) (Grades 5-8). Become a Bird Scout Citizen Scientist!  Explore feathers\, flights and the features that make birds unique. Use tools and technology to identify local species and help scientists track changes in bird distribution and abundance across the globe! Every session includes hands-on activities and active research. Snacks provided.
URL:https://mtangelpubliclibrary.com/event/stem-guys-4/
CATEGORIES:Grades 5-8
END:VEVENT
BEGIN:VEVENT
DTSTART;TZID=America/Los_Angeles:20221130T130000
DTEND;TZID=America/Los_Angeles:20221130T143000
DTSTAMP:20260422T025711
CREATED:20221020T212143Z
LAST-MODIFIED:20221020T212143Z
UID:10002226-1669813200-1669818600@mtangelpubliclibrary.com
SUMMARY:Holiday Cards
DESCRIPTION:Wednesday\, Nov. 30 @ 1:00pm (Adults)—Holiday Card Making: Create handmade holiday cards using our beautiful supply of rubber stamps and decorative paper. All supplies provided.
URL:https://mtangelpubliclibrary.com/event/holiday-cards/
CATEGORIES:Adults,Senior Adults
END:VEVENT
BEGIN:VEVENT
DTSTART;TZID=America/Los_Angeles:20221130T120000
DTEND;TZID=America/Los_Angeles:20221130T130000
DTSTAMP:20260422T025711
CREATED:20221130T221006Z
LAST-MODIFIED:20221020T213034Z
UID:10002117-1669809600-1669813200@mtangelpubliclibrary.com
SUMMARY:APPY Hour
DESCRIPTION:Wednesdays\, Noon-1:00: APPY Hour (All ages). Need help with your device? Drop in for some technical assistance from our friendly library staff. Or call 503.845.6401 to make an appointment for a one-on-one session.
URL:https://mtangelpubliclibrary.com/event/appy-hour-5/
CATEGORIES:All Ages
END:VEVENT
BEGIN:VEVENT
DTSTART;TZID=America/Los_Angeles:20221130T120000
DTEND;TZID=America/Los_Angeles:20221130T130000
DTSTAMP:20260422T025711
CREATED:20221020T213127Z
LAST-MODIFIED:20221020T213127Z
UID:10002228-1669809600-1669813200@mtangelpubliclibrary.com
SUMMARY:APPY Hour
DESCRIPTION:Wednesdays\, Noon-1:00: APPY Hour (All ages). Need help with your device? Drop in for some technical assistance from our friendly library staff. Or call 503.845.6401 to make an appointment for a one-on-one session
URL:https://mtangelpubliclibrary.com/event/appy-hour-6/
END:VEVENT
BEGIN:VEVENT
DTSTART;TZID=America/Los_Angeles:20221129T103000
DTEND;TZID=America/Los_Angeles:20221129T120000
DTSTAMP:20260422T025711
CREATED:20221020T193134Z
LAST-MODIFIED:20221020T193647Z
UID:10002199-1669717800-1669723200@mtangelpubliclibrary.com
SUMMARY:Community Helpers Bilingual Storytime and Indoor Playtime
DESCRIPTION:Tuesdays @ 10:30am—Community Helpers Family Storytime & Indoor Playtime (Ages 2-5 & family members) (Bilingual on Nov. 22): Gather in person to participate in songs\, activities and stories with a special guest reader\, followed by Indoor Playtime (11:00-12:00). Come play with toys and spend time with friends.  All toys provided.  Can’t make it to the storytime? Recordings will be posted on READsquared at http://mtangelreads.readsquared.com/ to enjoy whenever is best for your family!
URL:https://mtangelpubliclibrary.com/event/community-helpers-storytime-and-indoor-playtime-13/
CATEGORIES:Families with Preschoolers
END:VEVENT
BEGIN:VEVENT
DTSTART;VALUE=DATE:20221124
DTEND;VALUE=DATE:20221126
DTSTAMP:20260422T025711
CREATED:20221020T212038Z
LAST-MODIFIED:20221020T212038Z
UID:10002224-1669248000-1669420799@mtangelpubliclibrary.com
SUMMARY:Library CLOSED
DESCRIPTION:Library closed for Thanksgiving.
URL:https://mtangelpubliclibrary.com/event/library-closed-4/
END:VEVENT
BEGIN:VEVENT
DTSTART;TZID=America/Los_Angeles:20221123T120000
DTEND;TZID=America/Los_Angeles:20221123T130000
DTSTAMP:20260422T025711
CREATED:20221020T210917Z
LAST-MODIFIED:20221020T210917Z
UID:10002116-1669204800-1669208400@mtangelpubliclibrary.com
SUMMARY:APPY Hour
DESCRIPTION:Wednesdays\, Noon-1:00: APPY Hour (All ages). Need help with your device? Drop in for some technical assistance from our friendly library staff. Or call 503.845.6401 to make an appointment for a one-on-one session.
URL:https://mtangelpubliclibrary.com/event/appy-hour-4/
CATEGORIES:All Ages
END:VEVENT
BEGIN:VEVENT
DTSTART;TZID=America/Los_Angeles:20221122T153000
DTEND;TZID=America/Los_Angeles:20221122T170000
DTSTAMP:20260422T025711
CREATED:20221020T210549Z
LAST-MODIFIED:20221020T210549Z
UID:10002108-1669131000-1669136400@mtangelpubliclibrary.com
SUMMARY:Charlie Brown Thanksgiving
DESCRIPTION:Tuesday\, Nov. 22 @ 3:30pm—Charlie Brown Thanksgiving (All Ages): Watch this heartwarming TV classic while enjoying the feast along with the characters.
URL:https://mtangelpubliclibrary.com/event/charlie-brown-thanksgiving/
CATEGORIES:All Ages
END:VEVENT
BEGIN:VEVENT
DTSTART;TZID=America/Los_Angeles:20221122T103000
DTEND;TZID=America/Los_Angeles:20221122T120000
DTSTAMP:20260422T025711
CREATED:20221020T193548Z
LAST-MODIFIED:20221020T193548Z
UID:10001839-1669113000-1669118400@mtangelpubliclibrary.com
SUMMARY:Community Helpers Storytime and Indoor Playtime
DESCRIPTION:Tuesdays @ 10:30am—Community Helpers Family Storytime & Indoor Playtime (Ages 2-5 & family members) (Bilingual on Nov. 22): Gather in person to participate in songs\, activities and stories with a special guest reader\, followed by Indoor Playtime (11:00-12:00). Come play with toys and spend time with friends.  All toys provided.  Can’t make it to the storytime? Recordings will be posted on READsquared at http://mtangelreads.readsquared.com/ to enjoy whenever is best for your family!
URL:https://mtangelpubliclibrary.com/event/community-helpers-storytime-and-indoor-playtime-14/
CATEGORIES:Families with Preschoolers
END:VEVENT
BEGIN:VEVENT
DTSTART;TZID=America/Los_Angeles:20221117T183000
DTEND;TZID=America/Los_Angeles:20221117T200000
DTSTAMP:20260422T025711
CREATED:20221020T211956Z
LAST-MODIFIED:20221020T212547Z
UID:10002222-1668709800-1668715200@mtangelpubliclibrary.com
SUMMARY:MS Family Science Night
DESCRIPTION:Thursday\, Nov. 17 @ 6:30-8:00pm—Middle School Family Science Night + (Middle Schoolers and families):  Work together to explore mass\, volume\, density and chemical reactions with fun\, hands-on activities for the entire family. Space is limited to the first 20 families\, so register today by calling 503.845.6401. NOTE: another night will be scheduled if there is sufficient interest.
URL:https://mtangelpubliclibrary.com/event/family-science-night/
CATEGORIES:Families,Grades 5-8,Registration required,Teens,Tweens
END:VEVENT
BEGIN:VEVENT
DTSTART;TZID=America/Los_Angeles:20221117T130000
DTEND;TZID=America/Los_Angeles:20221117T143000
DTSTAMP:20260422T025711
CREATED:20221020T211857Z
LAST-MODIFIED:20221020T211857Z
UID:10002220-1668690000-1668695400@mtangelpubliclibrary.com
SUMMARY:Adult Book Discussion
DESCRIPTION:Thursday\, November 17 @ 1:00pm—Adult Book Discussion (Adults). Gather to discuss The Orchardist by Oregon author Amanda Coplin. Copies available at the Circulation Desk. Everyone welcome!
URL:https://mtangelpubliclibrary.com/event/adult-book-discussion-6/
CATEGORIES:Adults,Senior Adults
END:VEVENT
BEGIN:VEVENT
DTSTART;TZID=America/Los_Angeles:20221116T151500
DTEND;TZID=America/Los_Angeles:20221116T163000
DTSTAMP:20260422T025711
CREATED:20221020T211327Z
LAST-MODIFIED:20221020T211327Z
UID:10002211-1668611700-1668616200@mtangelpubliclibrary.com
SUMMARY:STEM Girls
DESCRIPTION:Wednesdays @ 3:15pm– STEM Girls (1st & 3rd Wed.) STEM Guys (2nd & 4th Wed.) (Grades 5-8). Become a Bird Scout Citizen Scientist!  Explore feathers\, flights and the features that make birds unique. Use tools and technology to identify local species and help scientists track changes in bird distribution and abundance across the globe! Every session includes hands-on activities and active research. Snacks provided.
URL:https://mtangelpubliclibrary.com/event/stem-girls-4/
CATEGORIES:Grades 5-8
END:VEVENT
END:VCALENDAR