BEGIN:VCALENDAR
VERSION:2.0
PRODID:-//Mt. Angel Public Library - ECPv6.15.20//NONSGML v1.0//EN
CALSCALE:GREGORIAN
METHOD:PUBLISH
X-WR-CALNAME:Mt. Angel Public Library
X-ORIGINAL-URL:https://mtangelpubliclibrary.com
X-WR-CALDESC:Events for Mt. Angel Public Library
REFRESH-INTERVAL;VALUE=DURATION:PT1H
X-Robots-Tag:noindex
X-PUBLISHED-TTL:PT1H
BEGIN:VTIMEZONE
TZID:America/Los_Angeles
BEGIN:DAYLIGHT
TZOFFSETFROM:-0800
TZOFFSETTO:-0700
TZNAME:PDT
DTSTART:20220313T100000
END:DAYLIGHT
BEGIN:STANDARD
TZOFFSETFROM:-0700
TZOFFSETTO:-0800
TZNAME:PST
DTSTART:20221106T090000
END:STANDARD
BEGIN:DAYLIGHT
TZOFFSETFROM:-0800
TZOFFSETTO:-0700
TZNAME:PDT
DTSTART:20230312T100000
END:DAYLIGHT
BEGIN:STANDARD
TZOFFSETFROM:-0700
TZOFFSETTO:-0800
TZNAME:PST
DTSTART:20231105T090000
END:STANDARD
BEGIN:DAYLIGHT
TZOFFSETFROM:-0800
TZOFFSETTO:-0700
TZNAME:PDT
DTSTART:20240310T100000
END:DAYLIGHT
BEGIN:STANDARD
TZOFFSETFROM:-0700
TZOFFSETTO:-0800
TZNAME:PST
DTSTART:20241103T090000
END:STANDARD
END:VTIMEZONE
BEGIN:VEVENT
DTSTART;TZID=America/Los_Angeles:20230426T130000
DTEND;TZID=America/Los_Angeles:20230426T143000
DTSTAMP:20260420T023700
CREATED:20230414T225457Z
LAST-MODIFIED:20230414T225457Z
UID:10002390-1682514000-1682519400@mtangelpubliclibrary.com
SUMMARY:Adult Crafting: Mother's Day Cards
DESCRIPTION:Wednesday\, April 26 @ 1:00pm (Adults)—Mother’s Day Card Making: Create handmade Mother’s Day cards using\nour beautiful supply of rubber stamps and decorative paper. All supplies provided.
URL:https://mtangelpubliclibrary.com/event/adult-crafting-mothers-day-cards/
CATEGORIES:Adults
END:VEVENT
BEGIN:VEVENT
DTSTART;TZID=America/Los_Angeles:20230426T120000
DTEND;TZID=America/Los_Angeles:20230426T130000
DTSTAMP:20260420T023700
CREATED:20230414T225408Z
LAST-MODIFIED:20230414T225408Z
UID:10002388-1682510400-1682514000@mtangelpubliclibrary.com
SUMMARY:APPY Hour
DESCRIPTION:Wednesdays\, Noon-1:00: APPY Hour (All ages): Need help with your device? Drop in for some technical assistance\nfrom our friendly library staff. Or call 503.845.6401 to make an appointment for a one-on-one session.
URL:https://mtangelpubliclibrary.com/event/appy-hour-19/
CATEGORIES:All Ages
END:VEVENT
BEGIN:VEVENT
DTSTART;TZID=America/Los_Angeles:20230425T153000
DTEND;TZID=America/Los_Angeles:20230425T163000
DTSTAMP:20260420T023701
CREATED:20230414T225306Z
LAST-MODIFIED:20230414T225306Z
UID:10002387-1682436600-1682440200@mtangelpubliclibrary.com
SUMMARY:Stories & STEAM
DESCRIPTION:Tuesdays @ 3:30pm—Stories & STEAM (Ages 6-12): Listen to a story about the theme of the week\, join in a Science\,\nTechnology\, Engineering or Art project\, then make & enjoy a snack. April is Oregon Author month! \n4/25- Sylvia Finds a Way! by Stephanie Shaw is all about gardening. Come decorate potted plants and plant seedlings in\nhonor of Earth Day!
URL:https://mtangelpubliclibrary.com/event/stories-steam-14/
CATEGORIES:Ages 5-11,Ages 6-12
END:VEVENT
BEGIN:VEVENT
DTSTART;TZID=America/Los_Angeles:20230425T103000
DTEND;TZID=America/Los_Angeles:20230425T120000
DTSTAMP:20260420T023701
CREATED:20230414T225201Z
LAST-MODIFIED:20230414T225201Z
UID:10002386-1682418600-1682424000@mtangelpubliclibrary.com
SUMMARY:Community Helpers Bilingual Storytime & Indoor Playtime
DESCRIPTION:Tuesdays @ 10:30am—Community Helpers Family Storytime & Indoor Playtime (Ages 2-5 & family members)\n(Bilingual on April 25): Gather in person to participate in songs\, activities and stories with a special guest reader\, followed\nby Indoor Playtime (11:00-12:00). Come play with toys and spend time with friends. All toys provided.
URL:https://mtangelpubliclibrary.com/event/community-helpers-bilingual-storytime-indoor-playtime-2/
CATEGORIES:Families with Preschoolers
END:VEVENT
BEGIN:VEVENT
DTSTART;TZID=America/Los_Angeles:20230421T153000
DTEND;TZID=America/Los_Angeles:20230421T170000
DTSTAMP:20260420T023701
CREATED:20230414T225056Z
LAST-MODIFIED:20230414T225056Z
UID:10002234-1682091000-1682096400@mtangelpubliclibrary.com
SUMMARY:Friday Family Movie: WALL-E (PG)
DESCRIPTION:Friday\, April 21 @ 3:30pm—Friday Family Movie: WALL-E (PG) (All Ages): Enjoy this Oscar-winning animated\ndelight with the whole family on the big screen in honor of Earth Day! Free popcorn.
URL:https://mtangelpubliclibrary.com/event/friday-family-movie-wall-e-pg/
CATEGORIES:All Ages
END:VEVENT
BEGIN:VEVENT
DTSTART;TZID=America/Los_Angeles:20230420T163000
DTEND;TZID=America/Los_Angeles:20230420T170000
DTSTAMP:20260420T023701
CREATED:20230414T224925Z
LAST-MODIFIED:20230414T224925Z
UID:10002231-1682008200-1682010000@mtangelpubliclibrary.com
SUMMARY:Teen Advisory Board Meeting
DESCRIPTION:Thursday\, April 20 @ 4:30pm—Teen Advisory Board (Ages 12-18): Calling all teens to join our monthly Teen\nAdvisory Board meeting and help collaborate with the library on programs\, collections\, games & more. Snacks provided!
URL:https://mtangelpubliclibrary.com/event/teen-advisory-board-meeting/
CATEGORIES:Ages 12-18,Teens
END:VEVENT
BEGIN:VEVENT
DTSTART;TZID=America/Los_Angeles:20230419T120000
DTEND;TZID=America/Los_Angeles:20230419T130000
DTSTAMP:20260420T023701
CREATED:20230414T220932Z
LAST-MODIFIED:20230414T220932Z
UID:10002229-1681905600-1681909200@mtangelpubliclibrary.com
SUMMARY:APPY Hour
DESCRIPTION:Wednesdays\, Noon-1:00: APPY Hour (All ages): Need help with your device? Drop in for some technical assistance\nfrom our friendly library staff. Or call 503.845.6401 to make an appointment for a one-on-one session
URL:https://mtangelpubliclibrary.com/event/appy-hour-18/
CATEGORIES:All Ages
END:VEVENT
BEGIN:VEVENT
DTSTART;TZID=America/Los_Angeles:20230418T153000
DTEND;TZID=America/Los_Angeles:20230418T163000
DTSTAMP:20260420T023701
CREATED:20230317T015756Z
LAST-MODIFIED:20230317T015756Z
UID:10002227-1681831800-1681835400@mtangelpubliclibrary.com
SUMMARY:Stories & STEAM: Lily Blooms & Secret Messages
DESCRIPTION:Tuesdays @ 3:30pm—Stories & STEAM (Ages 5-11): Listen to a story about the theme of the week\, join in a Science\,\nTechnology\, Engineering or Art project\, then make & enjoy a snack. April is Oregon Author month! \n4/18– Try your hand at sleuthing with a science based activity involving secret messages! Enjoy a story from Oregon\nauthor Dawn Babb Prochovnic titled Lily Blooms.
URL:https://mtangelpubliclibrary.com/event/stories-steam-lily-blooms-secret-messages/
CATEGORIES:Ages 5-11
END:VEVENT
BEGIN:VEVENT
DTSTART;TZID=America/Los_Angeles:20230418T103000
DTEND;TZID=America/Los_Angeles:20230418T120000
DTSTAMP:20260420T023701
CREATED:20230317T015414Z
LAST-MODIFIED:20230317T015414Z
UID:10002225-1681813800-1681819200@mtangelpubliclibrary.com
SUMMARY:Community Helpers Storytime & Indoor Playtime
DESCRIPTION:Tuesdays @ 10:30am—Community Helpers Family Storytime & Indoor Playtime (Ages 2-5 & family members)\n(Bilingual on April 25): Gather in person to participate in songs\, activities and stories with a special guest reader\, followed\nby Indoor Playtime (11:00-12:00). Come play with toys and spend time with friends. All toys provided.
URL:https://mtangelpubliclibrary.com/event/community-helpers-storytime-indoor-playtime-20/
CATEGORIES:Families with Preschoolers
END:VEVENT
BEGIN:VEVENT
DTSTART;TZID=America/Los_Angeles:20230418T080000
DTEND;TZID=America/Los_Angeles:20230418T170000
DTSTAMP:20260420T023701
CREATED:20230419T014321Z
LAST-MODIFIED:20230419T014321Z
UID:10002417-1681804800-1681837200@mtangelpubliclibrary.com
SUMMARY:Community Art Swap
DESCRIPTION:Saturday\, May 13 @ 12:00-2:00pm—Community Art Swap (All ages): Need some new art and crafting supplies to prepare for our Community Art Show in June? Looking to finish up your spring cleaning? Join us at the library for a swap meet! Craft materials in good condition will be accepted – contact the library if you’re not sure if an item is suitable.
URL:https://mtangelpubliclibrary.com/event/community-art-swap/
CATEGORIES:All Ages
END:VEVENT
BEGIN:VEVENT
DTSTART;TZID=America/Los_Angeles:20230414T080000
DTEND;TZID=America/Los_Angeles:20230414T170000
DTSTAMP:20260420T023701
CREATED:20230414T225003Z
LAST-MODIFIED:20230414T225003Z
UID:10002232-1681459200-1681491600@mtangelpubliclibrary.com
SUMMARY:Teen Book Club
DESCRIPTION:Thursday\, April 20 @ 5:30pm—Teen Book Club (Ages 12-18): Join us for our first ever book club! This meeting we\nwill be discussing which book we would like to choose. Come share your favorite books/authors with us!
URL:https://mtangelpubliclibrary.com/event/teen-book-club/
CATEGORIES:Ages 12-18,Teens
END:VEVENT
BEGIN:VEVENT
DTSTART;TZID=America/Los_Angeles:20230413T173000
DTEND;TZID=America/Los_Angeles:20230413T183000
DTSTAMP:20260420T023701
CREATED:20230317T014441Z
LAST-MODIFIED:20230317T014441Z
UID:10002221-1681407000-1681410600@mtangelpubliclibrary.com
SUMMARY:Beaded Earrings
DESCRIPTION:Thursday\, April 13 @ 5:30pm— Beaded Earrings (Teens & Adults): Make your own earrings using our large\ncollection of beautiful beads. All supplies provided.
URL:https://mtangelpubliclibrary.com/event/beaded-earrings/
CATEGORIES:Adults,Senior Adults,Teens
END:VEVENT
BEGIN:VEVENT
DTSTART;TZID=America/Los_Angeles:20230412T120000
DTEND;TZID=America/Los_Angeles:20230412T130000
DTSTAMP:20260420T023701
CREATED:20230317T014241Z
LAST-MODIFIED:20230317T014241Z
UID:10002217-1681300800-1681304400@mtangelpubliclibrary.com
SUMMARY:APPY Hour: Tech Help
DESCRIPTION:Wednesdays\, Noon-1:00: APPY Hour (All ages): Need help with your device? Drop in for some technical assistance\nfrom our friendly library staff. Or call 503.845.6401 to make an appointment for a one-on-one session.
URL:https://mtangelpubliclibrary.com/event/appy-hour-tech-help-7/
CATEGORIES:All Ages
END:VEVENT
BEGIN:VEVENT
DTSTART;TZID=America/Los_Angeles:20230411T153000
DTEND;TZID=America/Los_Angeles:20230411T163000
DTSTAMP:20260420T023701
CREATED:20230317T014047Z
LAST-MODIFIED:20230317T014047Z
UID:10002385-1681227000-1681230600@mtangelpubliclibrary.com
SUMMARY:Stories & STEAM: The Little Guys
DESCRIPTION:Tuesdays @ 3:30pm—Stories & STEAM (Ages 6-12): Listen to a story about the theme of the week\, join in a Science\,\nTechnology\, Engineering or Art project\, then make & enjoy a snack. April is Oregon Author month! \n4/11- The Little Guys by Vera Brosgol- Come create your own “little guys” out of hazelnuts and your imagination!
URL:https://mtangelpubliclibrary.com/event/stories-steam-the-little-guys/
CATEGORIES:Ages 5-11
END:VEVENT
BEGIN:VEVENT
DTSTART;TZID=America/Los_Angeles:20230411T103000
DTEND;TZID=America/Los_Angeles:20230411T120000
DTSTAMP:20260420T023701
CREATED:20230317T013829Z
LAST-MODIFIED:20230317T013829Z
UID:10002384-1681209000-1681214400@mtangelpubliclibrary.com
SUMMARY:Community Helpers Storytime & Indoor Playtime
DESCRIPTION:Tuesdays @ 10:30am—Community Helpers Family Storytime & Indoor Playtime (Ages 2-5 & family members)\n(Bilingual on April 25): Gather in person to participate in songs\, activities and stories with a special guest reader\, followed\nby Indoor Playtime (11:00-12:00). Come play with toys and spend time with friends. All toys provided.
URL:https://mtangelpubliclibrary.com/event/community-helpers-storytime-indoor-playtime-19/
CATEGORIES:Families with Preschoolers
END:VEVENT
BEGIN:VEVENT
DTSTART;TZID=America/Los_Angeles:20230407T160000
DTEND;TZID=America/Los_Angeles:20230407T170000
DTSTAMP:20260420T023701
CREATED:20230317T013146Z
LAST-MODIFIED:20230317T013146Z
UID:10002383-1680883200-1680886800@mtangelpubliclibrary.com
SUMMARY:Teen Fruit Pizza & Blackout Poetry
DESCRIPTION:Friday\, April 7 @ 4:00—Teen Blackout Poetry and Fruit Pizza (Ages 12-18): Make your own “fruit pizza” out of\ncookies and fruit\, then participate in some fun blackout poetry to celebrate National Poetry Month!
URL:https://mtangelpubliclibrary.com/event/teen-fruit-pizza-blackout-poetry/
CATEGORIES:Ages 12-18,Teens
END:VEVENT
BEGIN:VEVENT
DTSTART;TZID=America/Los_Angeles:20230406T180000
DTEND;TZID=America/Los_Angeles:20230406T190000
DTSTAMP:20260420T023701
CREATED:20230317T013031Z
LAST-MODIFIED:20230317T013031Z
UID:10002381-1680804000-1680807600@mtangelpubliclibrary.com
SUMMARY:Paint Night!
DESCRIPTION:Thursday\, April 6 @ 6:00 — Paint Night (Adults & Teens with an adult): Come learn how to paint a spring scene\nbased on the Woodburn Tulip Festival! All supplies included. Pre-registration required. Call 503.845.6401
URL:https://mtangelpubliclibrary.com/event/paint-night-3/
CATEGORIES:Adults,Registration required,Senior Adults,Teens
END:VEVENT
BEGIN:VEVENT
DTSTART;TZID=America/Los_Angeles:20230406T130000
DTEND;TZID=America/Los_Angeles:20230406T140000
DTSTAMP:20260420T023701
CREATED:20230317T012928Z
LAST-MODIFIED:20230317T012928Z
UID:10002379-1680786000-1680789600@mtangelpubliclibrary.com
SUMMARY:Computer Class: Microsoft Word Graphics
DESCRIPTION:Thursday\, April 6 @ 1:00pm—MS Word Graphics. Gather in a small group to learn how to use tables\, borders\,\nbackgrounds\, and WordArt to make your documents pop. Owning a computer is not required. Space is limited so preregistration is required. Call 503.845.6401 to reserve your spot today!
URL:https://mtangelpubliclibrary.com/event/computer-class-microsoft-word-graphics/
CATEGORIES:Adults,Registration required,Senior Adults
END:VEVENT
BEGIN:VEVENT
DTSTART;TZID=America/Los_Angeles:20230405T120000
DTEND;TZID=America/Los_Angeles:20230405T130000
DTSTAMP:20260420T023701
CREATED:20230317T012806Z
LAST-MODIFIED:20230317T012806Z
UID:10002376-1680696000-1680699600@mtangelpubliclibrary.com
SUMMARY:APPY Hour (Tech Help)
DESCRIPTION:Wednesdays\, Noon-1:00: APPY Hour (All ages): Need help with your device? Drop in for some technical assistance\nfrom our friendly library staff. Or call 503.845.6401 to make an appointment for a one-on-one session.
URL:https://mtangelpubliclibrary.com/event/appy-hour-tech-help-6/
CATEGORIES:All Ages
END:VEVENT
BEGIN:VEVENT
DTSTART;TZID=America/Los_Angeles:20230404T153000
DTEND;TZID=America/Los_Angeles:20230404T163000
DTSTAMP:20260420T023701
CREATED:20230317T012726Z
LAST-MODIFIED:20230317T014147Z
UID:10002374-1680622200-1680625800@mtangelpubliclibrary.com
SUMMARY:Stories & STEAM: Oregon Reads Aloud (with Volcanoes)
DESCRIPTION:Tuesdays @ 3:30pm—Stories & STEAM (Ages 5-11): Listen to a story about the theme of the week\, join in a Science\,\nTechnology\, Engineering or Art project\, then make & enjoy a snack. April is Oregon Author month! \n4/04- Oregon Reads Aloud: Learn about Oregon’s volcanoes from Oregon authors/illustrators\, then make a lava-like craft!
URL:https://mtangelpubliclibrary.com/event/stories-steam-13/
CATEGORIES:Ages 5-11
END:VEVENT
BEGIN:VEVENT
DTSTART;TZID=America/Los_Angeles:20230404T103000
DTEND;TZID=America/Los_Angeles:20230404T120000
DTSTAMP:20260420T023701
CREATED:20230317T012623Z
LAST-MODIFIED:20230317T012623Z
UID:10002372-1680604200-1680609600@mtangelpubliclibrary.com
SUMMARY:Community Helpers Storytime & Indoor Playtime
DESCRIPTION:Tuesdays @ 10:30am—Community Helpers Family Storytime & Indoor Playtime (Ages 2-5 & family members)\n(Bilingual on April 25): Gather in person to participate in songs\, activities and stories with a special guest reader\, followed\nby Indoor Playtime (11:00-12:00). Come play with toys and spend time with friends. All toys provided.
URL:https://mtangelpubliclibrary.com/event/community-helpers-storytime-indoor-playtime-18/
CATEGORIES:Families with Preschoolers
END:VEVENT
BEGIN:VEVENT
DTSTART;TZID=America/Los_Angeles:20230331T170000
DTEND;TZID=America/Los_Angeles:20230331T190000
DTSTAMP:20260420T023701
CREATED:20230222T184645Z
LAST-MODIFIED:20230222T184645Z
UID:10002370-1680282000-1680289200@mtangelpubliclibrary.com
SUMMARY:Movie Night: Turning Red (PG)
DESCRIPTION:Friday\, March 31 @ 5:00pm—Family Movie Night! Let’s head back to the 2000’s with Disney’s Turning Red (PG)!\nPopcorn provided.
URL:https://mtangelpubliclibrary.com/event/movie-night-turning-red-pg/
CATEGORIES:All Ages
END:VEVENT
BEGIN:VEVENT
DTSTART;TZID=America/Los_Angeles:20230330T163000
DTEND;TZID=America/Los_Angeles:20230330T180000
DTSTAMP:20260420T023701
CREATED:20230222T184154Z
LAST-MODIFIED:20230222T184343Z
UID:10002364-1680193800-1680199200@mtangelpubliclibrary.com
SUMMARY:Teen Card Game Night
DESCRIPTION:Thursday\, March 30 @ 4:30—Teen card game night! (Ages 12-18): Come enjoy a variety of your favorite card games & snacks!
URL:https://mtangelpubliclibrary.com/event/teen-card-game-night/
CATEGORIES:Ages 12-18
END:VEVENT
BEGIN:VEVENT
DTSTART;TZID=America/Los_Angeles:20230330T130000
DTEND;TZID=America/Los_Angeles:20230330T150000
DTSTAMP:20260420T023701
CREATED:20230222T184054Z
LAST-MODIFIED:20230222T184054Z
UID:10002363-1680181200-1680188400@mtangelpubliclibrary.com
SUMMARY:Spring Break Board Games (Drop-in)
DESCRIPTION:Thursday\, March 30 @ 1:00-3:00pm (drop-in)—Spring Break Board Games (Ages 5-12): \nWe’ll have a selection of board games for kids to drop in and enjoy some fun during spring break!
URL:https://mtangelpubliclibrary.com/event/spring-break-board-games-drop-in/
CATEGORIES:Ages 5-12
END:VEVENT
BEGIN:VEVENT
DTSTART;TZID=America/Los_Angeles:20230329T150000
DTEND;TZID=America/Los_Angeles:20230329T163000
DTSTAMP:20260420T023701
CREATED:20230222T183930Z
LAST-MODIFIED:20230222T183930Z
UID:10002362-1680102000-1680107400@mtangelpubliclibrary.com
SUMMARY:Geek Crafts: Perler Bead Creations
DESCRIPTION:Wednesday\, March 29 @ 3:00pm—Geek Crafts (Teen & Adults): Come make a perler bead magnet using templates of your favorite characters from Pokémon\, Disney\, comic books\, anime\, or video games! All supplies provided.
URL:https://mtangelpubliclibrary.com/event/geek-crafts-perler-bead-creations/
CATEGORIES:Adults,Senior Adults,Teens,Tweens
END:VEVENT
BEGIN:VEVENT
DTSTART;TZID=America/Los_Angeles:20230329T120000
DTEND;TZID=America/Los_Angeles:20230329T130000
DTSTAMP:20260420T023701
CREATED:20230222T183532Z
LAST-MODIFIED:20230222T183532Z
UID:10002361-1680091200-1680094800@mtangelpubliclibrary.com
SUMMARY:APPY Hour: Tech Help
DESCRIPTION:Wednesdays\, Noon-1:00: APPY Hour (All ages): Need help with your device? Drop in for some technical assistance from our friendly library staff. Or call 503.845.6401 to make an appointment for a one-on-one session.
URL:https://mtangelpubliclibrary.com/event/appy-hour-tech-help-5/
CATEGORIES:All Ages
END:VEVENT
BEGIN:VEVENT
DTSTART;TZID=America/Los_Angeles:20230328T153000
DTEND;TZID=America/Los_Angeles:20230328T163000
DTSTAMP:20260420T023701
CREATED:20230222T183209Z
LAST-MODIFIED:20230222T183209Z
UID:10002359-1680017400-1680021000@mtangelpubliclibrary.com
SUMMARY:Stories & Steam: The Little Red Hen
DESCRIPTION:Tuesdays @ 3:30pm—Stories & STEAM (Ages 6-12):  \nMarch is “classics” month. Listen to a classic story\, join in a Science\, Technology\, Engineering or Art project\, then make and enjoy a snack. \nMarch 28: The Little Red Hen by Paul Galdone and make Origami chickens to take home!
URL:https://mtangelpubliclibrary.com/event/stories-steam-the-little-red-hen/
CATEGORIES:Ages 6-12
END:VEVENT
BEGIN:VEVENT
DTSTART;TZID=America/Los_Angeles:20230328T103000
DTEND;TZID=America/Los_Angeles:20230328T120000
DTSTAMP:20260420T023701
CREATED:20230222T183029Z
LAST-MODIFIED:20230222T183029Z
UID:10002358-1679999400-1680004800@mtangelpubliclibrary.com
SUMMARY:Community Helpers Bilingual Storytime & Indoor Playtime
DESCRIPTION:Tuesdays @ 10:30am—Community Helpers Family Storytime & Indoor Playtime (Ages 2-5 & family members): \nGather to participate in songs\, activities and stories with a special guest reader (bilingual storytime on March 28) followed by Indoor Playtime (11:00-12:00). Come play with toys and spend time with friends. All toys provided.
URL:https://mtangelpubliclibrary.com/event/community-helpers-bilingual-storytime-indoor-playtime/
CATEGORIES:Families with Preschoolers
END:VEVENT
BEGIN:VEVENT
DTSTART;TZID=America/Los_Angeles:20230324T120000
DTEND;TZID=America/Los_Angeles:20230324T163000
DTSTAMP:20260420T023701
CREATED:20230222T182908Z
LAST-MODIFIED:20230222T182908Z
UID:10002357-1679659200-1679675400@mtangelpubliclibrary.com
SUMMARY:Virtual Reality
DESCRIPTION:Friday\, March 24 @ 12:00-4:30pm—Virtual Reality (Ages 13+):  \nBook your 30-minute slot to experience one of our virtual reality programs. Signed release must be on record. Call 503.845.6401 to reserve your spot.
URL:https://mtangelpubliclibrary.com/event/virtual-reality-8/
CATEGORIES:Adults,Ages 13+,Registration required,Senior Adults,Teens
END:VEVENT
BEGIN:VEVENT
DTSTART;TZID=America/Los_Angeles:20230323T173000
DTEND;TZID=America/Los_Angeles:20230323T183000
DTSTAMP:20260420T023701
CREATED:20230222T182726Z
LAST-MODIFIED:20230222T182726Z
UID:10002356-1679592600-1679596200@mtangelpubliclibrary.com
SUMMARY:Spring Mini-Wreath Making
DESCRIPTION:Thursday\, March 23 @ 5:30pm— Spring Mini-Wreath Making (Teens & Adults): \nPrepare for the Spring Equinox by making a cottage-core mini-wreath. All supplies provided.
URL:https://mtangelpubliclibrary.com/event/spring-mini-wreath-making/
CATEGORIES:Adults,Senior Adults,Teens
END:VEVENT
END:VCALENDAR