BEGIN:VCALENDAR
VERSION:2.0
PRODID:-//Mt. Angel Public Library - ECPv6.15.20//NONSGML v1.0//EN
CALSCALE:GREGORIAN
METHOD:PUBLISH
X-WR-CALNAME:Mt. Angel Public Library
X-ORIGINAL-URL:https://mtangelpubliclibrary.com
X-WR-CALDESC:Events for Mt. Angel Public Library
REFRESH-INTERVAL;VALUE=DURATION:PT1H
X-Robots-Tag:noindex
X-PUBLISHED-TTL:PT1H
BEGIN:VTIMEZONE
TZID:America/Los_Angeles
BEGIN:DAYLIGHT
TZOFFSETFROM:-0800
TZOFFSETTO:-0700
TZNAME:PDT
DTSTART:20250309T100000
END:DAYLIGHT
BEGIN:STANDARD
TZOFFSETFROM:-0700
TZOFFSETTO:-0800
TZNAME:PST
DTSTART:20251102T090000
END:STANDARD
BEGIN:DAYLIGHT
TZOFFSETFROM:-0800
TZOFFSETTO:-0700
TZNAME:PDT
DTSTART:20260308T100000
END:DAYLIGHT
BEGIN:STANDARD
TZOFFSETFROM:-0700
TZOFFSETTO:-0800
TZNAME:PST
DTSTART:20261101T090000
END:STANDARD
BEGIN:DAYLIGHT
TZOFFSETFROM:-0800
TZOFFSETTO:-0700
TZNAME:PDT
DTSTART:20270314T100000
END:DAYLIGHT
BEGIN:STANDARD
TZOFFSETFROM:-0700
TZOFFSETTO:-0800
TZNAME:PST
DTSTART:20271107T090000
END:STANDARD
END:VTIMEZONE
BEGIN:VEVENT
DTSTART;TZID=America/Los_Angeles:20260319T180000
DTEND;TZID=America/Los_Angeles:20260319T190000
DTSTAMP:20260422T094341
CREATED:20260216T184621Z
LAST-MODIFIED:20260216T184621Z
UID:10007598-1773943200-1773946800@mtangelpubliclibrary.com
SUMMARY:Read'n'Chat
DESCRIPTION:Read and discuss poems about Spring and growth (Provided)\, then discuss what you’re currently reading over snacks! Meets monthly every third Thursday.
URL:https://mtangelpubliclibrary.com/event/readnchat/
CATEGORIES:Adults
END:VEVENT
BEGIN:VEVENT
DTSTART;TZID=America/Los_Angeles:20260319T190000
DTEND;TZID=America/Los_Angeles:20260319T203000
DTSTAMP:20260422T094341
CREATED:20260216T184759Z
LAST-MODIFIED:20260216T184759Z
UID:10007599-1773946800-1773952200@mtangelpubliclibrary.com
SUMMARY:Trivia @ Pub 210 East
DESCRIPTION:Calling all trivia buffs. Come to Trivia Night at Pub 210 East (210 East Charles St.) Play solo or form a team of up to 5 adults and put that collective brain to work for fun prizes! Families welcome.
URL:https://mtangelpubliclibrary.com/event/trivia-pub-210-east-5/
LOCATION:pub 210 east\, 210 East Charles St.\, Mt. Angel\, OR\, 97362\, United States
CATEGORIES:All Ages
END:VEVENT
END:VCALENDAR