BEGIN:VCALENDAR
VERSION:2.0
PRODID:-//Mt. Angel Public Library - ECPv6.15.20//NONSGML v1.0//EN
CALSCALE:GREGORIAN
METHOD:PUBLISH
X-WR-CALNAME:Mt. Angel Public Library
X-ORIGINAL-URL:https://mtangelpubliclibrary.com
X-WR-CALDESC:Events for Mt. Angel Public Library
REFRESH-INTERVAL;VALUE=DURATION:PT1H
X-Robots-Tag:noindex
X-PUBLISHED-TTL:PT1H
BEGIN:VTIMEZONE
TZID:America/Los_Angeles
BEGIN:DAYLIGHT
TZOFFSETFROM:-0800
TZOFFSETTO:-0700
TZNAME:PDT
DTSTART:20230312T100000
END:DAYLIGHT
BEGIN:STANDARD
TZOFFSETFROM:-0700
TZOFFSETTO:-0800
TZNAME:PST
DTSTART:20231105T090000
END:STANDARD
BEGIN:DAYLIGHT
TZOFFSETFROM:-0800
TZOFFSETTO:-0700
TZNAME:PDT
DTSTART:20240310T100000
END:DAYLIGHT
BEGIN:STANDARD
TZOFFSETFROM:-0700
TZOFFSETTO:-0800
TZNAME:PST
DTSTART:20241103T090000
END:STANDARD
BEGIN:DAYLIGHT
TZOFFSETFROM:-0800
TZOFFSETTO:-0700
TZNAME:PDT
DTSTART:20250309T100000
END:DAYLIGHT
BEGIN:STANDARD
TZOFFSETFROM:-0700
TZOFFSETTO:-0800
TZNAME:PST
DTSTART:20251102T090000
END:STANDARD
END:VTIMEZONE
BEGIN:VEVENT
DTSTART;TZID=America/Los_Angeles:20240723T120000
DTEND;TZID=America/Los_Angeles:20240723T130000
DTSTAMP:20260422T094837
CREATED:20240216T011510Z
LAST-MODIFIED:20241116T003642Z
UID:10002781-1721736000-1721739600@mtangelpubliclibrary.com
SUMMARY:APPY Hour
DESCRIPTION:Tuesdays\, Noon-1:00: APPY Hour (All ages): Need help with your device? Drop in for some technical assistance from our friendly library staff. Or call 971-370-5040 to make an appointment for a one-on-one session.
URL:https://mtangelpubliclibrary.com/event/appy-hour-45/2024-07-23/
END:VEVENT
BEGIN:VEVENT
DTSTART;TZID=America/Los_Angeles:20240723T160000
DTEND;TZID=America/Los_Angeles:20240723T170000
DTSTAMP:20260422T094837
CREATED:20240619T215829Z
LAST-MODIFIED:20241024T194722Z
UID:10001863-1721750400-1721754000@mtangelpubliclibrary.com
SUMMARY:Stories and STEAM
DESCRIPTION:Stories & STEAM \nListen to a story about the theme of the month\, take part in a Science\, Technology\, Engineering\, or Art project\, and enjoy a snack afterward. \nTuesdays\, 4:00pm\nAges 5-12
URL:https://mtangelpubliclibrary.com/event/stories-and-steam-7-3/2024-07-23/
CATEGORIES:Ages 5-11
END:VEVENT
BEGIN:VEVENT
DTSTART;TZID=America/Los_Angeles:20240723T160000
DTEND;TZID=America/Los_Angeles:20240723T170000
DTSTAMP:20260422T094837
CREATED:20240619T221239Z
LAST-MODIFIED:20240619T221239Z
UID:10004423-1721750400-1721754000@mtangelpubliclibrary.com
SUMMARY:Special Guests: Jeff Evans Magic
DESCRIPTION:Special Guests: Jeff Evans Magic \nJoin us for a spellbinding performance by Jeff Evans\, a master magician whose shows are filled with incredible illusions\, laughter\, and lots of audience interaction.  \nTuesday\, July 23\, 4:00pm\nAll Ages
URL:https://mtangelpubliclibrary.com/event/special-guests-jeff-evans-magic/
END:VEVENT
END:VCALENDAR