BEGIN:VCALENDAR
VERSION:2.0
PRODID:-//Mt. Angel Public Library - ECPv6.15.20//NONSGML v1.0//EN
CALSCALE:GREGORIAN
METHOD:PUBLISH
X-WR-CALNAME:Mt. Angel Public Library
X-ORIGINAL-URL:https://mtangelpubliclibrary.com
X-WR-CALDESC:Events for Mt. Angel Public Library
REFRESH-INTERVAL;VALUE=DURATION:PT1H
X-Robots-Tag:noindex
X-PUBLISHED-TTL:PT1H
BEGIN:VTIMEZONE
TZID:America/Los_Angeles
BEGIN:DAYLIGHT
TZOFFSETFROM:-0800
TZOFFSETTO:-0700
TZNAME:PDT
DTSTART:20230312T100000
END:DAYLIGHT
BEGIN:STANDARD
TZOFFSETFROM:-0700
TZOFFSETTO:-0800
TZNAME:PST
DTSTART:20231105T090000
END:STANDARD
BEGIN:DAYLIGHT
TZOFFSETFROM:-0800
TZOFFSETTO:-0700
TZNAME:PDT
DTSTART:20240310T100000
END:DAYLIGHT
BEGIN:STANDARD
TZOFFSETFROM:-0700
TZOFFSETTO:-0800
TZNAME:PST
DTSTART:20241103T090000
END:STANDARD
BEGIN:DAYLIGHT
TZOFFSETFROM:-0800
TZOFFSETTO:-0700
TZNAME:PDT
DTSTART:20250309T100000
END:DAYLIGHT
BEGIN:STANDARD
TZOFFSETFROM:-0700
TZOFFSETTO:-0800
TZNAME:PST
DTSTART:20251102T090000
END:STANDARD
END:VTIMEZONE
BEGIN:VEVENT
DTSTART;TZID=America/Los_Angeles:20240718T130000
DTEND;TZID=America/Los_Angeles:20240718T140000
DTSTAMP:20260421T012729
CREATED:20240626T235248Z
LAST-MODIFIED:20240717T162420Z
UID:10004454-1721307600-1721311200@mtangelpubliclibrary.com
SUMMARY:Craft Workshop: Reuse\, Recycle\, Grow!
DESCRIPTION:Craft Workshop: Reuse\, Recycle\, Grow! \nReuse\, Recycle\, Grow! Find new ways to reuse while growing something at the same time.\nTransform old containers into beautiful planters with expert guidance from Vicki Brandt\, the “Plant Lady”! Join us for a fun workshop where you’ll learn about succulents\, soil\, and the art of recycling. Bring your old containers and take home a new plant creation. Perfect for all ages and a great way to learn about sustainability. Don’t miss out on this creative and eco-friendly event.\n \nAll Ages
URL:https://mtangelpubliclibrary.com/event/craft-workshop-reuse-recycle-grow/
END:VEVENT
END:VCALENDAR